BEGIN:VCALENDAR
VERSION:2.0
PRODID:-//Universidad Finis Terrae - ECPv6.15.17.1//NONSGML v1.0//EN
CALSCALE:GREGORIAN
METHOD:PUBLISH
X-ORIGINAL-URL:https://finis.cl
X-WR-CALDESC:Eventos para Universidad Finis Terrae
REFRESH-INTERVAL;VALUE=DURATION:PT1H
X-Robots-Tag:noindex
X-PUBLISHED-TTL:PT1H
BEGIN:VTIMEZONE
TZID:America/Santiago
BEGIN:STANDARD
TZOFFSETFROM:-0300
TZOFFSETTO:-0400
TZNAME:-04
DTSTART:20220403T030000
END:STANDARD
BEGIN:DAYLIGHT
TZOFFSETFROM:-0400
TZOFFSETTO:-0300
TZNAME:-03
DTSTART:20220911T040000
END:DAYLIGHT
BEGIN:STANDARD
TZOFFSETFROM:-0300
TZOFFSETTO:-0400
TZNAME:-04
DTSTART:20230402T030000
END:STANDARD
BEGIN:DAYLIGHT
TZOFFSETFROM:-0400
TZOFFSETTO:-0300
TZNAME:-03
DTSTART:20230903T040000
END:DAYLIGHT
BEGIN:STANDARD
TZOFFSETFROM:-0300
TZOFFSETTO:-0400
TZNAME:-04
DTSTART:20240407T030000
END:STANDARD
BEGIN:DAYLIGHT
TZOFFSETFROM:-0400
TZOFFSETTO:-0300
TZNAME:-03
DTSTART:20240908T040000
END:DAYLIGHT
END:VTIMEZONE
BEGIN:VEVENT
DTSTART;TZID=America/Santiago:20230823T163000
DTEND;TZID=America/Santiago:20230823T235900
DTSTAMP:20260424T230900
CREATED:20250715T155139Z
LAST-MODIFIED:20250715T155139Z
UID:40216-1692808200-1692835140@finis.cl
SUMMARY:Desafío y oportunidades de la inclusión en contextos educativos
DESCRIPTION:EXPONE:  \nMiriam Cortés Quezada: Profesora de Educadora Diferencial UMCE. Mg. Neurociencias de la Educación U Mayor\, máster en Trastornos del Espectro Autista. Diplomada en Trastornos del Espectro Autista. Diplomada en Inclusión Social y Educativa de personas con la Condición del Espectro Autista \nInscripciones acá: programa_vcm_egresados@uft.cl
URL:https://finis.cl/agenda/desafio-y-oportunidades-de-la-inclusion-en-contextos-educativos/
CATEGORIES:Destacados Universidad,Educación Básica,Facultad de Educación, Psicología y Familia
END:VEVENT
END:VCALENDAR