BEGIN:VCALENDAR
VERSION:2.0
PRODID:-//Universidad Finis Terrae - ECPv6.15.17.1//NONSGML v1.0//EN
CALSCALE:GREGORIAN
METHOD:PUBLISH
X-WR-CALNAME:Universidad Finis Terrae
X-ORIGINAL-URL:https://finis.cl
X-WR-CALDESC:Eventos para Universidad Finis Terrae
REFRESH-INTERVAL;VALUE=DURATION:PT1H
X-Robots-Tag:noindex
X-PUBLISHED-TTL:PT1H
BEGIN:VTIMEZONE
TZID:America/Santiago
BEGIN:STANDARD
TZOFFSETFROM:-0300
TZOFFSETTO:-0400
TZNAME:-04
DTSTART:20240407T030000
END:STANDARD
BEGIN:DAYLIGHT
TZOFFSETFROM:-0400
TZOFFSETTO:-0300
TZNAME:-03
DTSTART:20240908T040000
END:DAYLIGHT
BEGIN:STANDARD
TZOFFSETFROM:-0300
TZOFFSETTO:-0400
TZNAME:-04
DTSTART:20250406T030000
END:STANDARD
BEGIN:DAYLIGHT
TZOFFSETFROM:-0400
TZOFFSETTO:-0300
TZNAME:-03
DTSTART:20250907T040000
END:DAYLIGHT
BEGIN:STANDARD
TZOFFSETFROM:-0300
TZOFFSETTO:-0400
TZNAME:-04
DTSTART:20260405T030000
END:STANDARD
BEGIN:DAYLIGHT
TZOFFSETFROM:-0400
TZOFFSETTO:-0300
TZNAME:-03
DTSTART:20260906T040000
END:DAYLIGHT
END:VTIMEZONE
BEGIN:VEVENT
DTSTART;TZID=America/Santiago:20250409T183000
DTEND;TZID=America/Santiago:20250409T235900
DTSTAMP:20260423T154801
CREATED:20250715T153858Z
LAST-MODIFIED:20250715T153858Z
UID:39514-1744223400-1744243140@finis.cl
SUMMARY:Lanzamiento del libro: “La personalidad en tus manos”
DESCRIPTION:La Escuela de Psicología y Ediciones Universidad Finis Terrae le invitan al lanzamiento del libro “La personalidad en tus manos”\, de los autores Juan Pablo Rojas Saffie y Nicolás García Matte. \nPresentará el libro Klaus Droste\, decano de la Facultad de Psicología y Humanidades de la Universidad San Sebastián\, y Cristián Rodríguez\, doctor en Psicología Científica (U. de California\, Irvine) y académico de la Universidad de Los Andes. \nAutores: \nJuan Pablo Rojas Saffie\, académico investigador de la Escuela de Psicología de a Universidad Finis Terrae \nNicolás García Matte\, académico investigador de la Escuela de Psicología de a Universidad Finis Terrae \nPresenta:  \nCristián Rodríguez\, doctor en psicología y académico de la Universidad de Los Andes. \nKlaus Droste\, decano de la Facultad de Psicología y Humanidades de la Universidad San Sebastián. \nOrganiza: \nEscuela de Psicología\, Universidad Finis Terrae y Ediciones Universidad Finis Terrae \nInscripciones ACÁ \nContacto: ngarcia@uft.cl
URL:https://finis.cl/agenda/lanzamiento-del-libro-la-personalidad-en-tus-manos/
CATEGORIES:Ediciones Universidad Finis Terrae,Facultad de Educación, Psicología y Familia,Psicología
END:VEVENT
BEGIN:VEVENT
DTSTART;TZID=America/Santiago:20250410T151000
DTEND;TZID=America/Santiago:20250410T235900
DTSTAMP:20260423T154801
CREATED:20250715T153807Z
LAST-MODIFIED:20250715T153807Z
UID:39488-1744297800-1744329540@finis.cl
SUMMARY:Charla: “Conversemos sobre el nuevo Sistema Nacional de Cuidados”
DESCRIPTION:La subsecretaria Francisca Gallegos Jara visitará la universidad y dará una charla sobre el nuevo Sistema Nacional de Cuidados a estudiantes de carreras afines. Es una instancia de diálogo con la autoridad atendiendo la necesidad que tendrán los futuros profesionales relacionados a temáticas de cuidados. \nEXPONE: \nFrancisca Gallegos J.: Subsecretaria de Servicios Sociales \nActividad dirigida a estudiantes de la Facultad de Educación\, Psicología y Familia\, y de la carrera de Enfermería.
URL:https://finis.cl/agenda/charla-conversemos-sobre-el-nuevo-sistema-nacional-de-cuidados/
CATEGORIES:Ciencias de la Familia,Facultad de Educación, Psicología y Familia
END:VEVENT
BEGIN:VEVENT
DTSTART;TZID=America/Santiago:20250424T150000
DTEND;TZID=America/Santiago:20250424T235900
DTSTAMP:20260423T154801
CREATED:20250715T153758Z
LAST-MODIFIED:20250715T153758Z
UID:39470-1745506800-1745539140@finis.cl
SUMMARY:Seminario de cierre de Proyecto CNA: “Inserción laboral post egreso de la educación superior de estudiantes de pedagogía básica: una comparación entre instituciones de alta y baja acreditación”
DESCRIPTION:El Centro de Investigación en Psicología\, Educación y Familia (CIPEF) invita a participar a toda la comunidad de la Universidad Finis Terrae del Seminario de Cierre del Proyecto CNA: “Inserción laboral post egreso de la educación superior de estudiantes de pedagogía básica: una comparación entre instituciones de alta y baja acreditación” (CON2023140)\, proyecto financiado por la Comisión Nacional de Acreditación (CNA-Chile) en su VII Convocatoria de Investigación 2023. \nEste proyecto es liderado por el equipo de investigación conformado por Carolina Álvarez\, Sebastián Escobar e Ismael Tabilo\, académicos de nuestra facultad. Además\, contaremos con la participación de Lilia Concha\, Directora del CPEIP\, y Andrea Ruffineli\, académica de la Pontificia Universidad Católica de Chile\, quienes comentarán los hallazgos del estudio. \nEXPONEN: \nCarolina Álvarez: Doctora en Educación\, Universidad Alberto Hurtado. Académica de la Escuela de Educación e Investigador CIPEF\, Universidad Finis Terrae. \nSebastián Escobar: Magíster en Ciencias Sociales\, Universidad de Chile. Académico de la Escuela de Educación e Investigador CIPEF\, Universidad Finis Terrae. \nIsmael Tabilo: Magíster en Ciencias Sociales mención sociología por la Escuela de Altos Estudios en Ciencias Sociales de Paris (EHESS). Académico de la Escuela de Ciencias de la Familia e Investigador CIPEF\, Universidad Finis Terrae. \nINSCRIPCIONES ACÁ
URL:https://finis.cl/agenda/seminario-de-cierre-de-proyecto-cna-insercion-laboral-post-egreso-de-la-educacion-superior-de-estudiantes-de-pedagogia-basica-una-comparacion-entre-instituciones-de-alta-y-baja-acreditacion/
CATEGORIES:CIPEF,Facultad de Educación, Psicología y Familia
END:VEVENT
END:VCALENDAR