BEGIN:VCALENDAR
VERSION:2.0
PRODID:-//Universidad Finis Terrae - ECPv6.15.17.1//NONSGML v1.0//EN
CALSCALE:GREGORIAN
METHOD:PUBLISH
X-WR-CALNAME:Universidad Finis Terrae
X-ORIGINAL-URL:https://finis.cl
X-WR-CALDESC:Eventos para Universidad Finis Terrae
REFRESH-INTERVAL;VALUE=DURATION:PT1H
X-Robots-Tag:noindex
X-PUBLISHED-TTL:PT1H
BEGIN:VTIMEZONE
TZID:America/Santiago
BEGIN:STANDARD
TZOFFSETFROM:-0300
TZOFFSETTO:-0400
TZNAME:-04
DTSTART:20230402T030000
END:STANDARD
BEGIN:DAYLIGHT
TZOFFSETFROM:-0400
TZOFFSETTO:-0300
TZNAME:-03
DTSTART:20230903T040000
END:DAYLIGHT
BEGIN:STANDARD
TZOFFSETFROM:-0300
TZOFFSETTO:-0400
TZNAME:-04
DTSTART:20240407T030000
END:STANDARD
BEGIN:DAYLIGHT
TZOFFSETFROM:-0400
TZOFFSETTO:-0300
TZNAME:-03
DTSTART:20240908T040000
END:DAYLIGHT
BEGIN:STANDARD
TZOFFSETFROM:-0300
TZOFFSETTO:-0400
TZNAME:-04
DTSTART:20250406T030000
END:STANDARD
BEGIN:DAYLIGHT
TZOFFSETFROM:-0400
TZOFFSETTO:-0300
TZNAME:-03
DTSTART:20250907T040000
END:DAYLIGHT
END:VTIMEZONE
BEGIN:VEVENT
DTSTART;TZID=America/Santiago:20241107T163000
DTEND;TZID=America/Santiago:20241107T235900
DTSTAMP:20260423T235619
CREATED:20250715T154056Z
LAST-MODIFIED:20250715T154056Z
UID:39612-1730997000-1731023940@finis.cl
SUMMARY:Conversatorio: “Lo común y lo diverso: hacia un enfoque convivencial de la educación”
DESCRIPTION:En el conversatorio se discutirán los enfoques actuales de la gestión de la diversidad (multicultural\, intercultural\, liberal\, cohesión social) y su relación con las desigualdades\, especialmente entre profesores y familias y entre padres diversos y desiguales. \nFONDECYT 1231667: “La construcción social en Chile de la convivencia y violencia escolar post vuelta a la educación presencial.\nUn estudio de teorías subjetivas colectivas”\, IR Pablo Castro\, Universidad de la Serena\, Co-investigadora Verónica Gubbins\, Universidad Finis Terrae. \nEXPONE: \nJordi Collet Sabé: Sociólogo\, Educador Social. Académico de Sociología de la educación en la Universidad de Vic – UCC\, Ex Vicerrector de investigación de la Universidad de Vic. \nVerónica Gubbins: Doctora en Ciencias de la Educación\, Pontificia Universidad Católica de Chile. Magister en Educación\, Pontificia Universidad Católica de Chile. \nORGANIZA: Postgrados de la Facultad de Educación\, Psicología y Familia \nINSCRIPCIONES ACÁ.
URL:https://finis.cl/agenda/conversatorio-lo-comun-y-lo-diverso-hacia-un-enfoque-convivencial-de-la-educacion/
CATEGORIES:Facultad de Educación, Psicología y Familia
END:VEVENT
END:VCALENDAR