BEGIN:VCALENDAR
VERSION:2.0
PRODID:-//Universidad Finis Terrae - ECPv6.15.17.1//NONSGML v1.0//EN
CALSCALE:GREGORIAN
METHOD:PUBLISH
X-ORIGINAL-URL:https://finis.cl
X-WR-CALDESC:Eventos para Universidad Finis Terrae
REFRESH-INTERVAL;VALUE=DURATION:PT1H
X-Robots-Tag:noindex
X-PUBLISHED-TTL:PT1H
BEGIN:VTIMEZONE
TZID:America/Santiago
BEGIN:STANDARD
TZOFFSETFROM:-0300
TZOFFSETTO:-0400
TZNAME:-04
DTSTART:20230402T030000
END:STANDARD
BEGIN:DAYLIGHT
TZOFFSETFROM:-0400
TZOFFSETTO:-0300
TZNAME:-03
DTSTART:20230903T040000
END:DAYLIGHT
BEGIN:STANDARD
TZOFFSETFROM:-0300
TZOFFSETTO:-0400
TZNAME:-04
DTSTART:20240407T030000
END:STANDARD
BEGIN:DAYLIGHT
TZOFFSETFROM:-0400
TZOFFSETTO:-0300
TZNAME:-03
DTSTART:20240908T040000
END:DAYLIGHT
BEGIN:STANDARD
TZOFFSETFROM:-0300
TZOFFSETTO:-0400
TZNAME:-04
DTSTART:20250406T030000
END:STANDARD
BEGIN:DAYLIGHT
TZOFFSETFROM:-0400
TZOFFSETTO:-0300
TZNAME:-03
DTSTART:20250907T040000
END:DAYLIGHT
END:VTIMEZONE
BEGIN:VEVENT
DTSTART;TZID=America/Santiago:20240615T103000
DTEND;TZID=America/Santiago:20240615T235900
DTSTAMP:20260424T064013
CREATED:20250715T154529Z
LAST-MODIFIED:20250715T154529Z
UID:39858-1718447400-1718495940@finis.cl
SUMMARY:Puertas abiertas: Pedagogía en Educación Parvularia Universidad Finis Terrae
DESCRIPTION:La carrera de Pedagogía en Educación Parvularia abre sus puertas\, ofreciendo una clase abierta para conocer desde un aula universitaria\, el rol del Educador de Párvulos\, te invitamos a vivenciar esta experiencia. \nOrganiza: Pedagogía en Educación Parvularia\, Facultad de Educación Psicología y familia. \nINSCRIPCIONES ACÁ.
URL:https://finis.cl/agenda/puertas-abiertas-pedagogia-en-educacion-parvularia-universidad-finis-terrae/
CATEGORIES:Educación Parvularia,Facultad de Educación, Psicología y Familia
END:VEVENT
BEGIN:VEVENT
DTSTART;TZID=America/Santiago:20240619T123000
DTEND;TZID=America/Santiago:20240619T235900
DTSTAMP:20260424T064013
CREATED:20250715T154504Z
LAST-MODIFIED:20260331T193633Z
UID:39839-1718800200-1718841540@finis.cl
SUMMARY:Ciclo de Estudios sobre Familia: “¿Dónde están los niños? La crisis de la reproducción en la sociedad chilena”
DESCRIPTION:El Centro de Investigación en Psicología\, Educación y Familia (CIPEF) y la Escuela de Ciencias de la Familia invita a académicos y estudiantes a participar del Ciclo de Estudios sobre Familia: “¿Dónde están los niños? La crisis de la reproducción en la sociedad chilena”\, que tendrá como exponente a la Dra. Martina Yopo\, Doctora en Sociología de la Universidad de Cambridge\, Reino Unido. \nLos Ciclos de Estudios sobre Familia buscan presentan estudios académicos realizados en otras instituciones. El propósito es dar a conocer novedosos enfoques de estudio y metodologías de investigación\, ampliando así el panorama desde la disciplina del académico/a o investigador/a expositor. \nEXPONE: \nDra. Martina Yopo\, Socióloga (UAH) y Doctora en Sociología de la Universidad de Cambridge\, Reino Unido. Actualmente se desempeña como profesora asistente de la Escuela de Sociología de la Universidad Diego Portales y directora del Observatorio de Desigualdades de la misma universidad. Es investigadora responsable del Proyecto Fondecyt N°11240100 “(In)Fertilidades: Decisiones reproductivas de parejas jóvenes sin hijos” (2024-2026). Sus investigaciones abordan las transformaciones contemporáneas de la reproducción desde una perspectiva de género\, explorando fenómenos como el embarazo\, la postergación de la maternidad\, la preservación de la fertilidad\, la infertilidad\, la parentalidad y las experiencias de la (in)justicia reproductiva. \nINSCRIPCIONES ACÁ.
URL:https://finis.cl/agenda/ciclo-de-estudios-sobre-familia-donde-estan-los-ninos-la-crisis-de-la-reproduccion-en-la-sociedad-chilena/
CATEGORIES:Ciclos,CIPEF,Facultad de Educación, Psicología y Familia
END:VEVENT
BEGIN:VEVENT
DTSTART;TZID=America/Santiago:20240625T163000
DTEND;TZID=America/Santiago:20240625T235900
DTSTAMP:20260424T064013
CREATED:20250715T154451Z
LAST-MODIFIED:20250715T154451Z
UID:39815-1719333000-1719359940@finis.cl
SUMMARY:Trazando el camino: “Planificación y evaluación como herramientas para potenciar el aprendizaje”
DESCRIPTION:Charla y taller que ofrecerá herramientas para formular diseños de planificaciones coherentes al proceso y a los intereses reales de los niños y niñas\, considerando el contexto del centro educativo. Su importancia y repercusión en los procesos de mejora en la enseñanza y aprendizajes. \nEXPONE: \nJohanna Avendaño Aguilera: Educadora de Párvulos (Universidad Academia de Humanismo Cristiano). Magister en Curriculum y Evaluación (Universidad Finis Terrae).  Académica de la carrera de Pedagogía en Educación Parvularia de la Universidad Finis Terrae\, Santiago. \nINSCRIPCIONES: Diana Vásquez\, programa_vcm_egresados@uft.cl \n25 de junio y 02 de julio. \n16:30 hrs.
URL:https://finis.cl/agenda/trazando-el-camino-planificacion-y-evaluacion-como-herramientas-para-potenciar-el-aprendizaje/
CATEGORIES:Educación Parvularia,Facultad de Educación, Psicología y Familia
END:VEVENT
BEGIN:VEVENT
DTSTART;TZID=America/Santiago:20240627T180000
DTEND;TZID=America/Santiago:20240627T235900
DTSTAMP:20260424T064013
CREATED:20250715T154456Z
LAST-MODIFIED:20260331T193633Z
UID:39825-1719511200-1719532740@finis.cl
SUMMARY:Ciclo de webinar actualización de los tres pilares: Educación\, psicología y familia: “Regulación Emocional Docente”
DESCRIPTION:El área de Postgrado y Educación Continua de la Facultad de Educación\, Psicología y Familia invitan a este webinar que tiene como objetivo conocer y aceptar nuestras emociones y valores es fundamental para elegir cómo actuar con libertad. Esta conciencia de uno mismo fomenta la autenticidad y la toma de decisiones informada en contextos personales y profesionales. \nEXPONE: \nChristian Schnake Ferrer\, Director Centro de Psicología Integral de la Persona. Psicólogo\, Universidad del Desarrollo\, Master Universitario en Ciencias para la Familia\, Universidad de Málaga \nINSCRIPCIONES ACÁ.
URL:https://finis.cl/agenda/ciclo-de-webinar-actualizacion-de-los-tres-pilares-educacion-psicologia-y-familia-regulacion-emocional-docente/
CATEGORIES:Ciclos,Facultad de Educación, Psicología y Familia,Postgrados
END:VEVENT
END:VCALENDAR