BEGIN:VCALENDAR
VERSION:2.0
PRODID:-//Universidad Finis Terrae - ECPv6.15.17.1//NONSGML v1.0//EN
CALSCALE:GREGORIAN
METHOD:PUBLISH
X-ORIGINAL-URL:https://finis.cl
X-WR-CALDESC:Eventos para Universidad Finis Terrae
REFRESH-INTERVAL;VALUE=DURATION:PT1H
X-Robots-Tag:noindex
X-PUBLISHED-TTL:PT1H
BEGIN:VTIMEZONE
TZID:America/Santiago
BEGIN:STANDARD
TZOFFSETFROM:-0300
TZOFFSETTO:-0400
TZNAME:-04
DTSTART:20230402T030000
END:STANDARD
BEGIN:DAYLIGHT
TZOFFSETFROM:-0400
TZOFFSETTO:-0300
TZNAME:-03
DTSTART:20230903T040000
END:DAYLIGHT
BEGIN:STANDARD
TZOFFSETFROM:-0300
TZOFFSETTO:-0400
TZNAME:-04
DTSTART:20240407T030000
END:STANDARD
BEGIN:DAYLIGHT
TZOFFSETFROM:-0400
TZOFFSETTO:-0300
TZNAME:-03
DTSTART:20240908T040000
END:DAYLIGHT
BEGIN:STANDARD
TZOFFSETFROM:-0300
TZOFFSETTO:-0400
TZNAME:-04
DTSTART:20250406T030000
END:STANDARD
BEGIN:DAYLIGHT
TZOFFSETFROM:-0400
TZOFFSETTO:-0300
TZNAME:-03
DTSTART:20250907T040000
END:DAYLIGHT
END:VTIMEZONE
BEGIN:VEVENT
DTSTART;TZID=America/Santiago:20240430T173000
DTEND;TZID=America/Santiago:20240502T235900
DTSTAMP:20260424T075924
CREATED:20250715T154637Z
LAST-MODIFIED:20250715T154637Z
UID:39947-1714498200-1714694340@finis.cl
SUMMARY:Competencias didácticas e investigativas para el aprendizaje de los niños y las niñas en Educación Parvularia: “¿Cómo avanzamos hacia una pedagogía crítica?”
DESCRIPTION:La carrera de Pedagogía en Educación Parvularia junto al Programa para Egresados de Vinculación con el Medio\, invita a esta charla y taller sobre la relevancia de las competencias didácticas e investigativas en la educación parvularia\, basadas en los principios de la Pedagogía Crítica. Se explorarán diversos enfoques y estrategias pedagógicas para promover el desarrollo de estas competencias en el aula de educación parvularia. \nEXPONE: \nCarola Zañartu: Educadora de Párvulos (Universidad Metropolitana Católica de Temuco). Magister en Desarrollo Humano mención desarrollo personal y familiar (Universidad Austral de Chile). Doctora en Ciencias Sociales\, Universidad Católica de Murcia\, España. Año 2022: Académica de la carrera de Pedagogía en Educación Parvularia de la Universidad Finis Terrae\, Santiago \nFecha: 30 de abril y 2 de mayo 2024 \nHora: 17:30 hrs. \n30 de abril Sala A205\n02 de mayo Sala A202 \nInscripciones: programa_vcm_egresados@uft.cl
URL:https://finis.cl/agenda/competencias-didacticas-e-investigativas-para-el-aprendizaje-de-los-ninos-y-las-ninas-en-educacion-parvularia-como-avanzamos-hacia-una-pedagogia-critica/
CATEGORIES:Educación Parvularia,Facultad de Educación, Psicología y Familia
END:VEVENT
BEGIN:VEVENT
DTSTART;TZID=America/Santiago:20240508T123000
DTEND;TZID=America/Santiago:20240508T235900
DTSTAMP:20260424T075924
CREATED:20250715T154618Z
LAST-MODIFIED:20260331T193631Z
UID:39916-1715171400-1715212740@finis.cl
SUMMARY:Ciclo de Estudios sobre Familia: “Redes de cuidado y soporte de personas mayores: una aproximación relacional desde métodos mixtos”
DESCRIPTION:La Escuela de Ciencias de la Familia y el Centro de Investigación en Psicología\, Educación y Familia (CIPEF) invita a académicos y estudiantes a participar del Ciclo de Estudios sobre Familia: “Redes de cuidado y soporte de personas mayores: una aproximación relacional desde métodos mixtos”\, que tendrá como exponente a la Dra. Francisca Ortiz Ruiz\, Doctora en Sociología de la Universidad de Manchester. \nLos Ciclos de Estudios sobre Familia buscan presentan estudios académicos realizados en otras instituciones. El propósito es dar a conocer novedosos enfoques de estudio y metodologías de investigación\, ampliando así el panorama desde la disciplina del académico/a o investigador/a expositor. \nEXPONE: \nDra. Francisca Ortiz Ruiz\, Socióloga (UAH) y Doctora en Sociología de la Universidad de Manchester. PostDoc en Centro de Economía y Políticas Sociales\, Facultad de Ciencias Sociales y Artes\, Universidad Mayor y en Millennium Institute for Care-Research (MICARE). \nINSCRIPCIONES ACÁ.
URL:https://finis.cl/agenda/ciclo-de-estudios-sobre-familia-redes-de-cuidado-y-soporte-de-personas-mayores-una-aproximacion-relacional-desde-metodos-mixtos/
CATEGORIES:Ciclos,CIPEF,Facultad de Educación, Psicología y Familia
END:VEVENT
BEGIN:VEVENT
DTSTART;TZID=America/Santiago:20240515T163000
DTEND;TZID=America/Santiago:20240515T235900
DTSTAMP:20260424T075924
CREATED:20250715T154624Z
LAST-MODIFIED:20250715T154624Z
UID:39926-1715790600-1715817540@finis.cl
SUMMARY:Charla: “Los Museos como espacios para la Investigación y la Educación”
DESCRIPTION:La Mención en gestión Cultural de la Escuela de Historia y la Facultad de Educación\, Psicología y Familia de la Universidad Finis Terrae\, invitan a la charla “Los Museos como espacios para la Investigación y la Educación”. Sobre el rol del Museo Histórico Nacional en la generación de conocimiento\, la realización de exposiciones y cómo dicho trabajo se ha materializado en una serie de publicaciones que está disponible a todo público. Asimismo\, comprender cómo este contenido es socializado con estudiantes y las estrategias que se utilizan para vincularse con comunidades educativas que no suelen asistir al museo\, pero que igualmente son beneficiarias de estas actividades. \nEXPONEN: \nFernanda Venegas Adriazola\, Jefa del Área de Educación\, Mediación y Ciudadanía\, MHN  \nCarlos Rojas Sancristoful\, Profesional de la Unidad de Investigación del MHN. 
URL:https://finis.cl/agenda/charla-los-museos-como-espacios-para-la-investigacion-y-la-educacion/
CATEGORIES:Facultad de Educación, Psicología y Familia,Facultad de Humanidades y Comunicaciones,Historia
END:VEVENT
BEGIN:VEVENT
DTSTART;TZID=America/Santiago:20240516T180000
DTEND;TZID=America/Santiago:20240516T235900
DTSTAMP:20260424T075924
CREATED:20250715T154549Z
LAST-MODIFIED:20250715T154549Z
UID:39894-1715882400-1715903940@finis.cl
SUMMARY:Webinar: “Pedagogía teatral\, un universo de innovación lúdica pedagógica”
DESCRIPTION:¿Es la Pedagogía Teatral una metodología activa en el aula que responde a la necesidades de: inclusión\, tecnología y salud afectiva en el aula del siglo XXI?\nEn este webinar aprenderás 5 claves fundamentales para diseñar tu propio proyecto de aula con bases en la pedagogía teatral\, aunque estés comenzando y pienses que no tienes las herramientas suficientes  para afrontarlo. Esta actividad es organizada por el área de Postgrado de la Facultad de Educación\, Psicología y Familia. \nEXPONE: \nCarmen Sánchez Duque: Directora del Diplomado en Metodología Teatral\, Actriz\, Investigadora y Pedagoga Teatral. \nInscripciones ACÁ.
URL:https://finis.cl/agenda/webinar-pedagogia-teatral-un-universo-de-innovacion-ludica-pedagogica/
CATEGORIES:Facultad de Educación, Psicología y Familia
END:VEVENT
BEGIN:VEVENT
DTSTART;TZID=America/Santiago:20240524T120000
DTEND;TZID=America/Santiago:20240524T235900
DTSTAMP:20260424T075924
CREATED:20250715T154537Z
LAST-MODIFIED:20250715T154537Z
UID:39873-1716552000-1716595140@finis.cl
SUMMARY:Webinar: “Ecología Integral en la Laudato Si’ y la Laudate Deum”
DESCRIPTION:Como parte de las actividades del Magíster en Doctrina Social de la Iglesia. Reflexión y vida\, y enmarcado en la semana dedicada a la Ecología en la Iglesia\, se ha invitado a diversos expertos en temas sociales y ecológicos\, a una mesa redonda titulada “Ecología Integral en la Laudato Si’ y la Laudate Deum”.\n\nLa introducción y presentaciones estará a cargo del Dr. Emilio Martínez\, director del Magíster quien luego\, dará paso a los invitados:\n\n\nPaulina Núñez —quien moderará la mesa redonda—: profesora de Responsabilidad Social\, doctoranda en Ecología integral y fundadora de Laudato si’ UFV-RC (España);\nFrancisco Bonilla: empresario\, profesor en la universidad Anáhuac (México) y fundador de la Universidad del Medio Ambiente;\nJavier de Cendra: decano de la Facultad de Educación\, Empresa y Gobierno de la Universidad Francisco de Vitoria (España); y\nGuillermo Ramírez: Abogado\, político y diputado por el 11° Distrito\, Región Metropolitana (Chile).\n\n– Fecha: Viernes 24 de mayo\n– Horario: 10:00 horas Ciudad de México\, 12:00 horas Santiago y 18:00 horas Madrid/Roma\n– Lugar: online\, por las redes sociales del Instituto Escuela de la Fe (@religionfinis)\n\n\n\nTRANSMISIONES \n\nPara quienes deseen seguir o también compartir la transmisión en sus canales o redes sociales:\n\n\n\n\n\n– Facebook: https://www.facebook.com/events/794746962611096\n– LinkedIn: https://www.linkedin.com/events/7196539253185462272/\n– YouTube: https://www.youtube.com/watch?v=arbqkzCxRfk\n\n\n\n\n\n\n\nORGANIZADORES\n\nEntre los organizadores\, se encuentran las Universidades Anáhuac (México)\, la Universidad Francisco de Vitoria (España)\, el Ateneo Pontificio Regina Apostolorum (Roma) y la Universidad Finis Terrae\, junto a la Sociedad de Vida Apostólica Laicos Consagrados del Regnum Christi.\n\n\n\nINSCRIPCIONES ACÁ.
URL:https://finis.cl/agenda/webinar-ecologia-integral-en-la-laudato-si-y-la-laudate-deum/
CATEGORIES:Escuela de la Fe,Facultad de Educación, Psicología y Familia
END:VEVENT
END:VCALENDAR