BEGIN:VCALENDAR
VERSION:2.0
PRODID:-//Universidad Finis Terrae - ECPv6.15.17.1//NONSGML v1.0//EN
CALSCALE:GREGORIAN
METHOD:PUBLISH
X-ORIGINAL-URL:https://finis.cl
X-WR-CALDESC:Eventos para Universidad Finis Terrae
REFRESH-INTERVAL;VALUE=DURATION:PT1H
X-Robots-Tag:noindex
X-PUBLISHED-TTL:PT1H
BEGIN:VTIMEZONE
TZID:America/Santiago
BEGIN:STANDARD
TZOFFSETFROM:-0300
TZOFFSETTO:-0400
TZNAME:-04
DTSTART:20230402T030000
END:STANDARD
BEGIN:DAYLIGHT
TZOFFSETFROM:-0400
TZOFFSETTO:-0300
TZNAME:-03
DTSTART:20230903T040000
END:DAYLIGHT
BEGIN:STANDARD
TZOFFSETFROM:-0300
TZOFFSETTO:-0400
TZNAME:-04
DTSTART:20240407T030000
END:STANDARD
BEGIN:DAYLIGHT
TZOFFSETFROM:-0400
TZOFFSETTO:-0300
TZNAME:-03
DTSTART:20240908T040000
END:DAYLIGHT
BEGIN:STANDARD
TZOFFSETFROM:-0300
TZOFFSETTO:-0400
TZNAME:-04
DTSTART:20250406T030000
END:STANDARD
BEGIN:DAYLIGHT
TZOFFSETFROM:-0400
TZOFFSETTO:-0300
TZNAME:-03
DTSTART:20250907T040000
END:DAYLIGHT
END:VTIMEZONE
BEGIN:VEVENT
DTSTART;TZID=America/Santiago:20240415T190000
DTEND;TZID=America/Santiago:20240415T235900
DTSTAMP:20260424T092140
CREATED:20250715T154717Z
LAST-MODIFIED:20250715T154717Z
UID:39974-1713207600-1713225540@finis.cl
SUMMARY:Taller Simce: “Análisis Crítico de Resultados Simce”
DESCRIPTION:Postgrados y Educación Continua invitan a directivos\, coordinadores y docentes a un taller gratuito de análisis crítico de resultados SIMCE\, que te permitirá tomar decisiones basado en evidencia para la mejora. \nEXPONEN: \nAldo Montenegro: Magíster en Gestión y liderazgo Educacional\, Coordinador de la Mención de Currículum y Evaluación. \nFelipe Grandón: Magíster en Currículum y Evaluación\, Universidad Finis Terrae\, Coordinador General de Programas Finis Terrae Online. \nFecha: 01 y 15 de Abril\nHora: 19:00 hrs. \n\n\nINSCRIPCIONES ACÁ
URL:https://finis.cl/agenda/taller-simce-analisis-critico-de-resultados-simce/
CATEGORIES:Facultad de Educación, Psicología y Familia
END:VEVENT
BEGIN:VEVENT
DTSTART;TZID=America/Santiago:20240424T090000
DTEND;TZID=America/Santiago:20240424T235900
DTSTAMP:20260424T092140
CREATED:20250715T154633Z
LAST-MODIFIED:20250715T154633Z
UID:39940-1713949200-1714003140@finis.cl
SUMMARY:Inauguración año académico Ciencias de la Familia
DESCRIPTION:La carrera de Ciencias de la Familia de la Facultad de Educación\, Psicología y Familia junto a la Fundación Emma\, invitan a este conversatorio sobre políticas públicas\, maternidad y cuidados. Esta actividad se realiza en el marco de la inauguración del año académico de la carrera.\n\nEXPONEN:\n\nFrancisca Gallegos\, Subsecretaria de servicios sociales y académica de nuestra escuela.\n\nVirginia Latorre\, Directora Fundación Emma.
URL:https://finis.cl/agenda/inauguracion-ano-academico-ciencias-de-la-familia/
CATEGORIES:Ciencias de la Familia,Facultad de Educación, Psicología y Familia
END:VEVENT
BEGIN:VEVENT
DTSTART;TZID=America/Santiago:20240425T180000
DTEND;TZID=America/Santiago:20240425T235900
DTSTAMP:20260424T092140
CREATED:20250715T154633Z
LAST-MODIFIED:20250715T154633Z
UID:39941-1714068000-1714089540@finis.cl
SUMMARY:Conversatorio ShapingTalk: “Conversando el futuro: juventudes\, innovación social y política pública para la ciudad”
DESCRIPTION:La Facultad de Economía y Negocios invita al conversatorio ShapingTalk: “Conversando el futuro: juventudes\, innovación social y política pública para la ciudad” organizado junto a Global Shapers\, la iniciativa del Foro Económico Mundial que busca apoyar a jóvenes líderes para volverse tomadores de decisiones y partícipes de la definición de políticas públicas.\n\nEn el panel nos acompañarán expertos de la academia\, la sociedad civil\, el mundo privado y el mundo público para encontrar visiones comunes sobre un futuro sostenible para la Región Metropolitana.\n\nINSCRIPCIONES ACÁ.
URL:https://finis.cl/agenda/conversatorio-shapingtalk-conversando-el-futuro-juventudes-innovacion-social-y-politica-publica-para-la-ciudad/
CATEGORIES:Facultad de Educación, Psicología y Familia
END:VEVENT
BEGIN:VEVENT
DTSTART;TZID=America/Santiago:20240430T173000
DTEND;TZID=America/Santiago:20240502T235900
DTSTAMP:20260424T092140
CREATED:20250715T154637Z
LAST-MODIFIED:20250715T154637Z
UID:39947-1714498200-1714694340@finis.cl
SUMMARY:Competencias didácticas e investigativas para el aprendizaje de los niños y las niñas en Educación Parvularia: “¿Cómo avanzamos hacia una pedagogía crítica?”
DESCRIPTION:La carrera de Pedagogía en Educación Parvularia junto al Programa para Egresados de Vinculación con el Medio\, invita a esta charla y taller sobre la relevancia de las competencias didácticas e investigativas en la educación parvularia\, basadas en los principios de la Pedagogía Crítica. Se explorarán diversos enfoques y estrategias pedagógicas para promover el desarrollo de estas competencias en el aula de educación parvularia. \nEXPONE: \nCarola Zañartu: Educadora de Párvulos (Universidad Metropolitana Católica de Temuco). Magister en Desarrollo Humano mención desarrollo personal y familiar (Universidad Austral de Chile). Doctora en Ciencias Sociales\, Universidad Católica de Murcia\, España. Año 2022: Académica de la carrera de Pedagogía en Educación Parvularia de la Universidad Finis Terrae\, Santiago \nFecha: 30 de abril y 2 de mayo 2024 \nHora: 17:30 hrs. \n30 de abril Sala A205\n02 de mayo Sala A202 \nInscripciones: programa_vcm_egresados@uft.cl
URL:https://finis.cl/agenda/competencias-didacticas-e-investigativas-para-el-aprendizaje-de-los-ninos-y-las-ninas-en-educacion-parvularia-como-avanzamos-hacia-una-pedagogia-critica/
CATEGORIES:Educación Parvularia,Facultad de Educación, Psicología y Familia
END:VEVENT
END:VCALENDAR