BEGIN:VCALENDAR
VERSION:2.0
PRODID:-//Universidad Finis Terrae - ECPv6.15.17.1//NONSGML v1.0//EN
CALSCALE:GREGORIAN
METHOD:PUBLISH
X-WR-CALNAME:Universidad Finis Terrae
X-ORIGINAL-URL:https://finis.cl
X-WR-CALDESC:Eventos para Universidad Finis Terrae
REFRESH-INTERVAL;VALUE=DURATION:PT1H
X-Robots-Tag:noindex
X-PUBLISHED-TTL:PT1H
BEGIN:VTIMEZONE
TZID:America/Santiago
BEGIN:STANDARD
TZOFFSETFROM:-0300
TZOFFSETTO:-0400
TZNAME:-04
DTSTART:20230402T030000
END:STANDARD
BEGIN:DAYLIGHT
TZOFFSETFROM:-0400
TZOFFSETTO:-0300
TZNAME:-03
DTSTART:20230903T040000
END:DAYLIGHT
BEGIN:STANDARD
TZOFFSETFROM:-0300
TZOFFSETTO:-0400
TZNAME:-04
DTSTART:20240407T030000
END:STANDARD
BEGIN:DAYLIGHT
TZOFFSETFROM:-0400
TZOFFSETTO:-0300
TZNAME:-03
DTSTART:20240908T040000
END:DAYLIGHT
BEGIN:STANDARD
TZOFFSETFROM:-0300
TZOFFSETTO:-0400
TZNAME:-04
DTSTART:20250406T030000
END:STANDARD
BEGIN:DAYLIGHT
TZOFFSETFROM:-0400
TZOFFSETTO:-0300
TZNAME:-03
DTSTART:20250907T040000
END:DAYLIGHT
END:VTIMEZONE
BEGIN:VEVENT
DTSTART;TZID=America/Santiago:20240325T111000
DTEND;TZID=America/Santiago:20240325T122500
DTSTAMP:20260424T110028
CREATED:20250715T154722Z
LAST-MODIFIED:20250715T154722Z
UID:39983-1711365000-1711369500@finis.cl
SUMMARY:Encuentro con Investigadores: “Introducción a la Teoría Fundamentada desde el análisis de datos en ATLAS\,ti”
DESCRIPTION:El Centro de Investigación en Psicología\, Educación y Familia (CIPEF) invita a participar a académicos e investigadores del primer Encuentro de Investigadores 2024\, titulado “Introducción a la Teoría Fundamentada desde el análisis de datos en ATLAS\,ti”\, el cual se desarrollará el día lunes 25 de marzo en la sala CRA (11:10-12:25 hrs.)\, ubicada en el 5to piso del edificio Amberes Sur\, frente a la Facultad de Educación\, Psicología y Familia. \nEXPONE: \nDr. Pablo Francisco Di Leo: Dr. en Ciencias Sociales y Magíster en Políticas Sociales\, Académico de la Escuela de Sociología (UBA) \nINSCRIPCIONES ACÁ.
URL:https://finis.cl/agenda/encuentro-con-investigadores-introduccion-a-la-teoria-fundamentada-desde-el-analisis-de-datos-en-atlasti/
CATEGORIES:CIPEF,Facultad de Educación, Psicología y Familia
END:VEVENT
BEGIN:VEVENT
DTSTART;TZID=America/Santiago:20240326T150000
DTEND;TZID=America/Santiago:20240326T235900
DTSTAMP:20260424T110028
CREATED:20250715T154727Z
LAST-MODIFIED:20250715T154727Z
UID:39992-1711465200-1711497540@finis.cl
SUMMARY:Presentación de cierre del proyecto de colaboración internacional (CICI): “Experiencias de profesores jóvenes en contextos de encierro e hibridez: un análisis comparativo entre Chile y Argentina”
DESCRIPTION:La Escuela de Educación Básica invita a participar a toda la comunidad de la Universidad Finis Terrae a participar de la presentación de cierre del proyecto de colaboración internacional (CICI): “Experiencias de profesores jóvenes en contextos de encierro e hibridez: un análisis comparativo entre Chile y Argentina”. \nEsta instancia\, que contará con la participación de Sebastián Escobar\, académico de la Escuela de Pedagogía en Educación Básica y del Dr. Pablo Di Leo\, Doctor en Ciencias Sociales y académico de la Escuela de Sociología de la Universidad de Buenos Aires (UBA)\, se llevará a cabo el día martes 26 de marzo de 2024 a las 15:00 hrs\, sala B601 del edificio Amberes Sur\, Universidad Finis Terrae. \nEXPONEN: \nSebastián Escobar González: Magister en Ciencias Sociales (UCh)\, Académico de la Escuela de Educación Básica e investigador CIPEF (U. Finis Terrae) \nDr. Pablo Francisco Di Leo: Dr. en Ciencias Sociales y Magíster en Políticas Sociales\, Académico de la Escuela de Sociología (UBA). \nINSCRIPCIONES ACÁ
URL:https://finis.cl/agenda/presentacion-de-cierre-del-proyecto-de-colaboracion-internacional-cici-experiencias-de-profesores-jovenes-en-contextos-de-encierro-e-hibridez-un-analisis-comparativo-entre-chile-y-argentina/
CATEGORIES:Educación Básica,Facultad de Educación, Psicología y Familia
END:VEVENT
END:VCALENDAR