BEGIN:VCALENDAR
VERSION:2.0
PRODID:-//Universidad Finis Terrae - ECPv6.15.17.1//NONSGML v1.0//EN
CALSCALE:GREGORIAN
METHOD:PUBLISH
X-WR-CALNAME:Universidad Finis Terrae
X-ORIGINAL-URL:https://finis.cl
X-WR-CALDESC:Eventos para Universidad Finis Terrae
REFRESH-INTERVAL;VALUE=DURATION:PT1H
X-Robots-Tag:noindex
X-PUBLISHED-TTL:PT1H
BEGIN:VTIMEZONE
TZID:America/Santiago
BEGIN:STANDARD
TZOFFSETFROM:-0300
TZOFFSETTO:-0400
TZNAME:-04
DTSTART:20220403T030000
END:STANDARD
BEGIN:DAYLIGHT
TZOFFSETFROM:-0400
TZOFFSETTO:-0300
TZNAME:-03
DTSTART:20220911T040000
END:DAYLIGHT
BEGIN:STANDARD
TZOFFSETFROM:-0300
TZOFFSETTO:-0400
TZNAME:-04
DTSTART:20230402T030000
END:STANDARD
BEGIN:DAYLIGHT
TZOFFSETFROM:-0400
TZOFFSETTO:-0300
TZNAME:-03
DTSTART:20230903T040000
END:DAYLIGHT
BEGIN:STANDARD
TZOFFSETFROM:-0300
TZOFFSETTO:-0400
TZNAME:-04
DTSTART:20240407T030000
END:STANDARD
BEGIN:DAYLIGHT
TZOFFSETFROM:-0400
TZOFFSETTO:-0300
TZNAME:-03
DTSTART:20240908T040000
END:DAYLIGHT
END:VTIMEZONE
BEGIN:VEVENT
DTSTART;TZID=America/Santiago:20231114T083000
DTEND;TZID=America/Santiago:20231114T235900
DTSTAMP:20260420T113052
CREATED:20250715T154843Z
LAST-MODIFIED:20250715T154843Z
UID:40068-1699950600-1700006340@finis.cl
SUMMARY:Desayuno Ejecutivo: “Oportunidades de negocios vinculadas al desarrollo de proyectos de Hidrógeno Verde para el sector financiero en Chile”
DESCRIPTION:La Iniciativa Financiera del Programa de las Naciones Unidas para el Medio Ambiente (UNEP FI)\, la Universidad Finis Terrae\, la CAF –Banco de Desarrollo de América Latina y el Caribe–\, y Fundación Chile\, invitan a un Desayuno Ejecutivo sobre “Oportunidades de negocios vinculadas al desarrollo de proyectos de Hidrógeno Verde para el sector financiero en Chile”. \n\nEn este encuentro se propone generar un debate acerca de las estrategias y acciones que las instituciones financieras chilenas pueden tomar de forma proactiva para acelerar el proceso de desarrollo una industria del Hidrógeno Verde (H2V)\, como factor de transición hacia una economía más sostenible\, gestionando adecuadamente los potenciales riesgos y barreras\, e identificando oportunidades de negocios. \nLa actividad está orientada hacia los diversos actores del mercado financiero\, con especial foco en ejecutivos de entidades bancarias (áreas de riesgos\, sectores comerciales\, desarrollo de productos\, mercado de capitales\, finanzas corporativas\, etc.). inversionistas institucionales como fondos de pensiones\, compañías de seguros y family offices. \n\n\nEXPONEN: \nMarcos Kulka\, Director Ejecutivo\, H2Chile. \nManuel José Ilabaca\, Head of Energy Chile\, Vice President Corporate Finance\, Santander. \nMaría Ignacia Varela Barros\, Head of Corporate and Project Finance\, HIF Global. \nRodrigo Martín\, Head of Corporate Finance\, Banco Estado. \nDiego Sierpe Mosso\, Principal Collaborative Regional Development\, Anglo American. \nINSCRIPCIONES ACÁ. \nEl evento se realizará en el Club 50\, El Golf 50\, Las Condes.
URL:https://finis.cl/agenda/desayuno-ejecutivo-oportunidades-de-negocios-vinculadas-al-desarrollo-de-proyectos-de-hidrogeno-verde-para-el-sector-financiero-en-chile/
CATEGORIES:Facultad de Economía y Negocios
END:VEVENT
END:VCALENDAR