BEGIN:VCALENDAR
VERSION:2.0
PRODID:-//Universidad Finis Terrae - ECPv6.15.17.1//NONSGML v1.0//EN
CALSCALE:GREGORIAN
METHOD:PUBLISH
X-WR-CALNAME:Universidad Finis Terrae
X-ORIGINAL-URL:https://finis.cl
X-WR-CALDESC:Eventos para Universidad Finis Terrae
REFRESH-INTERVAL;VALUE=DURATION:PT1H
X-Robots-Tag:noindex
X-PUBLISHED-TTL:PT1H
BEGIN:VTIMEZONE
TZID:America/Santiago
BEGIN:STANDARD
TZOFFSETFROM:-0300
TZOFFSETTO:-0400
TZNAME:-04
DTSTART:20220403T030000
END:STANDARD
BEGIN:DAYLIGHT
TZOFFSETFROM:-0400
TZOFFSETTO:-0300
TZNAME:-03
DTSTART:20220911T040000
END:DAYLIGHT
BEGIN:STANDARD
TZOFFSETFROM:-0300
TZOFFSETTO:-0400
TZNAME:-04
DTSTART:20230402T030000
END:STANDARD
BEGIN:DAYLIGHT
TZOFFSETFROM:-0400
TZOFFSETTO:-0300
TZNAME:-03
DTSTART:20230903T040000
END:DAYLIGHT
BEGIN:STANDARD
TZOFFSETFROM:-0300
TZOFFSETTO:-0400
TZNAME:-04
DTSTART:20240407T030000
END:STANDARD
BEGIN:DAYLIGHT
TZOFFSETFROM:-0400
TZOFFSETTO:-0300
TZNAME:-03
DTSTART:20240908T040000
END:DAYLIGHT
END:VTIMEZONE
BEGIN:VEVENT
DTSTART;TZID=America/Santiago:20230906T111000
DTEND;TZID=America/Santiago:20230906T235900
DTSTAMP:20260420T130219
CREATED:20250715T155036Z
LAST-MODIFIED:20260331T193626Z
UID:40168-1693998600-1694044740@finis.cl
SUMMARY:Ciclo de charlas: “Auditoría y Control de Gestión en Sostenibilidad”
DESCRIPTION:La Escuela de Auditoría e Ingeniería en Control de Gestión invita a la charla “El impacto de La inteligencia Artificial y Chat GPT en el mundo laboral”\, actividad en la que se abordarán los alcances de este fenómeno establecido como un conjunto de métodos y herramientas con subdominios aplicados a innumerables situaciones. \nPRESENTA: \nXimena López\, Senior Associate de Talent Team en EY. \nEXPONEN: \nFernolds Alvarado\, consultor del área Technology Consulting en EY. \nFelipe Arancibia\, senior del área de Technology Consulting en EY. \nINSCRIPCIONES ACÁ
URL:https://finis.cl/agenda/ciclo-de-charlas-auditoria-y-control-de-gestion-en-sostenibilidad-2/
CATEGORIES:Auditoría,Ciclos,Facultad de Economía y Negocios
END:VEVENT
BEGIN:VEVENT
DTSTART;TZID=America/Santiago:20230907T190000
DTEND;TZID=America/Santiago:20230907T235900
DTSTAMP:20260420T130219
CREATED:20250715T155050Z
LAST-MODIFIED:20250715T155050Z
UID:40190-1694113200-1694131140@finis.cl
SUMMARY:Sostenibilidad Corporativa: El poder oculto de los datos
DESCRIPTION:Vive la experiencia de conocer y compartir con grandes exponentes de la sostenibilidad corporativa. En este encuentro online descubrirás cómo integrar la aplicación y medición de la sostenibilidad\, junto con el análisis de datos\, reportabilidad y mediciones que pueden potenciar la rentabilidad empresarial. \nEXPONEN: \nMargarita Marin\, Directora Académica del Diplomado en Sostenibilidad Corporativa U. Finis Terrae. Ingeniero en Comercio Internacional\, Universidad Tecnológica Metropolitana\, con más de 20 años de experiencia laboral\, especialista en modelos de negocios para la economía circular\, sostenibilidad corporativa y comunicaciones. \nCristian Bustos Ingeniero y Magíster en Gestión y Planificación Ambiental Universidad de Chile. \nMaría Eugenia Martinez Ingeniero Civil Bioquímico PUCV\, Magister en Ciencias de la Ingeniería con mención en Ingeniería Bioquímica Pontificia Universidad Católica de Valparaíso. \nINSCRIPCIONES ACÁ
URL:https://finis.cl/agenda/sostenibilidad-corporativa-el-poder-oculto-de-los-datos/
CATEGORIES:Facultad de Economía y Negocios
END:VEVENT
BEGIN:VEVENT
DTSTART;TZID=America/Santiago:20230913T111000
DTEND;TZID=America/Santiago:20230913T235900
DTSTAMP:20260420T130219
CREATED:20250715T155014Z
LAST-MODIFIED:20260331T193627Z
UID:40155-1694603400-1694649540@finis.cl
SUMMARY:Ciclo de charlas: “Auditoría y Control de Gestión en Sostenibilidad”
DESCRIPTION:La Escuela de Auditoría e Ingeniería en Control de Gestión invita a la charla “Finanzas Sostenibles\, Estándares de Reporte”\, actividad en la que se abordarán\, entre otros ítemes\, el rol de la auditoría interna en la confiabilidad de la data e información que se entrega en los reportes conforme a la regulación nacional (norma 461 /IFRS). \nEXPONE: \nMaría Ignacia García: Gerente de Auditoría ESG en PwC Chile. \nModalidad: Presencial y Zoom \nINSCRIPCIONES ACÁ.
URL:https://finis.cl/agenda/ciclo-de-charlas-auditoria-y-control-de-gestion-en-sostenibilidad-3/
CATEGORIES:Auditoría,Ciclos,Facultad de Economía y Negocios,Ingeniería en Información y Control de Gestión
END:VEVENT
BEGIN:VEVENT
DTSTART;TZID=America/Santiago:20230928T180000
DTEND;TZID=America/Santiago:20230928T235900
DTSTAMP:20260420T130219
CREATED:20250715T155007Z
LAST-MODIFIED:20260331T193627Z
UID:40145-1695924000-1695945540@finis.cl
SUMMARY:Ciclo de charlas: “Clínica Pyme”
DESCRIPTION:La Escuela de Auditoría e Ingeniería en Control de Gestión invita a la charla “Como armar tu emprendimiento y fondos concursables a los cuales puedes acceder”\, actividad en la que se explicarán\, entre otros ítemes\, los tópicos necesarios para crear un emprendimiento y los fondos concursables a los que se puede acceder. \nEXPONE: \nCarolina Lobos: Consultora Estratégica Fundación Desafío Levantemos Chile. \nINSCRIPCIONES ACÁ
URL:https://finis.cl/agenda/ciclo-de-charlas-clinica-pyme/
CATEGORIES:Auditoría,Ciclos,Facultad de Economía y Negocios,Ingeniería en Información y Control de Gestión
END:VEVENT
END:VCALENDAR