BEGIN:VCALENDAR
VERSION:2.0
PRODID:-//Universidad Finis Terrae - ECPv6.15.17.1//NONSGML v1.0//EN
CALSCALE:GREGORIAN
METHOD:PUBLISH
X-WR-CALNAME:Universidad Finis Terrae
X-ORIGINAL-URL:https://finis.cl
X-WR-CALDESC:Eventos para Universidad Finis Terrae
REFRESH-INTERVAL;VALUE=DURATION:PT1H
X-Robots-Tag:noindex
X-PUBLISHED-TTL:PT1H
BEGIN:VTIMEZONE
TZID:America/Santiago
BEGIN:STANDARD
TZOFFSETFROM:-0300
TZOFFSETTO:-0400
TZNAME:-04
DTSTART:20240407T030000
END:STANDARD
BEGIN:DAYLIGHT
TZOFFSETFROM:-0400
TZOFFSETTO:-0300
TZNAME:-03
DTSTART:20240908T040000
END:DAYLIGHT
BEGIN:STANDARD
TZOFFSETFROM:-0300
TZOFFSETTO:-0400
TZNAME:-04
DTSTART:20250406T030000
END:STANDARD
BEGIN:DAYLIGHT
TZOFFSETFROM:-0400
TZOFFSETTO:-0300
TZNAME:-03
DTSTART:20250907T040000
END:DAYLIGHT
BEGIN:STANDARD
TZOFFSETFROM:-0300
TZOFFSETTO:-0400
TZNAME:-04
DTSTART:20260405T030000
END:STANDARD
BEGIN:DAYLIGHT
TZOFFSETFROM:-0400
TZOFFSETTO:-0300
TZNAME:-03
DTSTART:20260906T040000
END:DAYLIGHT
END:VTIMEZONE
BEGIN:VEVENT
DTSTART;TZID=America/Santiago:20250614T110000
DTEND;TZID=America/Santiago:20250614T235900
DTSTAMP:20260423T094307
CREATED:20250715T153443Z
LAST-MODIFIED:20250715T153443Z
UID:39368-1749898800-1749945540@finis.cl
SUMMARY:Atravieso Urbano
DESCRIPTION:El Atravieso Urbano “Fundación Ancestral de Santiago: El Origen Arqueoastronómico del Valle del Mapocho” contempla un recorrido donde se explora la relación entre el cielo y nuestra tierra\, entre paisaje y espiritualidad\, para comprender el origen ancestral de Santiago. En esta oportunidad\, el guía será el alumni de la FAD\, Carlos Verdugo\, con quien se iniciará el recorrido desde la Calle Catedral -antigua vía que es parte del Qhapaq Ñan o Camino Real del Inca- para continuar hacia la Plaza de Armas y el Cerro Santa Lucía. \nPunto de encuentro: Esquina Morandé con Catedral (Metro Plaza de Armas).
URL:https://finis.cl/agenda/atravieso-urbano-3/
CATEGORIES:Facultad de Arquitectura, Diseño y Estudios Creativos
END:VEVENT
END:VCALENDAR