BEGIN:VCALENDAR
VERSION:2.0
PRODID:-//Universidad Finis Terrae - ECPv6.15.17.1//NONSGML v1.0//EN
CALSCALE:GREGORIAN
METHOD:PUBLISH
X-ORIGINAL-URL:https://finis.cl
X-WR-CALDESC:Eventos para Universidad Finis Terrae
REFRESH-INTERVAL;VALUE=DURATION:PT1H
X-Robots-Tag:noindex
X-PUBLISHED-TTL:PT1H
BEGIN:VTIMEZONE
TZID:America/Santiago
BEGIN:STANDARD
TZOFFSETFROM:-0300
TZOFFSETTO:-0400
TZNAME:-04
DTSTART:20240407T030000
END:STANDARD
BEGIN:DAYLIGHT
TZOFFSETFROM:-0400
TZOFFSETTO:-0300
TZNAME:-03
DTSTART:20240908T040000
END:DAYLIGHT
BEGIN:STANDARD
TZOFFSETFROM:-0300
TZOFFSETTO:-0400
TZNAME:-04
DTSTART:20250406T030000
END:STANDARD
BEGIN:DAYLIGHT
TZOFFSETFROM:-0400
TZOFFSETTO:-0300
TZNAME:-03
DTSTART:20250907T040000
END:DAYLIGHT
BEGIN:STANDARD
TZOFFSETFROM:-0300
TZOFFSETTO:-0400
TZNAME:-04
DTSTART:20260405T030000
END:STANDARD
BEGIN:DAYLIGHT
TZOFFSETFROM:-0400
TZOFFSETTO:-0300
TZNAME:-03
DTSTART:20260906T040000
END:DAYLIGHT
END:VTIMEZONE
BEGIN:VEVENT
DTSTART;TZID=America/Santiago:20250513T110000
DTEND;TZID=America/Santiago:20250513T235900
DTSTAMP:20260423T110953
CREATED:20250715T153553Z
LAST-MODIFIED:20260331T193639Z
UID:39419-1747134000-1747180740@finis.cl
SUMMARY:Ciclo Contrapartes: “El rol del Diseño”
DESCRIPTION:Ignacio Ríos\, diseñador industrial\, cofundador de la marca Bestias\, es el próximo invitado al ciclo Contrapartes de la Escuela de Diseño. En esta oportunidad\, conversará con la docente Elisa Bertelsen sobre “El rol del Diseño en la empresa”; cómo el diseño influye en el desarrollo y posicionamiento de las empresas\, desde la creación de productos hasta la estrategia del negocio. \nINSCRIPCIONES ACÁ
URL:https://finis.cl/agenda/ciclo-contrapartes-el-rol-del-diseno/
CATEGORIES:Ciclos,Facultad de Arquitectura, Diseño y Estudios Creativos
END:VEVENT
END:VCALENDAR