BEGIN:VCALENDAR
VERSION:2.0
PRODID:-//Universidad Finis Terrae - ECPv6.15.17.1//NONSGML v1.0//EN
CALSCALE:GREGORIAN
METHOD:PUBLISH
X-WR-CALNAME:Universidad Finis Terrae
X-ORIGINAL-URL:https://finis.cl
X-WR-CALDESC:Eventos para Universidad Finis Terrae
REFRESH-INTERVAL;VALUE=DURATION:PT1H
X-Robots-Tag:noindex
X-PUBLISHED-TTL:PT1H
BEGIN:VTIMEZONE
TZID:America/Santiago
BEGIN:STANDARD
TZOFFSETFROM:-0300
TZOFFSETTO:-0400
TZNAME:-04
DTSTART:20240407T030000
END:STANDARD
BEGIN:DAYLIGHT
TZOFFSETFROM:-0400
TZOFFSETTO:-0300
TZNAME:-03
DTSTART:20240908T040000
END:DAYLIGHT
BEGIN:STANDARD
TZOFFSETFROM:-0300
TZOFFSETTO:-0400
TZNAME:-04
DTSTART:20250406T030000
END:STANDARD
BEGIN:DAYLIGHT
TZOFFSETFROM:-0400
TZOFFSETTO:-0300
TZNAME:-03
DTSTART:20250907T040000
END:DAYLIGHT
BEGIN:STANDARD
TZOFFSETFROM:-0300
TZOFFSETTO:-0400
TZNAME:-04
DTSTART:20260405T030000
END:STANDARD
BEGIN:DAYLIGHT
TZOFFSETFROM:-0400
TZOFFSETTO:-0300
TZNAME:-03
DTSTART:20260906T040000
END:DAYLIGHT
END:VTIMEZONE
BEGIN:VEVENT
DTSTART;TZID=America/Santiago:20250429T100000
DTEND;TZID=America/Santiago:20250429T235900
DTSTAMP:20260423T110831
CREATED:20250715T153606Z
LAST-MODIFIED:20260331T193639Z
UID:39443-1745920800-1745971140@finis.cl
SUMMARY:Ciclo Contrapartes 2025: “El rol del Diseño”
DESCRIPTION:Antonia Moreno\, jefa de estudios e incidencia pública del Centro Nacional de Inteligencia Artificial (CENIA)- desde donde lidera el Índice Latinoamericano de Inteligencia Artificial- es la próxima invitada al Ciclo Contrapartes de la Escuela de Diseño Finis Terrae. \nLa diseñadora conversará con Luz María Verdugo\, docente de la Escuela\, sobre el rol del Diseño en relación a la IA y el impacto de ésta\, explorando tanto las oportunidades como los desafíos que surgen al integrar tecnologías avanzadas en procesos creativos. \nINSCRIPCIONES ACÁ
URL:https://finis.cl/agenda/ciclo-contrapartes-2025-el-rol-del-diseno/
CATEGORIES:Ciclos,Facultad de Arquitectura, Diseño y Estudios Creativos
END:VEVENT
END:VCALENDAR