BEGIN:VCALENDAR
VERSION:2.0
PRODID:-//Universidad Finis Terrae - ECPv6.15.17.1//NONSGML v1.0//EN
CALSCALE:GREGORIAN
METHOD:PUBLISH
X-WR-CALNAME:Universidad Finis Terrae
X-ORIGINAL-URL:https://finis.cl
X-WR-CALDESC:Eventos para Universidad Finis Terrae
REFRESH-INTERVAL;VALUE=DURATION:PT1H
X-Robots-Tag:noindex
X-PUBLISHED-TTL:PT1H
BEGIN:VTIMEZONE
TZID:America/Santiago
BEGIN:STANDARD
TZOFFSETFROM:-0300
TZOFFSETTO:-0400
TZNAME:-04
DTSTART:20240407T030000
END:STANDARD
BEGIN:DAYLIGHT
TZOFFSETFROM:-0400
TZOFFSETTO:-0300
TZNAME:-03
DTSTART:20240908T040000
END:DAYLIGHT
BEGIN:STANDARD
TZOFFSETFROM:-0300
TZOFFSETTO:-0400
TZNAME:-04
DTSTART:20250406T030000
END:STANDARD
BEGIN:DAYLIGHT
TZOFFSETFROM:-0400
TZOFFSETTO:-0300
TZNAME:-03
DTSTART:20250907T040000
END:DAYLIGHT
BEGIN:STANDARD
TZOFFSETFROM:-0300
TZOFFSETTO:-0400
TZNAME:-04
DTSTART:20260405T030000
END:STANDARD
BEGIN:DAYLIGHT
TZOFFSETFROM:-0400
TZOFFSETTO:-0300
TZNAME:-03
DTSTART:20260906T040000
END:DAYLIGHT
END:VTIMEZONE
BEGIN:VEVENT
DTSTART;TZID=America/Santiago:20250401T130000
DTEND;TZID=America/Santiago:20250401T235900
DTSTAMP:20260423T124146
CREATED:20250715T153804Z
LAST-MODIFIED:20250715T153804Z
UID:39481-1743512400-1743551940@finis.cl
SUMMARY:Clase magistral: “Renacimiento español”
DESCRIPTION:En el marco de la colaboración con ISEM de la Universidad de Navarra\, la carrera de Diseño de Moda & Management organiza la clase magistral “Renacimiento español”. en la que expondrá la Lydia García\, profesora de ISEM\, historiadora\, investigadora\, coleccionista de moda española de lujo y propietaria de la Colección López-Trabado\, colección de Alta Costura española dedicada a dar a conocer y poner en valor a sus creadores desde finales del siglo XIX hasta la actualidad. \n13.00 hrs (Chile); 17:00 hrs. (España)\nModalidad: Sincrónica. \nINSCRIPCIONES ACÁ. \n 
URL:https://finis.cl/agenda/clase-magistral-renacimiento-espanol/
CATEGORIES:Diseño de Moda & Management,Facultad de Arquitectura, Diseño y Estudios Creativos
END:VEVENT
END:VCALENDAR