BEGIN:VCALENDAR
VERSION:2.0
PRODID:-//Universidad Finis Terrae - ECPv6.15.17.1//NONSGML v1.0//EN
CALSCALE:GREGORIAN
METHOD:PUBLISH
X-ORIGINAL-URL:https://finis.cl
X-WR-CALDESC:Eventos para Universidad Finis Terrae
REFRESH-INTERVAL;VALUE=DURATION:PT1H
X-Robots-Tag:noindex
X-PUBLISHED-TTL:PT1H
BEGIN:VTIMEZONE
TZID:America/Santiago
BEGIN:STANDARD
TZOFFSETFROM:-0300
TZOFFSETTO:-0400
TZNAME:-04
DTSTART:20230402T030000
END:STANDARD
BEGIN:DAYLIGHT
TZOFFSETFROM:-0400
TZOFFSETTO:-0300
TZNAME:-03
DTSTART:20230903T040000
END:DAYLIGHT
BEGIN:STANDARD
TZOFFSETFROM:-0300
TZOFFSETTO:-0400
TZNAME:-04
DTSTART:20240407T030000
END:STANDARD
BEGIN:DAYLIGHT
TZOFFSETFROM:-0400
TZOFFSETTO:-0300
TZNAME:-03
DTSTART:20240908T040000
END:DAYLIGHT
BEGIN:STANDARD
TZOFFSETFROM:-0300
TZOFFSETTO:-0400
TZNAME:-04
DTSTART:20250406T030000
END:STANDARD
BEGIN:DAYLIGHT
TZOFFSETFROM:-0400
TZOFFSETTO:-0300
TZNAME:-03
DTSTART:20250907T040000
END:DAYLIGHT
END:VTIMEZONE
BEGIN:VEVENT
DTSTART;TZID=America/Santiago:20241211T183000
DTEND;TZID=America/Santiago:20241211T235900
DTSTAMP:20260423T191556
CREATED:20250715T154013Z
LAST-MODIFIED:20250715T154013Z
UID:39561-1733941800-1733961540@finis.cl
SUMMARY:Conferencia: “Los relatores de los olvidos”
DESCRIPTION:El Magíster en Proyecto Contemporáneo  invita a la conferencia “Los relatores de los olvidos” que dictará el reconocido arquitecto español Federico Soriano. \nLa conferencia tratará sobre las experiencias proyectuales del arquitecto\, desarrollados con su oficina\, Soriano & Asociados. \nLugar: Auditorio AOA\, Juan de Dios Vial Correa 1351\, Providencia \nInscripciones ACÁ
URL:https://finis.cl/agenda/conferencia-los-relatores-de-los-olvidos/
CATEGORIES:Facultad de Arquitectura, Diseño y Estudios Creativos
END:VEVENT
END:VCALENDAR