BEGIN:VCALENDAR
VERSION:2.0
PRODID:-//Universidad Finis Terrae - ECPv6.15.17.1//NONSGML v1.0//EN
CALSCALE:GREGORIAN
METHOD:PUBLISH
X-ORIGINAL-URL:https://finis.cl
X-WR-CALDESC:Eventos para Universidad Finis Terrae
REFRESH-INTERVAL;VALUE=DURATION:PT1H
X-Robots-Tag:noindex
X-PUBLISHED-TTL:PT1H
BEGIN:VTIMEZONE
TZID:America/Santiago
BEGIN:STANDARD
TZOFFSETFROM:-0300
TZOFFSETTO:-0400
TZNAME:-04
DTSTART:20230402T030000
END:STANDARD
BEGIN:DAYLIGHT
TZOFFSETFROM:-0400
TZOFFSETTO:-0300
TZNAME:-03
DTSTART:20230903T040000
END:DAYLIGHT
BEGIN:STANDARD
TZOFFSETFROM:-0300
TZOFFSETTO:-0400
TZNAME:-04
DTSTART:20240407T030000
END:STANDARD
BEGIN:DAYLIGHT
TZOFFSETFROM:-0400
TZOFFSETTO:-0300
TZNAME:-03
DTSTART:20240908T040000
END:DAYLIGHT
BEGIN:STANDARD
TZOFFSETFROM:-0300
TZOFFSETTO:-0400
TZNAME:-04
DTSTART:20250406T030000
END:STANDARD
BEGIN:DAYLIGHT
TZOFFSETFROM:-0400
TZOFFSETTO:-0300
TZNAME:-03
DTSTART:20250907T040000
END:DAYLIGHT
END:VTIMEZONE
BEGIN:VEVENT
DTSTART;TZID=America/Santiago:20241022T123000
DTEND;TZID=America/Santiago:20241022T235900
DTSTAMP:20260423T223141
CREATED:20250715T154103Z
LAST-MODIFIED:20260331T193657Z
UID:39626-1729600200-1729641540@finis.cl
SUMMARY:XV Diálogos de Escuelas: “La enseñanza de la arquitectura”
DESCRIPTION:La Escuela de Arquitectura los invita al XV Diálogos de Escuelas: La enseñanza de la arquitectura: “Arquitectura y creación artística. La obra como manifiesto ¿Ética del autor y/o compromiso con el contexto?”. \nEn esta nueva sesión del ciclo\,  se abordará la enseñanza desde el arte y sus expresiones en arquitectura\, considerando cómo se pueden enseñar valores éticos y la responsabilidad social que recae en la obra a los estudiantes\, incluyendo temas como justicia\, equidad\, accesibilidad\, responsabilidad hacia las comunidades y el medio ambiente. \nInvitados: Álvaro Parraguez\, docente UDD; Sebastián Valois\, docente Campus Creativo UNAB y Macarena Urzúa\, docente de Arquitectura Finis Terrae.
URL:https://finis.cl/agenda/xv-dialogos-de-escuelas-la-ensenanza-de-la-arquitectura/
CATEGORIES:Ciclos,Facultad de Arquitectura, Diseño y Estudios Creativos
END:VEVENT
END:VCALENDAR