BEGIN:VCALENDAR
VERSION:2.0
PRODID:-//Universidad Finis Terrae - ECPv6.15.17.1//NONSGML v1.0//EN
CALSCALE:GREGORIAN
METHOD:PUBLISH
X-ORIGINAL-URL:https://finis.cl
X-WR-CALDESC:Eventos para Universidad Finis Terrae
REFRESH-INTERVAL;VALUE=DURATION:PT1H
X-Robots-Tag:noindex
X-PUBLISHED-TTL:PT1H
BEGIN:VTIMEZONE
TZID:America/Santiago
BEGIN:STANDARD
TZOFFSETFROM:-0300
TZOFFSETTO:-0400
TZNAME:-04
DTSTART:20230402T030000
END:STANDARD
BEGIN:DAYLIGHT
TZOFFSETFROM:-0400
TZOFFSETTO:-0300
TZNAME:-03
DTSTART:20230903T040000
END:DAYLIGHT
BEGIN:STANDARD
TZOFFSETFROM:-0300
TZOFFSETTO:-0400
TZNAME:-04
DTSTART:20240407T030000
END:STANDARD
BEGIN:DAYLIGHT
TZOFFSETFROM:-0400
TZOFFSETTO:-0300
TZNAME:-03
DTSTART:20240908T040000
END:DAYLIGHT
BEGIN:STANDARD
TZOFFSETFROM:-0300
TZOFFSETTO:-0400
TZNAME:-04
DTSTART:20250406T030000
END:STANDARD
BEGIN:DAYLIGHT
TZOFFSETFROM:-0400
TZOFFSETTO:-0300
TZNAME:-03
DTSTART:20250907T040000
END:DAYLIGHT
END:VTIMEZONE
BEGIN:VEVENT
DTSTART;TZID=America/Santiago:20240619T093000
DTEND;TZID=America/Santiago:20240619T235900
DTSTAMP:20260424T034755
CREATED:20250715T154452Z
LAST-MODIFIED:20250715T154452Z
UID:39817-1718789400-1718841540@finis.cl
SUMMARY:Encuentro Informativo Magíster en Proyecto Contemporáneo
DESCRIPTION:La Dirección de Postgrados y Educación Continua de la Facultad de Arquitectura\, Diseño y Estudios Creativos invita a participar de un encuentro informativo del Magíster en Proyecto Contemporáneo. \nGonzalo Carrasco\, director académico del Magíster\, dará a conocer el contenido y alcances del Programa\, cuerpo docente\, procesos de postulación y otros en una conversación online con los participantes. \nINSCRIPCIONES ACÁ.
URL:https://finis.cl/agenda/encuentro-informativo-magister-en-proyecto-contemporaneo/
CATEGORIES:Facultad de Arquitectura, Diseño y Estudios Creativos
END:VEVENT
BEGIN:VEVENT
DTSTART;TZID=America/Santiago:20240619T183000
DTEND;TZID=America/Santiago:20240619T235900
DTSTAMP:20260424T034755
CREATED:20250715T154451Z
LAST-MODIFIED:20250715T154451Z
UID:39816-1718821800-1718841540@finis.cl
SUMMARY:Encuentro informativo Diplomado Diseño y Producción experimental textil
DESCRIPTION:La Dirección de Postgrados y Educación Continua de la Facultad de Arquitectura\, Diseño y Estudios Creativos  invita a participar de un encuentro informativo del Diplomado en Diseño y Producción Experimental Textil. \nEn conversación con la directora Académica del Programa\, Paulina Romero\, los participantes podrán conocer sus alcances\, técnicas desde lo análogo a lo contemporáneo\, entre otros temas relevantes del diplomado y por sobre todo los trabajos realizados en versiones anteriores. \nINSCRIPCIONES ACÁ.
URL:https://finis.cl/agenda/encuentro-informativo-diplomado-diseno-y-produccion-experimental-textil/
CATEGORIES:Facultad de Arquitectura, Diseño y Estudios Creativos
END:VEVENT
END:VCALENDAR