BEGIN:VCALENDAR
VERSION:2.0
PRODID:-//Universidad Finis Terrae - ECPv6.15.17.1//NONSGML v1.0//EN
CALSCALE:GREGORIAN
METHOD:PUBLISH
X-ORIGINAL-URL:https://finis.cl
X-WR-CALDESC:Eventos para Universidad Finis Terrae
REFRESH-INTERVAL;VALUE=DURATION:PT1H
X-Robots-Tag:noindex
X-PUBLISHED-TTL:PT1H
BEGIN:VTIMEZONE
TZID:America/Santiago
BEGIN:STANDARD
TZOFFSETFROM:-0300
TZOFFSETTO:-0400
TZNAME:-04
DTSTART:20250406T030000
END:STANDARD
BEGIN:DAYLIGHT
TZOFFSETFROM:-0400
TZOFFSETTO:-0300
TZNAME:-03
DTSTART:20250907T040000
END:DAYLIGHT
BEGIN:STANDARD
TZOFFSETFROM:-0300
TZOFFSETTO:-0400
TZNAME:-04
DTSTART:20260405T030000
END:STANDARD
BEGIN:DAYLIGHT
TZOFFSETFROM:-0400
TZOFFSETTO:-0300
TZNAME:-03
DTSTART:20260906T040000
END:DAYLIGHT
BEGIN:STANDARD
TZOFFSETFROM:-0300
TZOFFSETTO:-0400
TZNAME:-04
DTSTART:20270404T030000
END:STANDARD
BEGIN:DAYLIGHT
TZOFFSETFROM:-0400
TZOFFSETTO:-0300
TZNAME:-03
DTSTART:20270905T040000
END:DAYLIGHT
END:VTIMEZONE
BEGIN:VEVENT
DTSTART;TZID=America/Santiago:20260326T183000
DTEND;TZID=America/Santiago:20260326T193000
DTSTAMP:20260422T163718
CREATED:20260129T192157Z
LAST-MODIFIED:20260331T193643Z
UID:49599-1774549800-1774553400@finis.cl
SUMMARY:Club de Collage
DESCRIPTION:¿Te gustaría explorar tu creatividad y ser parte de una comunidad visual? Parte el segundo ciclo del Club de Collage\, un espacio mensual para experimentar con imágenes\, imaginación y composición. El ciclo culminará con la donación colectiva de obras al Archivo Nacional de Collage en la Biblioteca Nacional. \nÚltimo jueves de cada mes de 18:30 a 21:00 hrs. en Universidad Finis Terrae (Av. Pedro de Valdivia 1509\, Providencia\, Santiago) \nEXPONEN: \nLos propios participantes actúan como expositores\, proponiendo y desarrollando las temáticas mes a mes. La actividad no contempla invitados externos fijos\, fortaleciendo su carácter colaborativo y horizontal. \nValor público general: $50.000 – Pago único por todo el 2º ciclo (hasta julio 2026)\nValor funcionarios o académicos U. Finis Terrae: $25.000 – Pago único por todo el 2º ciclo (hasta julio 2026)\nValor estudiantes U. Finis Terrae: $10.000 – Pago único por todo el 2º ciclo (hasta julio 2026) \n(Incluye kit de inicio + coffee break + publicación de un libro que recopila los diversos trabajos realizados en el Club) \nInformación en: publicidad@uft.cl \nINSCRIPCIONES ACÁ
URL:https://finis.cl/agenda/club-de-collage-2/
LOCATION:Sala Cowork
CATEGORIES:Ciclos,Facultad de Arquitectura, Diseño y Estudios Creativos,Publicidad
ATTACH;FMTTYPE=image/jpeg:https://finis.cl/wp-content/uploads/2025/07/Plantillas-fotos-agenda-17.jpg
END:VEVENT
BEGIN:VEVENT
DTSTART;TZID=America/Santiago:20260327T110000
DTEND;TZID=America/Santiago:20260327T120000
DTSTAMP:20260422T163718
CREATED:20260323T183242Z
LAST-MODIFIED:20260331T193641Z
UID:50729-1774609200-1774612800@finis.cl
SUMMARY:Archivisioni
DESCRIPTION:Archivisioni\, es un ciclo de charlas internacionales que busca conectar la arquitectura local con miradas contemporáneas desde Italia. \nEsta iniciativa propone abrir la conversación sobre el ejercicio profesional actual\, vinculando a estudiantes con jóvenes arquitectos y arquitectas que hoy están desarrollando su práctica. A través de sus proyectos y experiencias\, se abordan temas como los encargos reales\, la toma de decisiones en el proceso de diseño y los desafíos de la inserción laboral en arquitectura. \nLa primera sesión contará con la participación de Filippo Ferro\, quien presentará la charla “Más allá del proyecto”\, donde aborda la profesión del joven arquitecto como una exploración continua entre el diseño arquitectónico\, la docencia y la divulgación. Su trabajo\, enfocado en arquitectura sostenible y en la recuperación del patrimonio industrial y paisajístico\, permite conocer cómo estos enfoques se desarrollan en la práctica profesional actual. \n\nLa actividad está dirigida a estudiantes de último año\, pero también está abierta a alumnos y alumnas de otros niveles interesados en participar.
URL:https://finis.cl/agenda/archivisioni/
LOCATION:Sala B601
CATEGORIES:Arquitectura,Ciclos,Diseño,Facultad de Arquitectura, Diseño y Estudios Creativos
ATTACH;FMTTYPE=image/jpeg:https://finis.cl/wp-content/uploads/2026/03/Agenda-web-26.jpg
END:VEVENT
END:VCALENDAR