BEGIN:VCALENDAR
VERSION:2.0
PRODID:-//Universidad Finis Terrae - ECPv6.15.17.1//NONSGML v1.0//EN
CALSCALE:GREGORIAN
METHOD:PUBLISH
X-ORIGINAL-URL:https://finis.cl
X-WR-CALDESC:Eventos para Universidad Finis Terrae
REFRESH-INTERVAL;VALUE=DURATION:PT1H
X-Robots-Tag:noindex
X-PUBLISHED-TTL:PT1H
BEGIN:VTIMEZONE
TZID:America/Santiago
BEGIN:STANDARD
TZOFFSETFROM:-0300
TZOFFSETTO:-0400
TZNAME:-04
DTSTART:20240407T030000
END:STANDARD
BEGIN:DAYLIGHT
TZOFFSETFROM:-0400
TZOFFSETTO:-0300
TZNAME:-03
DTSTART:20240908T040000
END:DAYLIGHT
BEGIN:STANDARD
TZOFFSETFROM:-0300
TZOFFSETTO:-0400
TZNAME:-04
DTSTART:20250406T030000
END:STANDARD
BEGIN:DAYLIGHT
TZOFFSETFROM:-0400
TZOFFSETTO:-0300
TZNAME:-03
DTSTART:20250907T040000
END:DAYLIGHT
BEGIN:STANDARD
TZOFFSETFROM:-0300
TZOFFSETTO:-0400
TZNAME:-04
DTSTART:20260405T030000
END:STANDARD
BEGIN:DAYLIGHT
TZOFFSETFROM:-0400
TZOFFSETTO:-0300
TZNAME:-03
DTSTART:20260906T040000
END:DAYLIGHT
END:VTIMEZONE
BEGIN:VEVENT
DTSTART;TZID=America/Santiago:20251104T163000
DTEND;TZID=America/Santiago:20251104T173000
DTSTAMP:20260422T233426
CREATED:20251028T202032Z
LAST-MODIFIED:20251028T212516Z
UID:45397-1762273800-1762277400@finis.cl
SUMMARY:Diseño\, arte y sostenibilidad: nuevas miradas desde la Escuela de Artes y Diseño de la Universidad de Limerick
DESCRIPTION:¿Cómo puede el arte y el diseño impulsar un futuro más sostenible? Tres académicos de la Limerick School of Art & Design compartirán en la Universidad Finis Terrae sus experiencias e investigaciones sobre la relación entre creatividad\, patrimonio e innovación sustentable. \nEsta charla\, organizada por la U. Finis Terrae junto a la Embajada de Irlanda en Chile\, abre un espacio de diálogo para explorar cómo la creación contemporánea puede transformar nuestra forma de habitar y cuidar el entorno. \nExpone:\n\nDra. Caoimhe Dowling: Diseñadora de Moda y Textil\, PhD (c) en Sostenibilidad Limerick School of Art and Design (LSAD)\nDr. Adam De Eyto: Head of Design Department Limerick School of Art and Design (LSAD)\nDra. Ciara Healy: Head of Art & Education Department Limerick School of Art and Design (LSAD)\n\nOrganiza:\n\nFacultad de Arquitectura\, Diseño y Estudios Creativos U. Finis Terrae.\nDirección de Relaciones Internacionales U. Finis Terrae.\nEmbajada de Irlanda en Chile.
URL:https://finis.cl/agenda/diseno-arte-y-sostenibilidad-nuevas-miradas-desde-la-escuela-de-artes-y-diseno-de-la-universidad-de-limerick/
LOCATION:Auditorio B201
CATEGORIES:Arquitectura,Estudiantes,Facultad de Arquitectura, Diseño y Estudios Creativos,Internacional,U. Finis Terrae,Universidad
ATTACH;FMTTYPE=image/jpeg:https://finis.cl/wp-content/uploads/2025/10/Agenda-web-2025-10-28T172009.264.jpg
END:VEVENT
BEGIN:VEVENT
DTSTART;TZID=America/Santiago:20251107T100000
DTEND;TZID=America/Santiago:20251107T110000
DTSTAMP:20260422T233426
CREATED:20251023T185233Z
LAST-MODIFIED:20251024T133036Z
UID:45224-1762509600-1762513200@finis.cl
SUMMARY:Charla: "Lo que no se puede nombrar"
DESCRIPTION:El Magíster en Proyecto Contemporáneo de la Facultad de Arquitectura\, Diseño y Estudios Creativos realizará la charla online “Lo que no se puede nombrar”\, dictada por Evelyn Alondo Rhner\, arquitecta de la Universidad de Westminster\, profesora de la Escuela de Arquitectura de Gran Canaria e investigadora de reconocido prestigio en temas de territorios de agua. \nEsta charla-conversatorio se dará en el marco del curso del docente Tomás García.
URL:https://finis.cl/agenda/charla-lo-que-no-se-puede-nombrar/
LOCATION:Online
CATEGORIES:Estudiantes,Facultad de Arquitectura, Diseño y Estudios Creativos,Universidad
ATTACH;FMTTYPE=image/jpeg:https://finis.cl/wp-content/uploads/2025/10/Agenda-web-2025-10-23T155112.178.jpg
END:VEVENT
BEGIN:VEVENT
DTSTART;TZID=America/Santiago:20251108T110000
DTEND;TZID=America/Santiago:20251108T130000
DTSTAMP:20260422T233426
CREATED:20251028T211842Z
LAST-MODIFIED:20251028T211842Z
UID:45412-1762599600-1762606800@finis.cl
SUMMARY:Atravieso Urbano: Barrio Huemul
DESCRIPTION:La Escuela de Arquitectura invita al Atravieso Urbano “BARRIO HUEMUL – VESTIGIOS DE UNA POBLACIÓN MODELO “\, guiado por el arquitecto e instructor Víctor Lachira\, quien además es habitante del sector. \nPunto de encuentro: Salida metro Franklin L2 – L6.
URL:https://finis.cl/agenda/atravieso-urbano-barrio-huemul/
CATEGORIES:Arquitectura,Estudiantes,Facultad de Arquitectura, Diseño y Estudios Creativos,Funcionarios,Universidad
ATTACH;FMTTYPE=image/jpeg:https://finis.cl/wp-content/uploads/2025/10/Agenda-web-2025-10-28T181748.334.jpg
END:VEVENT
BEGIN:VEVENT
DTSTART;TZID=America/Santiago:20251112T135000
DTEND;TZID=America/Santiago:20251112T150000
DTSTAMP:20260422T233426
CREATED:20251105T190110Z
LAST-MODIFIED:20251105T190110Z
UID:45688-1762955400-1762959600@finis.cl
SUMMARY:Doble exposición: La Bienal como espacio de aprendizaje crítico
DESCRIPTION:La Escuela de Arquitectura invita a este conversatorio\, una instancia en que dialogaremos sobre el proceso de curatoría\, el rol público y las conclusiones de la XXIII Bienal de Arquitectura y Urbanismo de Chile. \nEn esta actividad\, contaremos con la presencia de los curadores Óscar Aceves\, Sebastián López y Ángela Carvajal; el coordinador del área de Arquitectura del Ministerio de las Culturas\, las Artes y el Patrimonio\, Cristóbal Molina; y la Directora de la Escuela de Arquitectura Finis Terrae\, Anita Puig. \n\nModera:\n\nFrancisca Pulido\, académica de la Facultad de Arquitectura\, Diseño y Estudios Creativos. \n\nInscripciones ACÁ 
URL:https://finis.cl/agenda/doble-exposicion-la-bienal-como-espacio-de-aprendizaje-critico/
LOCATION:Sala Cowork
CATEGORIES:Arquitectura,Comunidad Finis Terrae,Estudiantes,Facultad de Arquitectura, Diseño y Estudios Creativos
ATTACH;FMTTYPE=image/jpeg:https://finis.cl/wp-content/uploads/2025/11/Agenda-web-2025-11-05T155941.898.jpg
END:VEVENT
BEGIN:VEVENT
DTSTART;TZID=America/Santiago:20251115T173000
DTEND;TZID=America/Santiago:20251115T183000
DTSTAMP:20260422T233426
CREATED:20251021T190044Z
LAST-MODIFIED:20251105T190551Z
UID:45081-1763227800-1763231400@finis.cl
SUMMARY:Performance en el GAM: “Proyecto pixel plata”
DESCRIPTION:En el contexto del Mes del Diseño 2025\, las carreras de Diseño de Moda & Management e Ingeniería Civil en Inteligencia Artificial y Realidad Virtual realizarán la perfomance interdisciplinar “Proyecto pixel plata”. \nLa actividad- en la que participan estudiantes de Diseño de Moda & Management- propone un cruce entre la llamada “edad plateada” —la generación nacida entre 1957 y 1980— y la cultura visual de los primeros videojuegos digitales (Atari\, Pong\, Space Invaders). Esta generación nace en un momento histórico en que el píxel emerge como unidad mínima de la representación tecnológica\, inaugurando una nueva sensibilidad mediada por la pantalla. \nEsta performance muestra cómo la edad plateada encarna la transición: cuerpos que recuerdan la linealidad del tiempo\, pero que se reescriben como mosaico digital\, capaces de articular memoria y futuro.
URL:https://finis.cl/agenda/performance-en-el-gam-proyecto-pixel-plata/
LOCATION:Sala 1\, Centro Cultural Gabriela Mistral\, Av. Libertador Bernardo O'Higgins 227\, Santiago
CATEGORIES:Diseño,Estudiantes,Facultad de Arquitectura, Diseño y Estudios Creativos,Universidad,Vicerrectoría Vinculación con el Medio,Vinculación con el Medio
ATTACH;FMTTYPE=image/jpeg:https://finis.cl/wp-content/uploads/2025/10/Agenda-web-2025-11-05T160522.385.jpg
END:VEVENT
BEGIN:VEVENT
DTSTART;TZID=America/Santiago:20251120T183000
DTEND;TZID=America/Santiago:20251120T193000
DTSTAMP:20260422T233426
CREATED:20251120T165737Z
LAST-MODIFIED:20251120T165737Z
UID:46659-1763663400-1763667000@finis.cl
SUMMARY:Presentación innovación pedagógica y Workshop “Figuras de acción coleccionables; juguetes para el aprendizaje”
DESCRIPTION:El proyecto de innovación tecnológica  “Figuras de acción coleccionables; juguetes para el aprendizaje” surge de un estudio de diversos planteamientos de la comunicación\, la imagen\, la materialidad y la creatividad\, detectando una oportunidad\, en torno a una manera de aprender y transmitir el conocimiento\, que integra perspectivas\, conceptos\, referentes y metodologías desde un enfoque interdisciplinario. A través de novedosos formatos\, se potenciará el aprendizaje de conceptos e hitos de la publicidad y del diseño\, vinculados con los contextos históricos en los que fueron producidos. \nEl resultado de esta iniciativa son figuras de acción que hacen referencia a campañas publicitarias y a logotipos y tipografías del diseño. Estos explican el origen\, características visuales y semióticas de estas piezas gráficas\, que se han constituido como referentes de sus respectivas disciplinas. \nSe repartirán 300 figuras de acción entre los asistentes. \nPosterior a la presentación\, se realizará un workshop de creación de un juguete coleccionable.\nCupos limitados con inscripción previa ACÁ
URL:https://finis.cl/agenda/presentacion-innovacion-pedagogica-y-workshop-figuras-de-accion-coleccionables-juguetes-para-el-aprendizaje/
LOCATION:Sala Cowork
CATEGORIES:Arquitectura,Comunidad Finis Terrae,Diseño,Facultad de Arquitectura, Diseño y Estudios Creativos,Publicidad
ATTACH;FMTTYPE=image/jpeg:https://finis.cl/wp-content/uploads/2025/11/Agenda-web-2025-11-12T155423.119.jpg
END:VEVENT
BEGIN:VEVENT
DTSTART;TZID=America/Santiago:20251122T100000
DTEND;TZID=America/Santiago:20251123T160000
DTSTAMP:20260422T233426
CREATED:20251028T200224Z
LAST-MODIFIED:20251105T185546Z
UID:45357-1763805600-1763913600@finis.cl
SUMMARY:Pantone
DESCRIPTION:Instalación en la nave central de la Iglesia La Viñita\, de la comuna de Recoleta\, diseñada por siglo22 Arquitectos (docentes Macarena Urzúa y Rodrigo Santa María\, de la FAD). \nTambién se realizarán dos talleres de maquetas pop up abiertos a la comunidad\, por parte de los docentes y estudiantes\, además de la instructora Jael Rodríguez) del ramo Intersecciones de la Escuela de Arquitectura (cupos limitados). \nEsta actividad cuenta con la colaboración de la Municipalidad de Recoleta y Fundación Paternitas. \n\nIntervención: sábado 22 y domingo 23 de noviembre\, 10.00 a 16.00 horas. (sin inscripción).\nTalleres: sábado 22 y domingo 23 de noviembre\, 12.00 hrs. Inscripciones en el formulario.
URL:https://finis.cl/agenda/pantone/
LOCATION:Iglesia la Viñita\, Av. Recoleta 890
CATEGORIES:Arquitectura,Facultad de Arquitectura, Diseño y Estudios Creativos
ATTACH;FMTTYPE=image/jpeg:https://finis.cl/wp-content/uploads/2025/10/Agenda-web-12.jpg
END:VEVENT
BEGIN:VEVENT
DTSTART;TZID=America/Santiago:20251122T183000
DTEND;TZID=America/Santiago:20251122T193000
DTSTAMP:20260422T233426
CREATED:20251120T164800Z
LAST-MODIFIED:20251120T164800Z
UID:46655-1763836200-1763839800@finis.cl
SUMMARY:Lanzamiento libro "Coherencia/Incoherencia" de Fabián Barros
DESCRIPTION:En el marco de la Feria Internacional del Libro de Santiago (FILSA) 2025\, se lanzará Coherencia/incoherencia\, obra del doctor arquitecto Fabián Barros D.\, decano de la Facultad de Arquitectura\, Diseño y Estudios Creativos de la Universidad Finis Terrae. En una época marcada por la fragmentación y la pérdida de referentes\, el libro invita a una reflexión radical sobre el sentido de la arquitectura y del proyecto arquitectónico. \nEl libro dialoga con arquitectos de referencia como Le Corbusier\, Mies van der Rohe y Aldo Rossi\, y con figuras influyentes del pensamiento moderno como Theodor W. Adorno\, Jürgen Habermas y Hannah Arendt\, para sostener que la verdad arquitectónica se juega en la capacidad de cada obra para articular partes y totalidad\, razón y belleza. Con rigor crítico y prosa clara\, Barros desafía las aproximaciones simplistas y seatreve a pensar el proyecto como un acto de responsabilidad hacia el presente y el futuro. \nCoherencia/Incoherencia es\, a la vez\, una herramienta de reflexión para arquitectos\, un manifiesto intelectual y una invitación a repensar el lugar de la verdad\, la bondad y la belleza en toda práctica creativa.
URL:https://finis.cl/agenda/lanzamiento-libro-coherencia-incoherencia-de-fabian-barros/
LOCATION:Centro Cultural Estación Mapocho
CATEGORIES:Arquitectura,Diseño,Ediciones Universidad Finis Terrae,Facultad de Arquitectura, Diseño y Estudios Creativos,Vinculación con el Medio
ATTACH;FMTTYPE=image/jpeg:https://finis.cl/wp-content/uploads/2025/11/Agenda-web-2025-11-12T163734.966.jpg
END:VEVENT
END:VCALENDAR