BEGIN:VCALENDAR
VERSION:2.0
PRODID:-//Universidad Finis Terrae - ECPv6.15.17.1//NONSGML v1.0//EN
CALSCALE:GREGORIAN
METHOD:PUBLISH
X-ORIGINAL-URL:https://finis.cl
X-WR-CALDESC:Eventos para Universidad Finis Terrae
REFRESH-INTERVAL;VALUE=DURATION:PT1H
X-Robots-Tag:noindex
X-PUBLISHED-TTL:PT1H
BEGIN:VTIMEZONE
TZID:America/Santiago
BEGIN:STANDARD
TZOFFSETFROM:-0300
TZOFFSETTO:-0400
TZNAME:-04
DTSTART:20230402T030000
END:STANDARD
BEGIN:DAYLIGHT
TZOFFSETFROM:-0400
TZOFFSETTO:-0300
TZNAME:-03
DTSTART:20230903T040000
END:DAYLIGHT
BEGIN:STANDARD
TZOFFSETFROM:-0300
TZOFFSETTO:-0400
TZNAME:-04
DTSTART:20240407T030000
END:STANDARD
BEGIN:DAYLIGHT
TZOFFSETFROM:-0400
TZOFFSETTO:-0300
TZNAME:-03
DTSTART:20240908T040000
END:DAYLIGHT
BEGIN:STANDARD
TZOFFSETFROM:-0300
TZOFFSETTO:-0400
TZNAME:-04
DTSTART:20250406T030000
END:STANDARD
BEGIN:DAYLIGHT
TZOFFSETFROM:-0400
TZOFFSETTO:-0300
TZNAME:-03
DTSTART:20250907T040000
END:DAYLIGHT
END:VTIMEZONE
BEGIN:VEVENT
DTSTART;TZID=America/Santiago:20241203T180000
DTEND;TZID=America/Santiago:20241203T235900
DTSTAMP:20260423T173359
CREATED:20250715T154026Z
LAST-MODIFIED:20260331T193657Z
UID:39585-1733248800-1733270340@finis.cl
SUMMARY:Mes del Diseño en la Finis
DESCRIPTION:El Área de Diseño del Ministerio de las Artes\, la Cultura y el Patrimonio\, ya dio inicio al #MesDelDiseño\, en el que la Escuela de Diseño Finis Terrae se hará parte con 3 actividades: \n1 – “Diseño y modernidad en Chile”\, es un ciclo de conversatorios que busca poner en relevancia y actualizar los temas de fondo de la exposición “Crafting Modernity: Design in Latin America\, 1940–1980” actualmente en exhibición en el Museo de Arte Moderno en Nueva York. Se trata de dos mesas donde se profundiza en temas específicos\, a partir de la exposición. \nFecha 1: Jueves 7 de noviembre\nHora: 18:00 hrs.\nLugar: Hall FAD \nFecha 2: Viernes 8 de noviembre\nHora: 12:00 hrs.\nLugar: Aula 2 FAD. \n2 – “Territorio Internacional del Diseño”\, conversación con Marcos Altgelt y Tasio Picollo\, socios del estudio RIES de Buenos Aires\, en torno a la cultura del diseño y la experiencia de los viajes de estudio de la Escuela. \nFecha: Viernes 15 de noviembre\nHora: 11:00 hrs.\nLugar: Sala Cowork \n3 – Charla “Tras el oficio + rigor”\, dictada por el académico Julián Naranjo. \nFecha: Martes 3 de diciembre\nHora: 18:00 hrs.\nLugar: Sala Cowork
URL:https://finis.cl/agenda/mes-del-diseno-en-la-finis/
CATEGORIES:Admisión,Ciclos,Facultad de Arquitectura, Diseño y Estudios Creativos
END:VEVENT
BEGIN:VEVENT
DTSTART;TZID=America/Santiago:20241211T183000
DTEND;TZID=America/Santiago:20241211T235900
DTSTAMP:20260423T173359
CREATED:20250715T154013Z
LAST-MODIFIED:20250715T154013Z
UID:39561-1733941800-1733961540@finis.cl
SUMMARY:Conferencia: “Los relatores de los olvidos”
DESCRIPTION:El Magíster en Proyecto Contemporáneo  invita a la conferencia “Los relatores de los olvidos” que dictará el reconocido arquitecto español Federico Soriano. \nLa conferencia tratará sobre las experiencias proyectuales del arquitecto\, desarrollados con su oficina\, Soriano & Asociados. \nLugar: Auditorio AOA\, Juan de Dios Vial Correa 1351\, Providencia \nInscripciones ACÁ
URL:https://finis.cl/agenda/conferencia-los-relatores-de-los-olvidos/
CATEGORIES:Facultad de Arquitectura, Diseño y Estudios Creativos
END:VEVENT
BEGIN:VEVENT
DTSTART;TZID=America/Santiago:20241213T130000
DTEND;TZID=America/Santiago:20241213T235900
DTSTAMP:20260423T173359
CREATED:20250715T153912Z
LAST-MODIFIED:20250715T153912Z
UID:39541-1734094800-1734134340@finis.cl
SUMMARY:Exposición: “Habitar la línea”
DESCRIPTION:La Escuela de Arquitectura invita a la inauguración de “Habitar la línea”\, muestra de los resultados finales de los cursos y talleres de la Escuela.\n\nLa exposición estará abierta hasta el 9 de enero.\n\nLugar: Patio Odontología\, Casa Central Finis Terrae.
URL:https://finis.cl/agenda/exposicion-habitar-la-linea/
CATEGORIES:Facultad de Arquitectura, Diseño y Estudios Creativos
END:VEVENT
BEGIN:VEVENT
DTSTART;TZID=America/Santiago:20241216T183000
DTEND;TZID=America/Santiago:20241216T235900
DTSTAMP:20260423T173359
CREATED:20250715T153912Z
LAST-MODIFIED:20250715T153912Z
UID:39540-1734373800-1734393540@finis.cl
SUMMARY:Exposición: “Aplicación proyectual”
DESCRIPTION:El Diplomado Diseño y Producción experimental textil los invita a la exposición “Aplicación proyectual”\, donde se exhibirán los resultados finales del Programa y se explicarán los procesos creativos\, técnicas utilizadas y objetivos y campos de desarrollo del diplomado. \nEl evento se realizará el lunes 16 de diciembre a las 18.30 hrs. en la Facultad de Arquitectura\, Diseño y Estudios Creativos de la Universidad Finis Terrae\, ubicada en Pedro de Valdivia 1224\, Providencia. \nINSCRIPCIONES ACÁ
URL:https://finis.cl/agenda/exposicion-aplicacion-proyectual/
CATEGORIES:Facultad de Arquitectura, Diseño y Estudios Creativos
END:VEVENT
END:VCALENDAR