BEGIN:VCALENDAR
VERSION:2.0
PRODID:-//Universidad Finis Terrae - ECPv6.15.17.1//NONSGML v1.0//EN
CALSCALE:GREGORIAN
METHOD:PUBLISH
X-WR-CALNAME:Universidad Finis Terrae
X-ORIGINAL-URL:https://finis.cl
X-WR-CALDESC:Eventos para Universidad Finis Terrae
REFRESH-INTERVAL;VALUE=DURATION:PT1H
X-Robots-Tag:noindex
X-PUBLISHED-TTL:PT1H
BEGIN:VTIMEZONE
TZID:America/Santiago
BEGIN:STANDARD
TZOFFSETFROM:-0300
TZOFFSETTO:-0400
TZNAME:-04
DTSTART:20230402T030000
END:STANDARD
BEGIN:DAYLIGHT
TZOFFSETFROM:-0400
TZOFFSETTO:-0300
TZNAME:-03
DTSTART:20230903T040000
END:DAYLIGHT
BEGIN:STANDARD
TZOFFSETFROM:-0300
TZOFFSETTO:-0400
TZNAME:-04
DTSTART:20240407T030000
END:STANDARD
BEGIN:DAYLIGHT
TZOFFSETFROM:-0400
TZOFFSETTO:-0300
TZNAME:-03
DTSTART:20240908T040000
END:DAYLIGHT
BEGIN:STANDARD
TZOFFSETFROM:-0300
TZOFFSETTO:-0400
TZNAME:-04
DTSTART:20250406T030000
END:STANDARD
BEGIN:DAYLIGHT
TZOFFSETFROM:-0400
TZOFFSETTO:-0300
TZNAME:-03
DTSTART:20250907T040000
END:DAYLIGHT
END:VTIMEZONE
BEGIN:VEVENT
DTSTART;TZID=America/Santiago:20241001T130000
DTEND;TZID=America/Santiago:20241001T235900
DTSTAMP:20260423T210623
CREATED:20250715T154200Z
LAST-MODIFIED:20250715T154200Z
UID:39664-1727787600-1727827140@finis.cl
SUMMARY:XIV Diálogos de Escuelas: “La enseñanza de la arquitectura”
DESCRIPTION:La Escuela de Arquitectura  invita al XIV Diálogos de Escuelas_la enseñanza de la arquitectura: “Ciudad sobre ciudad. ¿El legado de lo que hacemos\, permanece?”\, donde la conversación girará en torno al patrimonio y regeneración urbana en la educación arquitectónica\, analizando la importancia de reconstruir y construir patrimonio arquitectónico\, integrar el estudio y la práctica de la regeneración en los programas educativos de arquitectura. \nLos invitados serán Daniela Muñoz\, profesora de la FAU; Cristián Robertson\, docente de la PUC y Daniela Alonso\, docente de Arquitectura Finis Terrae.
URL:https://finis.cl/agenda/xiv-dialogos-de-escuelas-la-ensenanza-de-la-arquitectura/
CATEGORIES:Facultad de Arquitectura, Diseño y Estudios Creativos
END:VEVENT
BEGIN:VEVENT
DTSTART;TZID=America/Santiago:20241022T123000
DTEND;TZID=America/Santiago:20241022T235900
DTSTAMP:20260423T210623
CREATED:20250715T154103Z
LAST-MODIFIED:20260331T193657Z
UID:39626-1729600200-1729641540@finis.cl
SUMMARY:XV Diálogos de Escuelas: “La enseñanza de la arquitectura”
DESCRIPTION:La Escuela de Arquitectura los invita al XV Diálogos de Escuelas: La enseñanza de la arquitectura: “Arquitectura y creación artística. La obra como manifiesto ¿Ética del autor y/o compromiso con el contexto?”. \nEn esta nueva sesión del ciclo\,  se abordará la enseñanza desde el arte y sus expresiones en arquitectura\, considerando cómo se pueden enseñar valores éticos y la responsabilidad social que recae en la obra a los estudiantes\, incluyendo temas como justicia\, equidad\, accesibilidad\, responsabilidad hacia las comunidades y el medio ambiente. \nInvitados: Álvaro Parraguez\, docente UDD; Sebastián Valois\, docente Campus Creativo UNAB y Macarena Urzúa\, docente de Arquitectura Finis Terrae.
URL:https://finis.cl/agenda/xv-dialogos-de-escuelas-la-ensenanza-de-la-arquitectura/
CATEGORIES:Ciclos,Facultad de Arquitectura, Diseño y Estudios Creativos
END:VEVENT
BEGIN:VEVENT
DTSTART;TZID=America/Santiago:20241024T000100
DTEND;TZID=America/Santiago:20241024T235900
DTSTAMP:20260423T210623
CREATED:20250715T154201Z
LAST-MODIFIED:20250715T154201Z
UID:39665-1729728060-1729814340@finis.cl
SUMMARY:Exposición: “La arquitectura de la Finis Terrae”
DESCRIPTION:Hasta el 24 de octubre se extendió esta exposición que se puede visitar en el segundo piso del MUT. La muestra reúne 35 obras construidas de arquitectura de ex alumnos de la Escuela de Arquitectura de la Universidad Finis Terrae. \nMercado Urbano de Tobalaba (MUT)\, ubicado en Av. Apoquindo 2730\, Las Condes.
URL:https://finis.cl/agenda/exposicion-la-arquitectura-de-la-finis-terrae/
CATEGORIES:Arquitectura,Facultad de Arquitectura, Diseño y Estudios Creativos
END:VEVENT
BEGIN:VEVENT
DTSTART;TZID=America/Santiago:20241025T140000
DTEND;TZID=America/Santiago:20241025T235900
DTSTAMP:20260423T210623
CREATED:20250715T154103Z
LAST-MODIFIED:20250715T154103Z
UID:39625-1729864800-1729900740@finis.cl
SUMMARY:Charla “Emilio Duhart: Modernismo en la Tierra del Océano\, 1940-1970”
DESCRIPTION:Evelyn Meynard\, historiadora\, investigadora y curadora chilena; Máster en Historia del Diseño y Estudios Curatoriales de la Parsons School of Design Máster en Investigación\, Escritura y Crítica del Diseño y la Arquitectura de la School of Visual Arts de Nueva York\, dictará  la charla  “Emilio Duhart: Modernismo en la Tierra del Océano\, 1940-1970″\, la cual  presenta -a partir de la investigación realizada por Meynard sobre la obra de Emilio Duhart Harosteguy (1917-2006)- el legado del arquitecto\, urbanista y académico chileno\, cuya obra contribuyó de manera fundamental al movimiento moderno en Chile y en América Latina.
URL:https://finis.cl/agenda/charla-emilio-duhart-modernismo-en-la-tierra-del-oceano-1940-1970-2/
CATEGORIES:Facultad de Arquitectura, Diseño y Estudios Creativos
END:VEVENT
END:VCALENDAR