BEGIN:VCALENDAR
VERSION:2.0
PRODID:-//Universidad Finis Terrae - ECPv6.15.17.1//NONSGML v1.0//EN
CALSCALE:GREGORIAN
METHOD:PUBLISH
X-ORIGINAL-URL:https://finis.cl
X-WR-CALDESC:Eventos para Universidad Finis Terrae
REFRESH-INTERVAL;VALUE=DURATION:PT1H
X-Robots-Tag:noindex
X-PUBLISHED-TTL:PT1H
BEGIN:VTIMEZONE
TZID:America/Santiago
BEGIN:STANDARD
TZOFFSETFROM:-0300
TZOFFSETTO:-0400
TZNAME:-04
DTSTART:20230402T030000
END:STANDARD
BEGIN:DAYLIGHT
TZOFFSETFROM:-0400
TZOFFSETTO:-0300
TZNAME:-03
DTSTART:20230903T040000
END:DAYLIGHT
BEGIN:STANDARD
TZOFFSETFROM:-0300
TZOFFSETTO:-0400
TZNAME:-04
DTSTART:20240407T030000
END:STANDARD
BEGIN:DAYLIGHT
TZOFFSETFROM:-0400
TZOFFSETTO:-0300
TZNAME:-03
DTSTART:20240908T040000
END:DAYLIGHT
BEGIN:STANDARD
TZOFFSETFROM:-0300
TZOFFSETTO:-0400
TZNAME:-04
DTSTART:20250406T030000
END:STANDARD
BEGIN:DAYLIGHT
TZOFFSETFROM:-0400
TZOFFSETTO:-0300
TZNAME:-03
DTSTART:20250907T040000
END:DAYLIGHT
END:VTIMEZONE
BEGIN:VEVENT
DTSTART;TZID=America/Santiago:20240510T110000
DTEND;TZID=America/Santiago:20240510T235900
DTSTAMP:20260424T034654
CREATED:20250715T154551Z
LAST-MODIFIED:20250715T154551Z
UID:39899-1715338800-1715385540@finis.cl
SUMMARY:Seminario: “El proyecto como diseño\, el diseño como proyecto; miradas de género desde Iberoamérica”
DESCRIPTION:La Escuela de Diseño invita a este seminario internacional que contará con la participación de cuatro destacadas mujeres latinoamericanas\, provenientes de la academia y la gestión cultural en Diseño\, quienes explorarán las diversas fases e implicaciones que puede tener el proyecto de diseño desde una óptica social\, proyectual o comunicacional. \nEXPONEN: \nDra. Verónica del Valle (FADU\, Universidad de Buenos Aires)\nDra.Luz del Carmen Vilchis (Universidad Nacional Autónoma de México)\nDra.Priscila Lena (FAU\, Universidad de Sao Paulo)\nGloria Escribano (DIMAD\, Fundación Diseño Madrid) \nMODERA: \nBernardita Brancoli (Académica Escuela de Diseño) \nINSCRIPCIONES ACÁ.
URL:https://finis.cl/agenda/seminario-el-proyecto-como-diseno-el-diseno-como-proyecto-miradas-de-genero-desde-iberoamerica/
CATEGORIES:Diseño,Facultad de Arquitectura, Diseño y Estudios Creativos
END:VEVENT
BEGIN:VEVENT
DTSTART;TZID=America/Santiago:20240514T190000
DTEND;TZID=America/Santiago:20240514T235900
DTSTAMP:20260424T034654
CREATED:20250715T154552Z
LAST-MODIFIED:20260331T193631Z
UID:39900-1715713200-1715731140@finis.cl
SUMMARY:“Reimaginando nuestro lugar en el planeta”: ciclo Campos de acción
DESCRIPTION:El Magíster en Proyecto Contemporáneo junto al Laboratorio de Investigación Avanzada de la Facultad de Arquitectura\, Diseño y Estudios Creativos\, invitan al ciclo “Campos de acción”\, una serie de tres conversatorios en que a través del diálogo con diversos profesionales de la arquitectura se busca discutir en torno a los desafíos\, problemas y posibilidades a los que se enfrenta el proyecto contemporáneo de arquitectura\, desde las agencias ecológica\, tecnológica y social\, identificando los posibles campos de acción para una arquitectura futura.\n\nEn la primera actividad del ciclo\, “Reimaginando nuestro lugar en el planeta”\, se invita a discutir en torno a cómo hoy la dimensión ecológica está exigiendo nuevas formas de aproximación al proyecto arquitectónico\, ampliando sus formatos\, además de redefinir las herramientas\, conocimientos y formas de trabajo de arquitectas y arquitectos.\n\nINVITADOS:\nPedro Ignacio Alonso\, Francisca Fernández Cano y Paulina Fernández Lozier\n\nMODERA:\nGonzalo Carrasco\, Director académico del Magíster en Proyecto Contemporáneo\n\nInscripciones ACÁ.
URL:https://finis.cl/agenda/reimaginando-nuestro-lugar-en-el-planeta-ciclo-campos-de-accion/
CATEGORIES:Ciclos,Facultad de Arquitectura, Diseño y Estudios Creativos
END:VEVENT
BEGIN:VEVENT
DTSTART;TZID=America/Santiago:20240524T090000
DTEND;TZID=America/Santiago:20240524T235900
DTSTAMP:20260424T034654
CREATED:20250715T154536Z
LAST-MODIFIED:20250715T154536Z
UID:39871-1716541200-1716595140@finis.cl
SUMMARY:Operativo Táctico Facultad de Arquitectura\, Diseño y Estudios Creativos
DESCRIPTION:La Facultad de Arquitectura\, Diseño y Estudios Creativos\, junto a Ciudad Emergente\, comenzarán el viernes 24 de mayo el “Operativo táctico”\, activación táctica que se realizará en la FAD y en en una nueva zona de de recuperación ambiental de Quilicura\, que se enmarca en el programa “Quilicura limpia y segura” que desarrolla la Dirección de Gestión ambiental de la Municipalidad. \nPara esto\, estudiantes de primer año y Título de Arquitectura y primer año de Diseño\, trabajarán inicialmente en un workshop junto al totorero del Canal San Ignacio\, Fernando Abarca\, para la construcción de un sombreadero que se instalará e inaugurará durante ese fin de semana\, lo que será complementario a diversas intervenciones de paisajismo en el terreno a recuperar. \nEn este trabajo colaborativo participara una mesa de gobernanza\, la cual eligió el espacio y  apoyará el trabajo de limpieza de la zona. Así también lo hará la comunidad escolar y Google\, otra de las instituciones que apoyan este programa.
URL:https://finis.cl/agenda/operativo-tactico-facultad-de-arquitectura-y-diseno/
CATEGORIES:Facultad de Arquitectura, Diseño y Estudios Creativos
END:VEVENT
BEGIN:VEVENT
DTSTART;TZID=America/Santiago:20240528T100000
DTEND;TZID=America/Santiago:20240528T235900
DTSTAMP:20260424T034654
CREATED:20250715T154535Z
LAST-MODIFIED:20260331T193632Z
UID:39870-1716890400-1716940740@finis.cl
SUMMARY:Ciclo: “Contrapartes. Diseño y Políticas Públicas”
DESCRIPTION:Catalina Pérez\, socia fundadora y directora de proyectos en Otros Pérez\, Presidenta de Chile Diseño; y el diseñador de interior Orlando Gatica\, fundador y Director de Orlando Gatica Studio\, son los invitados a la tercera y última Mesa del ciclo “Contrapartes. Diseño y Políticas Públicas”\, organizado por la Escuela de Diseño\, con el apoyo de Centro de Políticas Públicas Finis Terrae\, Chilecreativo y el área de Diseño del Ministerio de las Culturas\, las Artes y el Patrimonio. \nEn esta oportunidad\, el tema será “Estructuras organizacionales del diseño en Chile”\, una mirada al aporte de la industria del diseño en el desarrollo social y económico del país. \nINSCRIPCIONES ACÁ.
URL:https://finis.cl/agenda/ciclo-contrapartes-diseno-y-politicas-publicas-3/
CATEGORIES:Ciclos,Facultad de Arquitectura, Diseño y Estudios Creativos
END:VEVENT
END:VCALENDAR