BEGIN:VCALENDAR
VERSION:2.0
PRODID:-//Universidad Finis Terrae - ECPv6.15.17.1//NONSGML v1.0//EN
CALSCALE:GREGORIAN
METHOD:PUBLISH
X-WR-CALNAME:Universidad Finis Terrae
X-ORIGINAL-URL:https://finis.cl
X-WR-CALDESC:Eventos para Universidad Finis Terrae
REFRESH-INTERVAL;VALUE=DURATION:PT1H
X-Robots-Tag:noindex
X-PUBLISHED-TTL:PT1H
BEGIN:VTIMEZONE
TZID:America/Santiago
BEGIN:STANDARD
TZOFFSETFROM:-0300
TZOFFSETTO:-0400
TZNAME:-04
DTSTART:20220403T030000
END:STANDARD
BEGIN:DAYLIGHT
TZOFFSETFROM:-0400
TZOFFSETTO:-0300
TZNAME:-03
DTSTART:20220911T040000
END:DAYLIGHT
BEGIN:STANDARD
TZOFFSETFROM:-0300
TZOFFSETTO:-0400
TZNAME:-04
DTSTART:20230402T030000
END:STANDARD
BEGIN:DAYLIGHT
TZOFFSETFROM:-0400
TZOFFSETTO:-0300
TZNAME:-03
DTSTART:20230903T040000
END:DAYLIGHT
BEGIN:STANDARD
TZOFFSETFROM:-0300
TZOFFSETTO:-0400
TZNAME:-04
DTSTART:20240407T030000
END:STANDARD
BEGIN:DAYLIGHT
TZOFFSETFROM:-0400
TZOFFSETTO:-0300
TZNAME:-03
DTSTART:20240908T040000
END:DAYLIGHT
END:VTIMEZONE
BEGIN:VEVENT
DTSTART;TZID=America/Santiago:20231012T000100
DTEND;TZID=America/Santiago:20231214T235900
DTSTAMP:20260424T120819
CREATED:20250715T155008Z
LAST-MODIFIED:20250715T155008Z
UID:40146-1697068860-1702598340@finis.cl
SUMMARY:Curso: “Estrategias de gestión de sostenibilidad arquitectónica\, urbana y territorial”
DESCRIPTION:La Dirección de Postgrados y Educación Continua de la Facultad de Arquitectura\, Diseño y Estudios Creativos organiza este curso\, basado en la metodología de Sustainability Strategies & Opportunities for Industries (SSO de MIT Profesional Education).\nEl curso será dictado por Constanza Echeverría\, Arquitecta UC\, Magíster en Proyecto Urbano UC y Diplomada en Estrategias de Sostenibilidad para las Industrias; Gerardo Wijnant San Martín\, Ingeniero Civil Industrial U. de Chile\, consultor de comercio justo y economía del bien común; y Cristina Huidobro\, Arquitecta UC\, Magíster en Planificación Urbana U. de Maryland\, gerenta general del Fondo de Agua Santiago Maipo. \n10 sesiones: 12\, 19\, 26 de octubre / 02\, 09\, 16\, 23 y 30 de noviembre / 06 y 14 de diciembre 2023\nModalidad sincrónica / online\nValor: $380.000 \nMÁS INFORMACIÓN ACÁ \nConsultas a juriarte@uft.cl
URL:https://finis.cl/agenda/curso-estrategias-de-gestion-de-sostenibilidad-arquitectonica-urbana-y-territorial/
CATEGORIES:Arquitectura,Facultad de Arquitectura, Diseño y Estudios Creativos
END:VEVENT
BEGIN:VEVENT
DTSTART;TZID=America/Santiago:20231114T193000
DTEND;TZID=America/Santiago:20231114T235900
DTSTAMP:20260424T120819
CREATED:20250715T154838Z
LAST-MODIFIED:20250715T154838Z
UID:40060-1699990200-1700006340@finis.cl
SUMMARY:Encuentro de egresados FAD
DESCRIPTION:La Facultad de Arquitectura\, Diseño y Estudios Creativos Finis Terrae realizará el Encuentro de Egresados 2023\, evento que reunirá a ex alumnos de distintas generaciones de ambas carreras. \nINSCRIPCIONES ACÁ (SOLO EGRESADOS)
URL:https://finis.cl/agenda/encuentro-de-egresados-fad/
CATEGORIES:Facultad de Arquitectura, Diseño y Estudios Creativos
END:VEVENT
BEGIN:VEVENT
DTSTART;TZID=America/Santiago:20231120T180000
DTEND;TZID=America/Santiago:20231120T235900
DTSTAMP:20260424T120819
CREATED:20250715T154820Z
LAST-MODIFIED:20250715T154820Z
UID:40051-1700503200-1700524740@finis.cl
SUMMARY:Conferencia: “Gestión del Patrimonio documental y fotográfico”
DESCRIPTION:El área de Postgrados y Educación Continua de la Facultad de Arquitectura\, Diseño y Estudios Creativos de la Universidad Finis Terrae\, junto a la Subdere\, organizan la conferencia “Gestión del Patrimonio documental y fotográfico”\, que dictará el arquitecto y Director ejecutivo de Enterreno\, Nicolás Fernández\, este lunes 20 de noviembre a las 18.00 hrs. en modalidad online. \nLa conferencia se realizará en el marco del convenio entre la Facultad y la Subdere\, bajo el cual se dicta el diplomado Gestión del Patrimonio Local. \nInscripciones ACÁ.
URL:https://finis.cl/agenda/conferencia-gestion-del-patrimonio-documental-y-fotografico/
CATEGORIES:Facultad de Arquitectura, Diseño y Estudios Creativos
END:VEVENT
BEGIN:VEVENT
DTSTART;TZID=America/Santiago:20231125T110000
DTEND;TZID=America/Santiago:20231125T235900
DTSTAMP:20260424T120819
CREATED:20250715T154819Z
LAST-MODIFIED:20250715T154819Z
UID:40050-1700910000-1700956740@finis.cl
SUMMARY:Atravieso Urbano: “Pies bajo tierra. Planificación de la ciudad subterránea”
DESCRIPTION:En esta oportunidad\, el Atravieso Urbano-  recorridos temáticos por Santiago\, organizados por la Escuela de Arquitectura- se realizará en conjunto con Metro S.A\, cuyo  subgerente de proyectos operacionales\, Aldo González\, acompañará a los participantes en un recorrido por los piques subtérraneos de Línea 7.\n\nEl recorrido será guiado por las docentes Macarena Urzúa D. y Magdalena Iturriaga y comenzará en la estación del Metro Los Leones. Se requiere llevar zapatos de seguridad y casco.
URL:https://finis.cl/agenda/atravieso-urbano-pies-bajo-tierra-planificacion-de-la-ciudad-subterranea/
CATEGORIES:Arquitectura,Facultad de Arquitectura, Diseño y Estudios Creativos
END:VEVENT
END:VCALENDAR