BEGIN:VCALENDAR
VERSION:2.0
PRODID:-//Universidad Finis Terrae - ECPv6.15.17.1//NONSGML v1.0//EN
CALSCALE:GREGORIAN
METHOD:PUBLISH
X-ORIGINAL-URL:https://finis.cl
X-WR-CALDESC:Eventos para Universidad Finis Terrae
REFRESH-INTERVAL;VALUE=DURATION:PT1H
X-Robots-Tag:noindex
X-PUBLISHED-TTL:PT1H
BEGIN:VTIMEZONE
TZID:America/Santiago
BEGIN:STANDARD
TZOFFSETFROM:-0300
TZOFFSETTO:-0400
TZNAME:-04
DTSTART:20240407T030000
END:STANDARD
BEGIN:DAYLIGHT
TZOFFSETFROM:-0400
TZOFFSETTO:-0300
TZNAME:-03
DTSTART:20240908T040000
END:DAYLIGHT
BEGIN:STANDARD
TZOFFSETFROM:-0300
TZOFFSETTO:-0400
TZNAME:-04
DTSTART:20250406T030000
END:STANDARD
BEGIN:DAYLIGHT
TZOFFSETFROM:-0400
TZOFFSETTO:-0300
TZNAME:-03
DTSTART:20250907T040000
END:DAYLIGHT
BEGIN:STANDARD
TZOFFSETFROM:-0300
TZOFFSETTO:-0400
TZNAME:-04
DTSTART:20260405T030000
END:STANDARD
BEGIN:DAYLIGHT
TZOFFSETFROM:-0400
TZOFFSETTO:-0300
TZNAME:-03
DTSTART:20260906T040000
END:DAYLIGHT
END:VTIMEZONE
BEGIN:VEVENT
DTSTART;TZID=America/Santiago:20250805T103000
DTEND;TZID=America/Santiago:20251028T103000
DTSTAMP:20260423T110832
CREATED:20250728T135907Z
LAST-MODIFIED:20260331T193625Z
UID:40544-1754389800-1761647400@finis.cl
SUMMARY:Ciclo de charlas “Encuentros de barrio” en Casa Costanera
DESCRIPTION:En su permanente compromiso con la difusión de las artes y las humanidades\, Extensión Cultural de la Universidad Finis Terrae presenta las charlas “Trama Urbana”\, que se presentarán en el ciclo “Encuentros de Barrio” de Casa Costanera. El objetivo es contribuir y relevar la valoración del patrimonio y las nuevas tendencias en creación e innovación\, con énfasis en el acervo cultural de la comuna de Vitacura. \nMediante conferencias semanales a cargo de destacados académicos de la Facultad de Arquitectura\, Diseño y Estudios Creativos (FAD) y la Facultad de Artes sobre arquitectura\, diseño\, arte y moda se abrirán espacios de diálogo entre la academia y la ciudadanía\, en un sector en que estas disciplinas forman parte esencial de la vida cotidiana. \nLos encuentros se realizarán los días martes\, a las 10:30 horas\, en la sala de cine de Casa Costanera\, en Vitacura. Actividad gratuita y abierta a todo público. \nPRÓXIMAS CHARLAS: \n“Fundamentos del arte latinoamericano contemporáneo”\nExpositores: Amanda Salas\, investigadora de la Facultad de Artes de la Universidad Finis Terrae.\nCristián Martínez\, director ejecutivo del Museo Ralli Santiago.\nFecha: Martes 28 de octubre | 10:30 horas\nLugar: Sala de cine Casacostanera \n“ Arte latinoamericano bajo la mirada de la Colección Ralli ” \nExpositor: Cristián Martínez\, director ejecutivo del Museo Ralli Santiago.\nFecha: Martes 4 de noviembre/10:30 horas\nLugar: Sala de cine Casacostanera \n“Patrimonios y oficios de la gastronomía chilena” \nExpositor: Tomás Cumsille\, Chef ejecutivo Dirección y Gestión de Artes Culinarias de las Universidad Finis Terrae.\nFecha: Martes 11 de noviembre/ 10:30 horas\nLugar: Sala de cine Casacostanera \n“Sabores de Navidad: del recuerdo a la innovación” \nExpositor: Tomás Cumsille\, Chef ejecutivo Dirección y Gestión de Artes Culinarias de las Universidad Finis Terrae.\nFecha: Martes 18 de noviembre/ 10:30 horas\nLugar: Sala de cine Casacostanera \nCONFERENCIAS REALIZADAS \n“Tendencias en arte contemporáneo”\nExpositor: Enrique Zamudio\, decano de la Facultad de Artes de la Universidad Finis Terrae. Presidente del directorio de la Academia Chilena de Bellas Artes.\nFecha: Martes 21 de octubre | 10:30 horas\nLugar: Sala de cine Casacostanera \n“Restauración y patrimonio”\nExpositor: Jaime Migone\, arquitecto de la Pontificia Universidad Católica de Chile\, Doctor en Conservación de los Bienes Arquitectónicos del Politecnico di Milano\, Italia.\nFecha: Martes 14 de octubre | 10:30 horas\nLugar: Sala de cine Casacostanera \n“Estéticas contemporáneas: la belleza como lenguaje en las obras de Vitacura”\nExpositor: Fabián Barros Di Giammarino\, Dr. En Proyectos Arquitectónicos Avanzados ETSAM y Decano de la Facultad de Arquitectura\, Diseño y Estudios Creativos. \nFecha: Martes 7 de octubre / 10:30 horas\nLugar: Sala de cine Casa Costanera \n“Diseño y vanguardias: poéticas de lo cotidiano” \nExpositor: Francesco Di Girolamo\, diseñador y académico. Magister en Prácticas Artísticas de la Universidad Finis Terrae.\nFecha: Martes 5 de agosto / 10:30 horas\nLugar: Sala de cine Casa Costanera \n• “Lecturas patrimoniales del paisaje urbano en Vitacura” \nExpositor: Francisco Godoy\, académico MArch Sustainable and Environmental Design\, Architectural Association\, London UK.\nFecha: Martes 12 de agosto / 10:30 horas\nLugar: Sala de cine Casa Costanera \n• “Diseñar para las personas: inteligencia artificial y/o inteligencia artesanal” \nExpositor: Francisco García-Huidobro\, arquitecto y académico de la Universidad Finis Terrae.\nFecha: Martes 26 de agosto / 10:30 horas\nLugar: Sala de cine Casa Costanera \n• “La historia de la moda y sus tendencias” \nExpositora: Pía Montalva\, especialista en historia de la moda. \nFecha: Martes 2 de septiembre / 10:30 horasLugar: Sala de cine Casa Costanera \n• “Moda sostenible”Expositora: Bernardita Marambio\, diseñadora y académica de la carrera Diseño Moda & Management. \nFecha: Martes 9 de septiembre / 10:30 horasLugar: Sala de cine Casa Costanera o hall del mall \n• “Diseño\, color y moda”Expositora: Mari Gálmez\, arquitecta de la Universidad Finis Terrae. Fundadora de Mercado Mastica de Vitacura y académica de la carrera Diseño Moda & Management. \nFecha: Martes 23 de septiembre / 10:30 horasLugar: Sala de cine Casa Costanera \n• “Diálogos entre arte y arquitectura: las fronteras del espacio y la percepción”Expositor: Sebastián Maze\, arquitecto y académico. \nFecha: Martes 30 de septiembre / 10:30 horasLugar: Sala de cine Casa Costanera
URL:https://finis.cl/agenda/ciclo-de-conferencias-para-encuentros-de-barrio-de-casa-costanera/
LOCATION:Providencia
CATEGORIES:Arquitectura,Artes visuales,Ciclos,Extensión,Extensión Cultural,Facultad de Arquitectura, Diseño y Estudios Creativos,Facultad de Artes
ATTACH;FMTTYPE=image/jpeg:https://finis.cl/wp-content/uploads/2025/07/Plantillas-fotos-agenda-2.jpg
END:VEVENT
BEGIN:VEVENT
DTSTART;TZID=America/Santiago:20250806T190000
DTEND;TZID=America/Santiago:20250827T201500
DTSTAMP:20260423T110832
CREATED:20250715T153344Z
LAST-MODIFIED:20250730T225338Z
UID:39314-1754506800-1756325700@finis.cl
SUMMARY:Curso online: “Grandes naturalistas decimonónicos: ¿cómo nos vieron?”
DESCRIPTION:El siglo XIX fue una era de descubrimientos\, exploraciones y transformaciones profundas de la manera en que la humanidad comprendía la naturaleza. En este contexto\, figuras como ALEXANDER VON HUMBOLDT\, CHARLES DARWIN\, RUDOLFO AMANDO PHILIPPI\, IGNACIO DOMEYKO Y CLAUDIO GAY jugaron un papel fundamental en la construcción del pensamiento científico moderno. A través de sus viajes\, observaciones minuciosas y enfoques interdisciplinarios\, estos naturalistas no solo ampliaron el conocimiento sobre la biodiversidad y la geología del mundo\, sino que también\, a excepción del primero\,  vinieron a Chile\, nos observaron\, caminaron por nuestro territorio y nos describieron. En este curso de cuatro sesiones se revisarán las trayectorias de estos grandes exploradores\, sus contribuciones científicas\, y su especial mirada a nuestra vegetación\, población y territorio nacional.\n\nPROFESORA: Magdalena Piñera Echenique\, Licenciada en Historia de la Pontificia Universidad Católica de Chile. Tiene una destacada trayectoria académica en diversas instituciones educacionales y culturales del país. Actualmente es directora de Fundación Futuro.\n\nFECHAS: Miércoles 6\, 13\, 20 y 27 de agosto\n\nINFORMACIONES: www.uft.cl/extension-cultural\n\nINSCRIPCIONES: Camila Mejías / extensioncultural@uft.cl\n El curso tiene un valor de $35.000 que lo cobra y gestiona en su totalidad la Universidad Finis Terrae. Académicos y egresados de la U. Finis Terrae tienen el 20% de descuento.\n\nORGANIZA: Extensión Cultural Universidad Finis Terrae
URL:https://finis.cl/agenda/curso-online-grandes-naturalistas-decimononicos-como-nos-vieron/
LOCATION:Providencia
CATEGORIES:Extensión,Extensión Cultural
ATTACH;FMTTYPE=image/png:https://finis.cl/wp-content/uploads/2025/07/Foto-tema-Curso-Naturalistas-1.png
END:VEVENT
BEGIN:VEVENT
DTSTART;TZID=America/Santiago:20250811T080000
DTEND;TZID=America/Santiago:20250901T170000
DTSTAMP:20260423T110832
CREATED:20250730T232156Z
LAST-MODIFIED:20250806T222805Z
UID:40930-1754899200-1756746000@finis.cl
SUMMARY:Curso: "El impacto de las nuevas tendencias geopolíticas de Asia del este"
DESCRIPTION:Este curso de cuatro sesiones explora tres tendencias internacionales en el Asia Pacífico y sus efectos para América latina: las dinámicas económicas y tecnológicas; el orden internacional liberal en Asia; y las tendencias y alianzas geopolíticas.  \nFECHAS: lunes 11\, 18 y 25 de agosto\, y 1 de septiembre. \nINSCRIPCIONES: Camila Mejías / extensioncultural@uft.cl \nPROFESORA: \nSascha Hannig es analista internacional con experiencia en el ámbito financiero. También es asistente de investigación en el Centro de Investigación de Gobernanza Global de la Universidad de Hitotsubashi (Japón) y co-fundadora del Centro de Análisis para la Democracia en Chile. Sus principales campos de estudio son la influencia de China en el mundo\, así como el impacto de la ciencia y la tecnología en la sociedad\, publicando artículos regularmente en dichas áreas. Hannig es candidata a Doctor en Derecho Internacional Internacional en la Universidad de Hitotsubashi\, como becaria de JICA en el programa SDG Global Leaders. \nORGANIZAN: Observatorio de Asuntos Internacionales\, Escuela de Periodismo y Extensión Cultural de la Universidad Finis Terrae. \nVALOR: $35.000 (académicos y artistas; y egresados de U. Finis Terrae – 20% de descuento).
URL:https://finis.cl/agenda/curso-el-impacto-de-las-nuevas-tendencias-geopoliticas-de-asia-del-este/
LOCATION:Providencia
CATEGORIES:Extensión Cultural,Observatorio de Asuntos Internacionales,Periodismo
ATTACH;FMTTYPE=image/jpeg:https://finis.cl/wp-content/uploads/2025/07/Plantillas-fotos-agenda-1.jpg
END:VEVENT
BEGIN:VEVENT
DTSTART;TZID=America/Santiago:20250819T083000
DTEND;TZID=America/Santiago:20250822T180000
DTSTAMP:20260423T110832
CREATED:20250818T182432Z
LAST-MODIFIED:20250818T183446Z
UID:41690-1755592200-1755885600@finis.cl
SUMMARY:Congreso: “A 100 años de la separación Iglesia-Estado en Chile: 1925-2025”
DESCRIPTION:Este año 2025 se cumplen 100 años de la separación de la Iglesia con el Estado en Chile\, con el fin de otorgar relevancia a la conmemoración es que la Sociedad de Historia de la Iglesia en Chile en conjunto con la Universidad Andrés Bello\, Facultad de Educación y Ciencias Sociales\, Licenciatura en Historia (Sede República\, Santiago); la Universidad San Sebastián\, Instituto de Historia (Sede Concepción); la Universidad Finis Terrae\, Observatorio de Estudios Internacionales (Sede Santiago)\, y la Universidad de La Serena\, Departamento de Ciencias Sociales (Sede La Serena). Ven a reflexionar junto a destacadas y destacados historiadoras e historiadores y especialistas sobre uno de los hitos más relevantes en la historia política y religiosa del país. \nEl resto de los días se llevarán a cabo en distintas sedes:  La Serena\, Concepción y en la Universidad Andrés Bello en Santiago. \nHemos aunado esfuerzos para acercar el Congreso a distintas zonas del país\, privilegiando la asistencia de ponentes cercanos a cada una de las sedes del congreso. Revisa el programa de la jornada que se llevará a cabo en nuestra Universidad. \nJUEVES 21 DE AGOSTO DE 2025\nU. Finis Terrae \n08:30 hrs. Acreditación \n09:00 hrs. Inauguración congreso \n09:30 hrs. Clase Magistral Dr. Walter Sánchez\, Universidad de Chile \n10:30 hrs. Ponencia 1:\nDr. Marcial Sánchez Gaete\, presidente Sociedad de Historia de la Iglesia en Chile\n“La separación Iglesia-Estado y su impacto en la política exterior de los estados modernos” \n11:10 hrs. Café \n11:40 hrs. Ponencia 2:\nDra. María José Navasal\, Universidad San Sebastián\, Universidad Gabriela Mistral\n“El concordato que nunca se concretó. Relaciones Internacionales Iglesia-Estado\, Chile (1925-1928)” \n12:20 hrs. Ponencia 3:\nDr. David Muñoz Condell\,\n“Fronteras imaginarias y religiosidad. Libertad de culto y el avance del ecumenismo en latinoamérica” \n13:00 hrs. Almuerzo \n15:00 hrs. Ponencia 4:\nDr. Edmundo Bustos Azócar\, Pontificia Universidad Católica de Valparaíso\n“Católicos y anglicanos. Chilenos y argentinos. Las Iglesias durante la ocupación de la Patagonia\, siglo XIX” \n15:40 hrs. Ponencia 5:\nDra. Ana Cárdenas Zanatta\, Universidad Finis Terrae\n“Secularización en contraste: México y Chile ante la separación Iglesia-Estado” \n16:20 hrs. Café \n16:50 hrs.Ponencia 6:\nDr. Matías Alvarado Leyton\, Universidad Gabriela Mistral\n“Construyendo el quiebre: una mirada diplomática a la separación Iglesia-Estado en Chile” \n17:30 hrs. Ponencia 7:\nDoctorando en Derecho Pablo Maillet Aránguiz\, Universidad del Desarrollo\n“Discusión sobre la libertad religiosa entre el Vaticano y EEUU a fines del siglo XIX” \n18:10 hrs. Cierre \nActividad abierta y gratuita para todo público.
URL:https://finis.cl/agenda/congreso-a-100-anos-de-la-separacion-iglesia-estado-en-chile-1925-2025/
LOCATION:B601
CATEGORIES:Extensión Cultural
ATTACH;FMTTYPE=image/jpeg:https://finis.cl/wp-content/uploads/2025/08/Plantillas-fotos-agenda-57.jpg
END:VEVENT
END:VCALENDAR