BEGIN:VCALENDAR
VERSION:2.0
PRODID:-//Universidad Finis Terrae - ECPv6.15.17.1//NONSGML v1.0//EN
CALSCALE:GREGORIAN
METHOD:PUBLISH
X-ORIGINAL-URL:https://finis.cl
X-WR-CALDESC:Eventos para Universidad Finis Terrae
REFRESH-INTERVAL;VALUE=DURATION:PT1H
X-Robots-Tag:noindex
X-PUBLISHED-TTL:PT1H
BEGIN:VTIMEZONE
TZID:America/Santiago
BEGIN:STANDARD
TZOFFSETFROM:-0300
TZOFFSETTO:-0400
TZNAME:-04
DTSTART:20240407T030000
END:STANDARD
BEGIN:DAYLIGHT
TZOFFSETFROM:-0400
TZOFFSETTO:-0300
TZNAME:-03
DTSTART:20240908T040000
END:DAYLIGHT
BEGIN:STANDARD
TZOFFSETFROM:-0300
TZOFFSETTO:-0400
TZNAME:-04
DTSTART:20250406T030000
END:STANDARD
BEGIN:DAYLIGHT
TZOFFSETFROM:-0400
TZOFFSETTO:-0300
TZNAME:-03
DTSTART:20250907T040000
END:DAYLIGHT
BEGIN:STANDARD
TZOFFSETFROM:-0300
TZOFFSETTO:-0400
TZNAME:-04
DTSTART:20260405T030000
END:STANDARD
BEGIN:DAYLIGHT
TZOFFSETFROM:-0400
TZOFFSETTO:-0300
TZNAME:-03
DTSTART:20260906T040000
END:DAYLIGHT
END:VTIMEZONE
BEGIN:VEVENT
DTSTART;TZID=America/Santiago:20250605T203000
DTEND;TZID=America/Santiago:20250706T235900
DTSTAMP:20260423T140318
CREATED:20250715T153456Z
LAST-MODIFIED:20250715T153456Z
UID:39387-1749155400-1751846340@finis.cl
SUMMARY:Teatro Finis Terrae: “Felices Fiestas: Una comedia dramática sobre una noche de Navidad y un secreto familiar”
DESCRIPTION:Tras el éxito de “Como si pasara un tren” en 2023\, Bárbara Ruiz-Tagle vuelve como directora invitada por el Teatro Finis Terrae esta vez como directora y dramaturga de la nueva coproducción Teatro Finis Terrae\, Felices Fiestas. \nEn un caluroso día de verano de 1990\, una familia se reúne después de mucho tiempo para celebrar la Navidad. Lo que debería ser una celebración se transforma en escenario de tensiones y viejos conflictos. Una comedia dramática protagonizada por Ana Reeves. \nEn un caluroso día de verano de 1990\, una familia se reúne después de mucho tiempo para celebrar la Navidad. Mientras dos hermanos radicalmente opuestos intentan ponerse de acuerdo sobre el futuro de su madre\, es ella quien intenta que esta Navidad sea una noche especial. \nLuis\, el hijo mayor\, fanático de Sábados Gigantes\, ha vivido con ella durante años asumiendo su cuidado\, pero ahora enfrenta una crisis personal. Inés\, la hija menor\, quien ha sostenido económicamente el hogar pero ausente en la rutina familiar\, siente la necesidad de empezar una nueva vida. Su esposo\, Óscar\, un intelectual con escasa independencia\, anhela formar una familia. \nLo que debería ser una celebración se transforma en escenario de tensiones y viejos conflictos. Lejos de propiciar un reencuentro armonioso\, la reunión reabre y expone heridas\, especialmente cuando la madre y la hija deciden compartir con el hijo un secreto que cambiará el futuro de la familia. \nEl elenco está formado por la reconocida actriz Ana Reeves -galardonada en 2024 por el Círculo de Críticos de Arte como mejor actriz teatral (por “Eloísa”)- junto a Rodrigo Soto\, Felipe Zepeda y Alejandra Oviedo. \nTras el éxito de “Como si pasara un tren” en 2023\, Bárbara Ruiz-Tagle vuelve como directora invitada por el Teatro Finis Terrae esta vez como directora y dramaturga en esta nueva coproducción Teatro Finis Terrae. \nDel 5 de junio al 6 de julio de 2025\nJueves y viernes 20:30 hrs.\nSábado y domingo 19:00 hrs.\n—— \nPreventa 1 Limited Ticket 50% dcto hasta el 29 de mayo (*dcto sobre entrada general)\nPreventa 2 Early Ticket 23% dcto hasta el 5 de junio (*dcto sobre entrada general)$ 13.000 GENERAL\n$ 8.450 (35% dcto.) ADULTO MAYOR\n$ 6.500 (50% dcto.) ESTUDIANTE\n$ 6.500 (50% dcto.) Súper Jueves\nTarjeta vecino Providencia y otros descuentos AQUÍ\nEntradas por Ticketplus
URL:https://finis.cl/agenda/teatro-finis-terrae-felices-fiestas-una-comedia-dramatica-sobre-una-noche-de-navidad-y-un-secreto-familiar/
LOCATION:Providencia
CATEGORIES:Extensión,Extensión Cultural,Teatro Finis Terrae
END:VEVENT
BEGIN:VEVENT
DTSTART;TZID=America/Santiago:20250616T083000
DTEND;TZID=America/Santiago:20250616T235900
DTSTAMP:20260423T140318
CREATED:20250715T153504Z
LAST-MODIFIED:20250717T164913Z
UID:39402-1750062600-1750118340@finis.cl
SUMMARY:Cátedra Ampuero: Guillermo Lasso\, de lo privado a lo público: “Los desafíos de liderar hoy”
DESCRIPTION:Creada en 2010\, este espacio de análisis político y social se ha consolidado como una instancia de alto nivel para el debate de ideas y la reflexión crítica sobre los principales desafíos que enfrenta nuestra sociedad. Bajo la dirección del ex canciller. escritor y académico\, Roberto Ampuero\, esta cátedra reúne a líderes\, autoridades\, académicos y expertos en un espacio plural orientado a comprender las dinámicas del mundo contemporáneo y su impacto en el ámbito nacional e internacional. \nRoberto Ampuero conversará con Guillermo Lasso\, ex Presidente de Ecuador y empresario\, sobre su vínculo con Chile y las políticas públicas que implementó en su país\, y la situación actual de Chile y la necesidad de contar con liderazgos políticos. \nLugar: Club 50\, Av. El Golf 50\, Las Condes. \nINSCRIPCIONES CERRADAS
URL:https://finis.cl/agenda/catedra-ampuero-guillermo-lasso-de-lo-privado-a-lo-publico-u-finis-terrae/
LOCATION:Providencia
CATEGORIES:Cátedra Ampuero,Extensión Cultural,Institucional,U. Finis Terrae,Universidad
ATTACH;FMTTYPE=image/jpeg:https://finis.cl/wp-content/uploads/2025/07/evento-catedra-ampuero.jpg
END:VEVENT
END:VCALENDAR