BEGIN:VCALENDAR
VERSION:2.0
PRODID:-//Universidad Finis Terrae - ECPv6.15.17.1//NONSGML v1.0//EN
CALSCALE:GREGORIAN
METHOD:PUBLISH
X-WR-CALNAME:Universidad Finis Terrae
X-ORIGINAL-URL:https://finis.cl
X-WR-CALDESC:Eventos para Universidad Finis Terrae
REFRESH-INTERVAL;VALUE=DURATION:PT1H
X-Robots-Tag:noindex
X-PUBLISHED-TTL:PT1H
BEGIN:VTIMEZONE
TZID:America/Santiago
BEGIN:STANDARD
TZOFFSETFROM:-0300
TZOFFSETTO:-0400
TZNAME:-04
DTSTART:20240407T030000
END:STANDARD
BEGIN:DAYLIGHT
TZOFFSETFROM:-0400
TZOFFSETTO:-0300
TZNAME:-03
DTSTART:20240908T040000
END:DAYLIGHT
BEGIN:STANDARD
TZOFFSETFROM:-0300
TZOFFSETTO:-0400
TZNAME:-04
DTSTART:20250406T030000
END:STANDARD
BEGIN:DAYLIGHT
TZOFFSETFROM:-0400
TZOFFSETTO:-0300
TZNAME:-03
DTSTART:20250907T040000
END:DAYLIGHT
BEGIN:STANDARD
TZOFFSETFROM:-0300
TZOFFSETTO:-0400
TZNAME:-04
DTSTART:20260405T030000
END:STANDARD
BEGIN:DAYLIGHT
TZOFFSETFROM:-0400
TZOFFSETTO:-0300
TZNAME:-03
DTSTART:20260906T040000
END:DAYLIGHT
END:VTIMEZONE
BEGIN:VEVENT
DTSTART;TZID=America/Santiago:20250319T190000
DTEND;TZID=America/Santiago:20250319T235900
DTSTAMP:20260423T185752
CREATED:20250715T153856Z
LAST-MODIFIED:20250715T153856Z
UID:39511-1742410800-1742428740@finis.cl
SUMMARY:Curso: “Mujeres chilenas choras”
DESCRIPTION:Como parte de las celebraciones del Día Internacional de la Mujer (8/03)\, Extensión Cultural de la Universidad Finis Terrae ha organizado este curso centrado en el legado de destacadas figuras femeninas\, que marcaron un hito en diversos ámbitos del quehacer nacional. \nEXPONE: \nMagdalena Piñera E.\, Licenciada en Historia de la Pontificia Universidad Católica de Chile. \nFECHAS: Miércoles 19 y 26 de marzo/ miércoles 2 y 9 de abril \nHORA: 19:00 hrs. \nModalidad: Zoom \nEl curso tiene un valor de $35.000 que lo cobra y gestiona en su totalidad la Universidad Finis Terrae. Académicos y egresados de U. Finis Terrae tienen el 20% de descuento. \nINSCRIPCIONES: extensióncultural@uft.cl \nORGANIZA: Extensión Cultural de la Universidad Finis Terrae.
URL:https://finis.cl/agenda/curso-mujeres-chilenas-choras/
LOCATION:Providencia
CATEGORIES:Extensión Cultural
END:VEVENT
END:VCALENDAR