BEGIN:VCALENDAR
VERSION:2.0
PRODID:-//Universidad Finis Terrae - ECPv6.15.17.1//NONSGML v1.0//EN
CALSCALE:GREGORIAN
METHOD:PUBLISH
X-WR-CALNAME:Universidad Finis Terrae
X-ORIGINAL-URL:https://finis.cl
X-WR-CALDESC:Eventos para Universidad Finis Terrae
REFRESH-INTERVAL;VALUE=DURATION:PT1H
X-Robots-Tag:noindex
X-PUBLISHED-TTL:PT1H
BEGIN:VTIMEZONE
TZID:America/Santiago
BEGIN:STANDARD
TZOFFSETFROM:-0300
TZOFFSETTO:-0400
TZNAME:-04
DTSTART:20230402T030000
END:STANDARD
BEGIN:DAYLIGHT
TZOFFSETFROM:-0400
TZOFFSETTO:-0300
TZNAME:-03
DTSTART:20230903T040000
END:DAYLIGHT
BEGIN:STANDARD
TZOFFSETFROM:-0300
TZOFFSETTO:-0400
TZNAME:-04
DTSTART:20240407T030000
END:STANDARD
BEGIN:DAYLIGHT
TZOFFSETFROM:-0400
TZOFFSETTO:-0300
TZNAME:-03
DTSTART:20240908T040000
END:DAYLIGHT
BEGIN:STANDARD
TZOFFSETFROM:-0300
TZOFFSETTO:-0400
TZNAME:-04
DTSTART:20250406T030000
END:STANDARD
BEGIN:DAYLIGHT
TZOFFSETFROM:-0400
TZOFFSETTO:-0300
TZNAME:-03
DTSTART:20250907T040000
END:DAYLIGHT
END:VTIMEZONE
BEGIN:VEVENT
DTSTART;TZID=America/Santiago:20241119T190000
DTEND;TZID=America/Santiago:20241119T235900
DTSTAMP:20260424T005107
CREATED:20250715T154019Z
LAST-MODIFIED:20250715T154019Z
UID:39572-1732042800-1732060740@finis.cl
SUMMARY:Curso: “La época victoriana inglesa y la hermandad prerrafaelita”
DESCRIPTION:El curso analiza algunas de las manifestaciones artísticas en tiempos de la reina Victoria. Además de su expansión territorial\, surgen en Londres periódicos\, revistas\, representaciones teatrales\, transformaciones urbanas\, centros comerciales\, muchos ligados a la Revolución Industrial y las grandes transformaciones de la sociedad del siglo XIX. En este contexto surge la ” Hermandad Prerrafaelita”. \nEXPOSITOR: Jorge Salomó\, Máster en Historia de la Pontificia Universidad Católica de Valparaíso\, conferencista de Historia del Arte y Gestión Cultural\, autor de más de 17 publicaciones. \nFECHA: Martes 19 y 26 de noviembre\, 3 y 10 de diciembre \nHORA: 19:00 horas \nMODALIDAD: Zoom \nINSCRIPCIONES: extensioncultural@uft.cl \nEl curso tiene un valor de $30.000 que lo cobra y gestiona en su totalidad la Universidad Finis Terrae. Académicos y artistas; y egresados de U. Finis Terrae tienen el 20% de descuento.
URL:https://finis.cl/agenda/curso-la-epoca-victoriana-inglesa-y-la-hermandad-prerrafaelita/
LOCATION:Providencia
CATEGORIES:Extensión,Extensión Cultural
END:VEVENT
END:VCALENDAR