BEGIN:VCALENDAR
VERSION:2.0
PRODID:-//Universidad Finis Terrae - ECPv6.15.17.1//NONSGML v1.0//EN
CALSCALE:GREGORIAN
METHOD:PUBLISH
X-ORIGINAL-URL:https://finis.cl
X-WR-CALDESC:Eventos para Universidad Finis Terrae
REFRESH-INTERVAL;VALUE=DURATION:PT1H
X-Robots-Tag:noindex
X-PUBLISHED-TTL:PT1H
BEGIN:VTIMEZONE
TZID:America/Santiago
BEGIN:STANDARD
TZOFFSETFROM:-0300
TZOFFSETTO:-0400
TZNAME:-04
DTSTART:20230402T030000
END:STANDARD
BEGIN:DAYLIGHT
TZOFFSETFROM:-0400
TZOFFSETTO:-0300
TZNAME:-03
DTSTART:20230903T040000
END:DAYLIGHT
BEGIN:STANDARD
TZOFFSETFROM:-0300
TZOFFSETTO:-0400
TZNAME:-04
DTSTART:20240407T030000
END:STANDARD
BEGIN:DAYLIGHT
TZOFFSETFROM:-0400
TZOFFSETTO:-0300
TZNAME:-03
DTSTART:20240908T040000
END:DAYLIGHT
BEGIN:STANDARD
TZOFFSETFROM:-0300
TZOFFSETTO:-0400
TZNAME:-04
DTSTART:20250406T030000
END:STANDARD
BEGIN:DAYLIGHT
TZOFFSETFROM:-0400
TZOFFSETTO:-0300
TZNAME:-03
DTSTART:20250907T040000
END:DAYLIGHT
END:VTIMEZONE
BEGIN:VEVENT
DTSTART;TZID=America/Santiago:20241113T190000
DTEND;TZID=America/Santiago:20241113T235900
DTSTAMP:20260424T005240
CREATED:20250715T154056Z
LAST-MODIFIED:20260331T193657Z
UID:39613-1731524400-1731542340@finis.cl
SUMMARY:Curso: “Visión integral de Japón: Política\, economía y sociedad”
DESCRIPTION:Extensión Cultural y el Observatorio de Asuntos Internacionales de la Universidad Finis Terrae han organizado un curso dedicado a el país del Sol Naciente\, Japón\, conocido por su historia\, su vibrante cultura y su notable influencia global en diversos campos. Este ciclo de conferencias tiene como objetivo explorar cuatro aspectos fundamentales de Japón que son clave para entender su dinámica contemporánea: política interna\, economía\, estrategia exterior y cultura. \nFECHAS: Miércoles 13\, 20\, y 27 de noviembre; 4 y 11 de diciembre \nHORARIO DE CLASES: De 19:00 a 20:15 horas \nCurso online a través de la plataforma Zoom. \nINSCRIPCIONES:extensioncultural@uft.cl \nEXPOSITORA: Violetta Udovick\, doctora en Historia y magister en derecho (Universidad de Tokio) \nEl curso tiene un valor de $30.000 que lo cobra y gestiona en su totalidad la Universidad Finis Terrae. Académicos y artistas; y egresados de U. Finis Terrae tienen el 20% de descuento.
URL:https://finis.cl/agenda/curso-vision-integral-de-japon-politica-economia-y-sociedad/
LOCATION:Providencia
CATEGORIES:Ciclos,Extensión,Extensión Cultural
END:VEVENT
END:VCALENDAR