BEGIN:VCALENDAR
VERSION:2.0
PRODID:-//Universidad Finis Terrae - ECPv6.15.17.1//NONSGML v1.0//EN
CALSCALE:GREGORIAN
METHOD:PUBLISH
X-ORIGINAL-URL:https://finis.cl
X-WR-CALDESC:Eventos para Universidad Finis Terrae
REFRESH-INTERVAL;VALUE=DURATION:PT1H
X-Robots-Tag:noindex
X-PUBLISHED-TTL:PT1H
BEGIN:VTIMEZONE
TZID:America/Santiago
BEGIN:STANDARD
TZOFFSETFROM:-0300
TZOFFSETTO:-0400
TZNAME:-04
DTSTART:20230402T030000
END:STANDARD
BEGIN:DAYLIGHT
TZOFFSETFROM:-0400
TZOFFSETTO:-0300
TZNAME:-03
DTSTART:20230903T040000
END:DAYLIGHT
BEGIN:STANDARD
TZOFFSETFROM:-0300
TZOFFSETTO:-0400
TZNAME:-04
DTSTART:20240407T030000
END:STANDARD
BEGIN:DAYLIGHT
TZOFFSETFROM:-0400
TZOFFSETTO:-0300
TZNAME:-03
DTSTART:20240908T040000
END:DAYLIGHT
BEGIN:STANDARD
TZOFFSETFROM:-0300
TZOFFSETTO:-0400
TZNAME:-04
DTSTART:20250406T030000
END:STANDARD
BEGIN:DAYLIGHT
TZOFFSETFROM:-0400
TZOFFSETTO:-0300
TZNAME:-03
DTSTART:20250907T040000
END:DAYLIGHT
END:VTIMEZONE
BEGIN:VEVENT
DTSTART;TZID=America/Santiago:20241106T153000
DTEND;TZID=America/Santiago:20241106T235900
DTSTAMP:20260424T005232
CREATED:20250715T154057Z
LAST-MODIFIED:20250715T154057Z
UID:39614-1730907000-1730937540@finis.cl
SUMMARY:Taller de lectura: “Literatura estadounidense”
DESCRIPTION:En el marco de las actividades para la promoción de las humanidades\, Extensión Cultural de la Universidad Finis Terrae ha organizado este programa de 4 sesiones donde se analizarán obras de los escritores Raymond Carver\, Lucia Berlin\, Tobías Wolff y Joyce Carol Oates\, todos grandes y reconocidos cuentistas\, poetas y novelistas norteamericanos. Durante este taller impartido por Trinidad Siles\, se entregarán conceptos clave del contexto de los autores y herramientas para reflexionar en torno a las temáticas de cada texto. \nFECHA: Miércoles 6\,13\,20 y 27 de noviembre \nHORA: 15:30 horas \nVALOR: $30.000 (académicos y artistas; y egresados de U. Finis Terrae – 20% de descuento) \nINFORMACIONES E INSCRIPCIONES: extensioncultural@uft.cl \n*Taller online impartido a través de la plataforma ZOOM. * Incluye entrega de lecturas.
URL:https://finis.cl/agenda/taller-de-lectura-literatura-estadounidense/
LOCATION:Providencia
CATEGORIES:Extensión,Extensión Cultural
END:VEVENT
BEGIN:VEVENT
DTSTART;TZID=America/Santiago:20241106T190000
DTEND;TZID=America/Santiago:20241106T235900
DTSTAMP:20260424T005232
CREATED:20250715T154036Z
LAST-MODIFIED:20250715T154036Z
UID:39603-1730919600-1730937540@finis.cl
SUMMARY:Conversatorio: “Los desafíos de la nueva presidencia en Estados Unidos”
DESCRIPTION:Un país polarizado\, una crisis migratoria\, el control de armas en manos civiles\, las guerras en Ucrania y Medio Oriente\, además de la creciente tensión con China\, son algunos de los urgentes temas que deberá enfrentar el próximo inquilino de la Casa Blanca. \nEXPONEN: \nSamuel Fernández Illanes\, Embajador (R) y Profesor Titular Derecho Internacional (UCEN y UNAB). Profesor Academia Diplomática. \nGuido Larson\, Director del Instituto de Humanidades\, Universidad del Desarrollo. \nMODERA:  \nAlberto Rojas\, director del Observatorio de Asuntos Internacionales\, de la Facultad de Humanidades y Comunicaciones de la U. Finis Terrae. \nINSCRIPCIONES: extesioncultural@uft.cl \nModalidad: Online en vivo por Zoom.
URL:https://finis.cl/agenda/conversatorio-los-desafios-de-la-nueva-presidencia-en-estados-unidos/
LOCATION:Providencia
CATEGORIES:Extensión,Extensión Cultural
END:VEVENT
END:VCALENDAR