BEGIN:VCALENDAR
VERSION:2.0
PRODID:-//Universidad Finis Terrae - ECPv6.15.17.1//NONSGML v1.0//EN
CALSCALE:GREGORIAN
METHOD:PUBLISH
X-ORIGINAL-URL:https://finis.cl
X-WR-CALDESC:Eventos para Universidad Finis Terrae
REFRESH-INTERVAL;VALUE=DURATION:PT1H
X-Robots-Tag:noindex
X-PUBLISHED-TTL:PT1H
BEGIN:VTIMEZONE
TZID:America/Santiago
BEGIN:STANDARD
TZOFFSETFROM:-0300
TZOFFSETTO:-0400
TZNAME:-04
DTSTART:20230402T030000
END:STANDARD
BEGIN:DAYLIGHT
TZOFFSETFROM:-0400
TZOFFSETTO:-0300
TZNAME:-03
DTSTART:20230903T040000
END:DAYLIGHT
BEGIN:STANDARD
TZOFFSETFROM:-0300
TZOFFSETTO:-0400
TZNAME:-04
DTSTART:20240407T030000
END:STANDARD
BEGIN:DAYLIGHT
TZOFFSETFROM:-0400
TZOFFSETTO:-0300
TZNAME:-03
DTSTART:20240908T040000
END:DAYLIGHT
BEGIN:STANDARD
TZOFFSETFROM:-0300
TZOFFSETTO:-0400
TZNAME:-04
DTSTART:20250406T030000
END:STANDARD
BEGIN:DAYLIGHT
TZOFFSETFROM:-0400
TZOFFSETTO:-0300
TZNAME:-03
DTSTART:20250907T040000
END:DAYLIGHT
END:VTIMEZONE
BEGIN:VEVENT
DTSTART;TZID=America/Santiago:20241015T190000
DTEND;TZID=America/Santiago:20241015T235900
DTSTAMP:20260424T021037
CREATED:20250715T154112Z
LAST-MODIFIED:20250715T154112Z
UID:39643-1729018800-1729036740@finis.cl
SUMMARY:Charla: “Ibn Yubair y Marco Polo: La mirada de dos viajeros mediterráneos hacia el oriente”
DESCRIPTION:En ocasión del aniversario 700 de la muerte de Marco Polo\, la Universidad Finis Terrae y el Instituto Italiano de Cultura ofrecen esta conferencia en la que el profesor Ítalo Fuentes Bardelli nos guiará en un viaje que empieza con las historias del valenciano Ibn Yubair\, fundador del género literario de las letras arábigas y sigue con las hazañas del comerciante Marco Polo\, quien pasó más de 20 años viajando por tierras desconocidas\, dejando escrito un “best seller” cuando aún no se inventaba la imprenta en Europa. \nInscripciones: extensioncultural@uft.cl
URL:https://finis.cl/agenda/charla-ibnyubair-y-marco-polo-la-mirada-de-dos-viajeros-mediterraneos-hacia-el-oriente/
LOCATION:Providencia
CATEGORIES:Extensión,Extensión Cultural
END:VEVENT
END:VCALENDAR