BEGIN:VCALENDAR
VERSION:2.0
PRODID:-//Universidad Finis Terrae - ECPv6.15.17.1//NONSGML v1.0//EN
CALSCALE:GREGORIAN
METHOD:PUBLISH
X-ORIGINAL-URL:https://finis.cl
X-WR-CALDESC:Eventos para Universidad Finis Terrae
REFRESH-INTERVAL;VALUE=DURATION:PT1H
X-Robots-Tag:noindex
X-PUBLISHED-TTL:PT1H
BEGIN:VTIMEZONE
TZID:America/Santiago
BEGIN:STANDARD
TZOFFSETFROM:-0300
TZOFFSETTO:-0400
TZNAME:-04
DTSTART:20230402T030000
END:STANDARD
BEGIN:DAYLIGHT
TZOFFSETFROM:-0400
TZOFFSETTO:-0300
TZNAME:-03
DTSTART:20230903T040000
END:DAYLIGHT
BEGIN:STANDARD
TZOFFSETFROM:-0300
TZOFFSETTO:-0400
TZNAME:-04
DTSTART:20240407T030000
END:STANDARD
BEGIN:DAYLIGHT
TZOFFSETFROM:-0400
TZOFFSETTO:-0300
TZNAME:-03
DTSTART:20240908T040000
END:DAYLIGHT
BEGIN:STANDARD
TZOFFSETFROM:-0300
TZOFFSETTO:-0400
TZNAME:-04
DTSTART:20250406T030000
END:STANDARD
BEGIN:DAYLIGHT
TZOFFSETFROM:-0400
TZOFFSETTO:-0300
TZNAME:-03
DTSTART:20250907T040000
END:DAYLIGHT
END:VTIMEZONE
BEGIN:VEVENT
DTSTART;TZID=America/Santiago:20240826T190000
DTEND;TZID=America/Santiago:20240826T235900
DTSTAMP:20260424T032912
CREATED:20250715T154332Z
LAST-MODIFIED:20250715T154332Z
UID:39717-1724698800-1724716740@finis.cl
SUMMARY:Conferencia: ”Sostenibilidad y vivienda”
DESCRIPTION:Frente a los discursos de sostenibilidad más puros\, donde los casos de estudio se derivan linealmente de principios termodinámicos o ecológicos\, esta charla plantea superponer variables proyectuales clásicas\, como el lugar\, el programa\, la construcción\, la estructura o el propio bienestar de sus habitantes\, tratando de mostrar que la arquitectura es una disciplina poliédrica y compleja\, rica en matices. \nPara ello\, se presenta una selección de edificios de vivienda colectiva construidos en España en los últimos 20 años\, ordenados por zonas climáticas. De esta manera\, se quiere abrir un campo de reflexión entre el clima y la práctica profesional contemporánea con trascendencia cultural en la vida cotidiana. Por el académico e investigador del Laboratorio de Investigación Avanzada (LIA) de la Facultad de Arquitectura\, Diseño y Estudios Creativos de la Universidad Finis Terrae\, Ismael Amaruch. \nInscripciones: extensioncultural@uft.cl
URL:https://finis.cl/agenda/conferencia-sostenibilidad-y-vivienda/
LOCATION:Providencia
CATEGORIES:Extensión,Extensión Cultural
END:VEVENT
END:VCALENDAR