BEGIN:VCALENDAR
VERSION:2.0
PRODID:-//Universidad Finis Terrae - ECPv6.15.17.1//NONSGML v1.0//EN
CALSCALE:GREGORIAN
METHOD:PUBLISH
X-WR-CALNAME:Universidad Finis Terrae
X-ORIGINAL-URL:https://finis.cl
X-WR-CALDESC:Eventos para Universidad Finis Terrae
REFRESH-INTERVAL;VALUE=DURATION:PT1H
X-Robots-Tag:noindex
X-PUBLISHED-TTL:PT1H
BEGIN:VTIMEZONE
TZID:America/Santiago
BEGIN:STANDARD
TZOFFSETFROM:-0300
TZOFFSETTO:-0400
TZNAME:-04
DTSTART:20230402T030000
END:STANDARD
BEGIN:DAYLIGHT
TZOFFSETFROM:-0400
TZOFFSETTO:-0300
TZNAME:-03
DTSTART:20230903T040000
END:DAYLIGHT
BEGIN:STANDARD
TZOFFSETFROM:-0300
TZOFFSETTO:-0400
TZNAME:-04
DTSTART:20240407T030000
END:STANDARD
BEGIN:DAYLIGHT
TZOFFSETFROM:-0400
TZOFFSETTO:-0300
TZNAME:-03
DTSTART:20240908T040000
END:DAYLIGHT
BEGIN:STANDARD
TZOFFSETFROM:-0300
TZOFFSETTO:-0400
TZNAME:-04
DTSTART:20250406T030000
END:STANDARD
BEGIN:DAYLIGHT
TZOFFSETFROM:-0400
TZOFFSETTO:-0300
TZNAME:-03
DTSTART:20250907T040000
END:DAYLIGHT
END:VTIMEZONE
BEGIN:VEVENT
DTSTART;TZID=America/Santiago:20240802T203000
DTEND;TZID=America/Santiago:20240818T235900
DTSTAMP:20260424T044845
CREATED:20250715T154410Z
LAST-MODIFIED:20250715T154410Z
UID:39766-1722630600-1724025540@finis.cl
SUMMARY:Teatro Finis Terrae | “Una comedia súper triste”
DESCRIPTION:Bajo la dirección de la renombrada compañía Chilean Business (Claudia Pérez y Rodrigo Muñoz)\, Una comedia súper triste pone en relieve a quienes no encajan en los moldes predeterminados de un sistema social funcional. \nAna y Pablo son dos desadaptados que se encuentran en situaciones similares. Sin conocerse\, interactúan con distintos personajes que les hacen pensar que nacieron para fracasar. Estas dos soledades desesperanzadas buscan encontrar alguna razón para seguir viviendo\, cargando con un secreto que no son capaces de revelar. \nLa historia se narra a través de un viaje cómico y absurdo\, con el lenguaje lúdico y particular que caracteriza a la premiada dramaturga chilena Carla Zuñiga: Premio Círculo de Críticos de Arte\, Mejor Obra Literaria categoría dramaturgia del Ministerio de las Culturas\, exdirectora artística de la XX Muestra Nacional de Dramaturgia\, y autora de emblemáticas obras como La trágica agonía de un pájaro azul; El amarillo sol de tus cabellos largos; Prefiero que me coman los perros; Un montón de brujas volando por el cielo; Yo también quiero ser un hombre blanco heterosexual\, entre otras. \n¡Un imperdible de una de las escritoras más originales del último tiempo! \nDramaturgia: Carla Zúñiga Morales | Dirección: Chilean Business | Elenco: Claudia Pérez Hernández\, Enzo Gnecco Loyola y Daniela Gala Muñoz Pérez | Diseño integral y técnica: Laura Gandarillas Acosta | Fotografía Camilo Arentsen Eyzaguirre y Nicol Salamanca Murgas | Producción Chilean Business. \nTEMPORADA \nDEL 02 AL 18 DE AGOSTO \nJUEVES Y VIERNES 20:30 HORAS \nSÁBADO Y DOMINGO 19:00 HORAS \nTeatro Finis Terrae\, Pocuro 1935\, Providencia\, Stgo.\nMás información de valores de entradas y descuentos ACÁ
URL:https://finis.cl/agenda/teatro-finis-terrae-una-comedia-super-triste/
LOCATION:Providencia
CATEGORIES:Extensión,Extensión Cultural,Teatro Finis Terrae
END:VEVENT
BEGIN:VEVENT
DTSTART;TZID=America/Santiago:20240813T190000
DTEND;TZID=America/Santiago:20240813T235900
DTSTAMP:20260424T044845
CREATED:20250715T154407Z
LAST-MODIFIED:20250715T154407Z
UID:39762-1723575600-1723593540@finis.cl
SUMMARY:Curso: “Grandes museos\, desde la antigüedad hasta las manifestaciones contemporáneas”
DESCRIPTION:Durante el curso se estudiarán las colecciones del Museo Vasa de Estocolmo\, el museo colonial de la Catedral de Lima\, el Teatro-Museo Dalí de Figueres y el Centro Cultural Georges Pompidou de París. \nA cargo del profesor Jorge Salomó\, Máster en Historia de la Pontificia Universidad Católica de Valparaíso\, conferencista de Historia del Arte y Gestión Cultural\, autor de más de 17 publicaciones. \nFechas: Martes 13\, 20 y 27 de agosto; 3 de septiembre. \nHora: 19:00 horas\nValor: $30.000 (20% de descuento para la comunidad Finis Terrae). \nInscripciones: extensioncultural@uft.cl
URL:https://finis.cl/agenda/curso-grandes-museos-desde-la-antiguedad-hasta-las-manifestaciones-contemporaneas/
LOCATION:Providencia
CATEGORIES:Extensión,Extensión Cultural
END:VEVENT
END:VCALENDAR