BEGIN:VCALENDAR
VERSION:2.0
PRODID:-//Universidad Finis Terrae - ECPv6.15.17.1//NONSGML v1.0//EN
CALSCALE:GREGORIAN
METHOD:PUBLISH
X-ORIGINAL-URL:https://finis.cl
X-WR-CALDESC:Eventos para Universidad Finis Terrae
REFRESH-INTERVAL;VALUE=DURATION:PT1H
X-Robots-Tag:noindex
X-PUBLISHED-TTL:PT1H
BEGIN:VTIMEZONE
TZID:America/Santiago
BEGIN:STANDARD
TZOFFSETFROM:-0300
TZOFFSETTO:-0400
TZNAME:-04
DTSTART:20230402T030000
END:STANDARD
BEGIN:DAYLIGHT
TZOFFSETFROM:-0400
TZOFFSETTO:-0300
TZNAME:-03
DTSTART:20230903T040000
END:DAYLIGHT
BEGIN:STANDARD
TZOFFSETFROM:-0300
TZOFFSETTO:-0400
TZNAME:-04
DTSTART:20240407T030000
END:STANDARD
BEGIN:DAYLIGHT
TZOFFSETFROM:-0400
TZOFFSETTO:-0300
TZNAME:-03
DTSTART:20240908T040000
END:DAYLIGHT
BEGIN:STANDARD
TZOFFSETFROM:-0300
TZOFFSETTO:-0400
TZNAME:-04
DTSTART:20250406T030000
END:STANDARD
BEGIN:DAYLIGHT
TZOFFSETFROM:-0400
TZOFFSETTO:-0300
TZNAME:-03
DTSTART:20250907T040000
END:DAYLIGHT
END:VTIMEZONE
BEGIN:VEVENT
DTSTART;TZID=America/Santiago:20240731T190000
DTEND;TZID=America/Santiago:20240731T235900
DTSTAMP:20260424T043628
CREATED:20250715T154411Z
LAST-MODIFIED:20250715T154411Z
UID:39767-1722452400-1722470340@finis.cl
SUMMARY:Conversatorio: ¿Hacia dónde se encamina Venezuela?
DESCRIPTION:Tras el resultado de las controvertidas elecciones presidenciales\, en este conversatorio online organizado por Extensión Cultural y el Observatorio de Asuntos Internacionales\, se analizarán los posibles escenarios políticos para el oficialismo y la oposición del país caribeño.\nExponen: \nLorena Oyarzún\, directora de la Escuela de Gobierno y Gestión Pública\, y Gilberto Aranda\, profesor titular del Instituto de Estudios Internacionales\, ambos de la Universidad de Chile. \nModera: \nVanessa Cárdenas\, investigadora del Observatorio de Asuntos Internacionales U. Finis Terrae. \nFormato: Zoom en vivo.\nInscripciones: extensioncultural@uft.cl
URL:https://finis.cl/agenda/conversatorio-hacia-donde-se-encamina-venezuela/
LOCATION:Providencia
CATEGORIES:Extensión,Extensión Cultural
END:VEVENT
END:VCALENDAR