BEGIN:VCALENDAR
VERSION:2.0
PRODID:-//Universidad Finis Terrae - ECPv6.15.17.1//NONSGML v1.0//EN
CALSCALE:GREGORIAN
METHOD:PUBLISH
X-WR-CALNAME:Universidad Finis Terrae
X-ORIGINAL-URL:https://finis.cl
X-WR-CALDESC:Eventos para Universidad Finis Terrae
REFRESH-INTERVAL;VALUE=DURATION:PT1H
X-Robots-Tag:noindex
X-PUBLISHED-TTL:PT1H
BEGIN:VTIMEZONE
TZID:America/Santiago
BEGIN:STANDARD
TZOFFSETFROM:-0300
TZOFFSETTO:-0400
TZNAME:-04
DTSTART:20230402T030000
END:STANDARD
BEGIN:DAYLIGHT
TZOFFSETFROM:-0400
TZOFFSETTO:-0300
TZNAME:-03
DTSTART:20230903T040000
END:DAYLIGHT
BEGIN:STANDARD
TZOFFSETFROM:-0300
TZOFFSETTO:-0400
TZNAME:-04
DTSTART:20240407T030000
END:STANDARD
BEGIN:DAYLIGHT
TZOFFSETFROM:-0400
TZOFFSETTO:-0300
TZNAME:-03
DTSTART:20240908T040000
END:DAYLIGHT
BEGIN:STANDARD
TZOFFSETFROM:-0300
TZOFFSETTO:-0400
TZNAME:-04
DTSTART:20250406T030000
END:STANDARD
BEGIN:DAYLIGHT
TZOFFSETFROM:-0400
TZOFFSETTO:-0300
TZNAME:-03
DTSTART:20250907T040000
END:DAYLIGHT
END:VTIMEZONE
BEGIN:VEVENT
DTSTART;TZID=America/Santiago:20240605T180000
DTEND;TZID=America/Santiago:20240605T235900
DTSTAMP:20260424T073923
CREATED:20250715T154512Z
LAST-MODIFIED:20250715T154512Z
UID:39854-1717610400-1717631940@finis.cl
SUMMARY:Conferencia: “La fórmula de paz del Presidente Zelensky\, el camino a la paz sostenible y duradera en Ucrania”
DESCRIPTION:En este encuentro\, el embajador de Ucrania en Chile\, señor Yurii Diudin\, se referirá a la fórmula de paz que promueve el Presidente de Ucrania\, Volodímir Zelensky\, y que será presentada en Suiza ante líderes de la comunidad internacional los días 15 y 16 de junio. \nInscripciones: extensioncultural@uft.cl
URL:https://finis.cl/agenda/conferencia-la-formula-de-paz-del-presidente-zelensky-el-camino-a-la-paz-sostenible-y-duradera-en-ucrania/
LOCATION:Providencia
CATEGORIES:Extensión Cultural
END:VEVENT
END:VCALENDAR