BEGIN:VCALENDAR
VERSION:2.0
PRODID:-//Universidad Finis Terrae - ECPv6.15.17.1//NONSGML v1.0//EN
CALSCALE:GREGORIAN
METHOD:PUBLISH
X-WR-CALNAME:Universidad Finis Terrae
X-ORIGINAL-URL:https://finis.cl
X-WR-CALDESC:Eventos para Universidad Finis Terrae
REFRESH-INTERVAL;VALUE=DURATION:PT1H
X-Robots-Tag:noindex
X-PUBLISHED-TTL:PT1H
BEGIN:VTIMEZONE
TZID:America/Santiago
BEGIN:STANDARD
TZOFFSETFROM:-0300
TZOFFSETTO:-0400
TZNAME:-04
DTSTART:20230402T030000
END:STANDARD
BEGIN:DAYLIGHT
TZOFFSETFROM:-0400
TZOFFSETTO:-0300
TZNAME:-03
DTSTART:20230903T040000
END:DAYLIGHT
BEGIN:STANDARD
TZOFFSETFROM:-0300
TZOFFSETTO:-0400
TZNAME:-04
DTSTART:20240407T030000
END:STANDARD
BEGIN:DAYLIGHT
TZOFFSETFROM:-0400
TZOFFSETTO:-0300
TZNAME:-03
DTSTART:20240908T040000
END:DAYLIGHT
BEGIN:STANDARD
TZOFFSETFROM:-0300
TZOFFSETTO:-0400
TZNAME:-04
DTSTART:20250406T030000
END:STANDARD
BEGIN:DAYLIGHT
TZOFFSETFROM:-0400
TZOFFSETTO:-0300
TZNAME:-03
DTSTART:20250907T040000
END:DAYLIGHT
END:VTIMEZONE
BEGIN:VEVENT
DTSTART;TZID=America/Santiago:20240516T180000
DTEND;TZID=America/Santiago:20240516T235900
DTSTAMP:20260424T090048
CREATED:20250715T154548Z
LAST-MODIFIED:20250715T154548Z
UID:39893-1715882400-1715903940@finis.cl
SUMMARY:Conferencia: “La relación Chile-Unión Europea en un mundo turbulento”
DESCRIPTION:En momentos en que nuestro país y la Unión Europea refuerzan una asociación política y comercial global\, con la aprobación del Acuerdo Marco Avanzado y el Acuerdo comercial provisional complementario por parte del Parlamento Europeo\, se ofrecerá esta conferencia para analizar los desafíos de cooperación en materias de asuntos exteriores y seguridad\, desarrollo sostenible\, protección del medio ambiente\, cambio climático\, energía sostenible\, estado de derecho y derechos humanos\, entre otros. \nEXPONE: \nQuentin Weiler\, jefe de la Sección Política\, Prensa e Información de la Delegación de la Unión Europea en Chile. \nInscripciones: extensioncultural@uft.cl
URL:https://finis.cl/agenda/conferencia-la-relacion-chile-union-europea-en-un-mundo-turbulento/
LOCATION:Providencia
CATEGORIES:Extensión,Extensión Cultural
END:VEVENT
END:VCALENDAR