BEGIN:VCALENDAR
VERSION:2.0
PRODID:-//Universidad Finis Terrae - ECPv6.15.17.1//NONSGML v1.0//EN
CALSCALE:GREGORIAN
METHOD:PUBLISH
X-ORIGINAL-URL:https://finis.cl
X-WR-CALDESC:Eventos para Universidad Finis Terrae
REFRESH-INTERVAL;VALUE=DURATION:PT1H
X-Robots-Tag:noindex
X-PUBLISHED-TTL:PT1H
BEGIN:VTIMEZONE
TZID:America/Santiago
BEGIN:STANDARD
TZOFFSETFROM:-0300
TZOFFSETTO:-0400
TZNAME:-04
DTSTART:20230402T030000
END:STANDARD
BEGIN:DAYLIGHT
TZOFFSETFROM:-0400
TZOFFSETTO:-0300
TZNAME:-03
DTSTART:20230903T040000
END:DAYLIGHT
BEGIN:STANDARD
TZOFFSETFROM:-0300
TZOFFSETTO:-0400
TZNAME:-04
DTSTART:20240407T030000
END:STANDARD
BEGIN:DAYLIGHT
TZOFFSETFROM:-0400
TZOFFSETTO:-0300
TZNAME:-03
DTSTART:20240908T040000
END:DAYLIGHT
BEGIN:STANDARD
TZOFFSETFROM:-0300
TZOFFSETTO:-0400
TZNAME:-04
DTSTART:20250406T030000
END:STANDARD
BEGIN:DAYLIGHT
TZOFFSETFROM:-0400
TZOFFSETTO:-0300
TZNAME:-03
DTSTART:20250907T040000
END:DAYLIGHT
END:VTIMEZONE
BEGIN:VEVENT
DTSTART;TZID=America/Santiago:20240515T190000
DTEND;TZID=America/Santiago:20240515T235900
DTSTAMP:20260424T091032
CREATED:20250715T154614Z
LAST-MODIFIED:20250715T154614Z
UID:39909-1715799600-1715817540@finis.cl
SUMMARY:Conferencia: “El legado de Andrés Manuel López Obrador”
DESCRIPTION:De cara a las elecciones presidenciales de México del 2 de junio próximo\, en esta conferencia online se analizará el legado del Presidente Andrés Manuel López Obrador (AMLO)\, quien ha anunciado que se retira de la vida pública\, y las propuestas de los principales candidatos a sucederlo en el cargo. \nEXPONE: \nVanesa Cárdenas\, Doctora en Relaciones Internacionales con especialidad en Seguridad Nacional por la Universidad Nacional Autónoma de México (UNAM). \nFecha: Miércoles 15 de mayo / 19:00 horas\nFormato: Conferencia en vivo a través de la plataforma Zoom.\nInscripciones: extensioncultural@uft.cl
URL:https://finis.cl/agenda/conferencia-el-legado-de-andres-manuel-lopez-obrador/
LOCATION:Providencia
CATEGORIES:Extensión,Extensión Cultural
END:VEVENT
END:VCALENDAR