BEGIN:VCALENDAR
VERSION:2.0
PRODID:-//Universidad Finis Terrae - ECPv6.15.17.1//NONSGML v1.0//EN
CALSCALE:GREGORIAN
METHOD:PUBLISH
X-ORIGINAL-URL:https://finis.cl
X-WR-CALDESC:Eventos para Universidad Finis Terrae
REFRESH-INTERVAL;VALUE=DURATION:PT1H
X-Robots-Tag:noindex
X-PUBLISHED-TTL:PT1H
BEGIN:VTIMEZONE
TZID:America/Santiago
BEGIN:STANDARD
TZOFFSETFROM:-0300
TZOFFSETTO:-0400
TZNAME:-04
DTSTART:20230402T030000
END:STANDARD
BEGIN:DAYLIGHT
TZOFFSETFROM:-0400
TZOFFSETTO:-0300
TZNAME:-03
DTSTART:20230903T040000
END:DAYLIGHT
BEGIN:STANDARD
TZOFFSETFROM:-0300
TZOFFSETTO:-0400
TZNAME:-04
DTSTART:20240407T030000
END:STANDARD
BEGIN:DAYLIGHT
TZOFFSETFROM:-0400
TZOFFSETTO:-0300
TZNAME:-03
DTSTART:20240908T040000
END:DAYLIGHT
BEGIN:STANDARD
TZOFFSETFROM:-0300
TZOFFSETTO:-0400
TZNAME:-04
DTSTART:20250406T030000
END:STANDARD
BEGIN:DAYLIGHT
TZOFFSETFROM:-0400
TZOFFSETTO:-0300
TZNAME:-03
DTSTART:20250907T040000
END:DAYLIGHT
END:VTIMEZONE
BEGIN:VEVENT
DTSTART;TZID=America/Santiago:20240514T190000
DTEND;TZID=America/Santiago:20240514T235900
DTSTAMP:20260424T090231
CREATED:20250715T154622Z
LAST-MODIFIED:20250715T154622Z
UID:39923-1715713200-1715731140@finis.cl
SUMMARY:Curso: “Las vanguardias italianas”
DESCRIPTION:Durante la primera mitad del siglo XX\, las vanguardias artísticas revolucionaron el mundo cultural de Occidente en todas sus expresiones. Italia y sus creadores fueron protagonistas de estos movimientos que suscribieron postulados estéticos e ideológicos que cambiaron el rumbo de la historia del arte. En este programa de cuatro sesiones\, que será impartido por el profesor Jorge Salomó\, se revisará el contexto histórico\, algunos de los principales movimientos y exponentes\, y la influencia de estas corrientes en América Latina. \nFechas: Martes 14 y 28 de mayo; 4 y 11 de junio de 2024\nHorario: De 19:00 a 20:15 horas\nFormato: Curso online a través de la plataforma Zoom\nValor: $20.000 (descuentos especiales para la comunidad U. Finis Terrae)\nInscripciones: extensioncultural@uft.cl
URL:https://finis.cl/agenda/curso-las-vanguardias-italianas/
LOCATION:Providencia
CATEGORIES:Extensión,Extensión Cultural
END:VEVENT
END:VCALENDAR