BEGIN:VCALENDAR
VERSION:2.0
PRODID:-//Universidad Finis Terrae - ECPv6.15.17.1//NONSGML v1.0//EN
CALSCALE:GREGORIAN
METHOD:PUBLISH
X-ORIGINAL-URL:https://finis.cl
X-WR-CALDESC:Eventos para Universidad Finis Terrae
REFRESH-INTERVAL;VALUE=DURATION:PT1H
X-Robots-Tag:noindex
X-PUBLISHED-TTL:PT1H
BEGIN:VTIMEZONE
TZID:America/Santiago
BEGIN:STANDARD
TZOFFSETFROM:-0300
TZOFFSETTO:-0400
TZNAME:-04
DTSTART:20230402T030000
END:STANDARD
BEGIN:DAYLIGHT
TZOFFSETFROM:-0400
TZOFFSETTO:-0300
TZNAME:-03
DTSTART:20230903T040000
END:DAYLIGHT
BEGIN:STANDARD
TZOFFSETFROM:-0300
TZOFFSETTO:-0400
TZNAME:-04
DTSTART:20240407T030000
END:STANDARD
BEGIN:DAYLIGHT
TZOFFSETFROM:-0400
TZOFFSETTO:-0300
TZNAME:-03
DTSTART:20240908T040000
END:DAYLIGHT
BEGIN:STANDARD
TZOFFSETFROM:-0300
TZOFFSETTO:-0400
TZNAME:-04
DTSTART:20250406T030000
END:STANDARD
BEGIN:DAYLIGHT
TZOFFSETFROM:-0400
TZOFFSETTO:-0300
TZNAME:-03
DTSTART:20250907T040000
END:DAYLIGHT
END:VTIMEZONE
BEGIN:VEVENT
DTSTART;TZID=America/Santiago:20240430T190000
DTEND;TZID=America/Santiago:20240430T235900
DTSTAMP:20260424T090217
CREATED:20250715T154710Z
LAST-MODIFIED:20250715T154710Z
UID:39963-1714503600-1714521540@finis.cl
SUMMARY:Presentación de “20 días en Mariúpol” en la U. Finis Terrae
DESCRIPTION:La producción del periodista y director de cine ucraniano Mstyslav Chernov\, que ganó el Oscar al “Mejor Documental”\, será exhibida en el Teatro Finis Terrae el martes 30 de abril\, a las 19:00 horas. \nSe trata de una actividad gratuita organizada por Extensión Cultural y el Observatorio de Asuntos Internacionales de la Universidad\, en conjunto con la Embajada de Ucrania en Chile. \nPide tus entradas en extensioncultural@uft.cl. Cupos limitados.
URL:https://finis.cl/agenda/presentacion-de-20-dias-en-mariupol-en-la-u-finis-terrae/
LOCATION:Providencia
CATEGORIES:Extensión,Extensión Cultural
END:VEVENT
END:VCALENDAR