BEGIN:VCALENDAR
VERSION:2.0
PRODID:-//Universidad Finis Terrae - ECPv6.15.17.1//NONSGML v1.0//EN
CALSCALE:GREGORIAN
METHOD:PUBLISH
X-WR-CALNAME:Universidad Finis Terrae
X-ORIGINAL-URL:https://finis.cl
X-WR-CALDESC:Eventos para Universidad Finis Terrae
REFRESH-INTERVAL;VALUE=DURATION:PT1H
X-Robots-Tag:noindex
X-PUBLISHED-TTL:PT1H
BEGIN:VTIMEZONE
TZID:America/Santiago
BEGIN:STANDARD
TZOFFSETFROM:-0300
TZOFFSETTO:-0400
TZNAME:-04
DTSTART:20220403T030000
END:STANDARD
BEGIN:DAYLIGHT
TZOFFSETFROM:-0400
TZOFFSETTO:-0300
TZNAME:-03
DTSTART:20220911T040000
END:DAYLIGHT
BEGIN:STANDARD
TZOFFSETFROM:-0300
TZOFFSETTO:-0400
TZNAME:-04
DTSTART:20230402T030000
END:STANDARD
BEGIN:DAYLIGHT
TZOFFSETFROM:-0400
TZOFFSETTO:-0300
TZNAME:-03
DTSTART:20230903T040000
END:DAYLIGHT
BEGIN:STANDARD
TZOFFSETFROM:-0300
TZOFFSETTO:-0400
TZNAME:-04
DTSTART:20240407T030000
END:STANDARD
BEGIN:DAYLIGHT
TZOFFSETFROM:-0400
TZOFFSETTO:-0300
TZNAME:-03
DTSTART:20240908T040000
END:DAYLIGHT
END:VTIMEZONE
BEGIN:VEVENT
DTSTART;TZID=America/Santiago:20231125T100000
DTEND;TZID=America/Santiago:20231125T235900
DTSTAMP:20260424T173400
CREATED:20250715T154842Z
LAST-MODIFIED:20250715T154842Z
UID:40066-1700906400-1700956740@finis.cl
SUMMARY:Encuentro-Taller Punto Crítico: ¿A la altura de los cambios?
DESCRIPTION:Como una manera de contribuir a la formación y desarrollo del género de la crítica en nuestro país\, la Universidad Finis Terrae y el Círculo de Críticos de Arte de Chile ofrecen este segundo seminario que contará con la participación de destacados expositores. Se trata de una nueva oportunidad teórico-práctica para profundizar en cómo la crítica aborda los cambios (en los medios\, en los diferentes formatos y en las diversas plataformas). \nEXPONEN: \nPatricia Rivadeneira\, actriz y gestora cultural. Cofundadora de Escenix \nMarcelo Simonetti\, académico\, escritor y periodista \nAndrés Maupoint\, académico de la U. de Chile\, compositor y director musical de DMUS Ensemble \nFrancisca Lange\, directora de la Escuela de Literatura de la U. Finis Terrae \nJavier Edwards\, abogado de la U. de Chile y crítico literario. \nFecha: Sábado 25 de noviembre 2023 \nHorario: 10:00 a 13:30 horas \nLugar: Universidad Finis Terrae (Av. Pedro de Valdivia 1509\, Providencia) \n\nInformaciones e inscripciones: extensioncultural@uft.cl
URL:https://finis.cl/agenda/encuentro-taller-punto-critico-a-la-altura-de-los-cambios/
LOCATION:Providencia
CATEGORIES:Extensión,Extensión Cultural
END:VEVENT
END:VCALENDAR