BEGIN:VCALENDAR
VERSION:2.0
PRODID:-//Universidad Finis Terrae - ECPv6.15.17.1//NONSGML v1.0//EN
CALSCALE:GREGORIAN
METHOD:PUBLISH
X-WR-CALNAME:Universidad Finis Terrae
X-ORIGINAL-URL:https://finis.cl
X-WR-CALDESC:Eventos para Universidad Finis Terrae
REFRESH-INTERVAL;VALUE=DURATION:PT1H
X-Robots-Tag:noindex
X-PUBLISHED-TTL:PT1H
BEGIN:VTIMEZONE
TZID:America/Santiago
BEGIN:STANDARD
TZOFFSETFROM:-0300
TZOFFSETTO:-0400
TZNAME:-04
DTSTART:20220403T030000
END:STANDARD
BEGIN:DAYLIGHT
TZOFFSETFROM:-0400
TZOFFSETTO:-0300
TZNAME:-03
DTSTART:20220911T040000
END:DAYLIGHT
BEGIN:STANDARD
TZOFFSETFROM:-0300
TZOFFSETTO:-0400
TZNAME:-04
DTSTART:20230402T030000
END:STANDARD
BEGIN:DAYLIGHT
TZOFFSETFROM:-0400
TZOFFSETTO:-0300
TZNAME:-03
DTSTART:20230903T040000
END:DAYLIGHT
BEGIN:STANDARD
TZOFFSETFROM:-0300
TZOFFSETTO:-0400
TZNAME:-04
DTSTART:20240407T030000
END:STANDARD
BEGIN:DAYLIGHT
TZOFFSETFROM:-0400
TZOFFSETTO:-0300
TZNAME:-03
DTSTART:20240908T040000
END:DAYLIGHT
END:VTIMEZONE
BEGIN:VEVENT
DTSTART;TZID=America/Santiago:20231122T160000
DTEND;TZID=America/Santiago:20231122T235900
DTSTAMP:20260424T173400
CREATED:20250715T154821Z
LAST-MODIFIED:20250715T154821Z
UID:40054-1700668800-1700697540@finis.cl
SUMMARY:Conversatorios en el Pabellón Cultural de los Juegos Parapanamericanos Santiago 2023
DESCRIPTION:Continúa la presencia de nuestra Universidad en el Pabellón Cultural de los Juegos Parapanamericanos Santiago 2023. En el recinto\, ubicado al interior del Parque Estadio Nacional\, se han dispuesto publicaciones de consulta de Ediciones Finis Terrae\, actividades para niños y jóvenes y un espacio de lectura. Ademas\, esta semana se realizarán y transmitirán desde el espacio dos nuevos conversatorios: \n– “Las disciplinas deportivas en la escena artística nacional”. con la exposición del artista y docente de la Facultad de Artes\, César Gabler. \nMiércoles 22 de noviembre\, a las 16:00 horas. \n– “Beneficios de la terapia creativa”\, con la presencia de Francisca Onetto\, Ignacia Yáñez y Paulina Flores\, arteterapeutas y docentes del Magíster Artes en la Salud y Arteterapia de la U. Finis Terrae. \nViernes 24 de noviembre\, a las 16:00 horas. \nTransmisión por IG Live: @fa_ufinisterrae
URL:https://finis.cl/agenda/conversatorios-en-el-pabellon-cultural-de-los-juegos-parapanamericanos-santiago-2023/
LOCATION:Providencia
CATEGORIES:Extensión Cultural
END:VEVENT
BEGIN:VEVENT
DTSTART;TZID=America/Santiago:20231122T160000
DTEND;TZID=America/Santiago:20231122T235900
DTSTAMP:20260424T173400
CREATED:20250715T154842Z
LAST-MODIFIED:20250715T154842Z
UID:40067-1700668800-1700697540@finis.cl
SUMMARY:Taller de lectura: “Análisis de novelas cortas”
DESCRIPTION:En el marco de las actividades para la promoción de las humanidades\, Extensión Cultural de la Universidad Finis Terrae ha organizado este programa de 4 sesiones donde se analizarán novelas cortas\, un género literario que suele caracterizarse por su precisión y número de personajes reducidos\, pero que ofrece un gran espacio de reflexión. Durante este taller se entregarán conceptos clave del contexto de los autores y herramientas para reflexionar en torno a las temáticas de cada texto. \nPROFESORA:\nMaría Trinidad Siles: Licenciada en Castellano de la Pontificia Universidad Católica de Chile (PUC); Diplomada en Didáctica de la Enseñanza de la Lengua y la Literatura de la U. Alberto Hurtado y en Geriatría Social en la PUC. Creadora del emprendimiento “Contra cuento y marea” donde desarrolla talleres de lectura y de memoria cultural en residencias y en las municipalidades de Las Condes y Providencia. \nPROGRAMA \nSesión I: “El acontecimiento”\, de Annie Ernaux\, Premio Nobel de Literatura 2022 (Francia\, 1940)\nMiércoles 22 de noviembre \nSesión II: “Oscar y Mamie Rose”\, de Eric-Emmanuel Schmitt (Francia\, 1960)\nMiércoles 29 de noviembre \nSesión III: “Las gratitudes”\, de Delphine de Vigan (Francia\, 1966)\nMiércoles 6 de diciembre \nSesión IV: “Cosmética del enemigo”\, de Amélie Nothomb (Bélgica\, 1966)\nMiércoles 13 de diciembre \nVALOR: $30.000 (académicos y artistas; y egresados de U. Finis Terrae – 20% de descuento) \nINFORMACIONES E INSCRIPCIONES: extensioncultural@uft.cl \n* Incluye entrega de lecturas. \nFechas: Miércoles 22 y 29 de noviembre; 6 y 13 de diciembre \nHora: 16:00 horas \nFormato: Clases en vivo a través de la plataforma Zoom. \nValor: $30.000 (incluye lecturas). Descuentos especiales y becas para la comunidad Finis. \nInformaciones e inscripciones: extensioncultural@uft.cl
URL:https://finis.cl/agenda/taller-de-lectura-analisis-de-novelas-cortas/
LOCATION:Providencia
CATEGORIES:Extensión,Extensión Cultural
END:VEVENT
BEGIN:VEVENT
DTSTART;TZID=America/Santiago:20231122T180000
DTEND;TZID=America/Santiago:20231122T235900
DTSTAMP:20260424T173400
CREATED:20250715T154821Z
LAST-MODIFIED:20250715T154821Z
UID:40053-1700676000-1700697540@finis.cl
SUMMARY:Conferencia John F. Kennedy: “A 60 años de su controvertida muerte”
DESCRIPTION:El 22 de noviembre de 1963\, el asesinato en Dallas del presidente John F. Kennedy\, remeció a un país completo y cerró un capítulo en la historia política estadounidense. Asimismo\, abrió una serie de interrogantes sobre su muerte que persisten hasta hoy. \n EXPONE:  \nCarlos Basso\, periodista\, escritor y profesor de Periodismo de Investigación en la Universidad de Concepción. \nFecha: Miércoles 22 de noviembre \nHora: 18:00 horas \nInformaciones: extensioncultural@uft.cl
URL:https://finis.cl/agenda/conferencia-john-f-kennedy-a-60-anos-de-su-controvertida-muerte/
LOCATION:Providencia
CATEGORIES:Extensión Cultural
END:VEVENT
END:VCALENDAR