BEGIN:VCALENDAR
VERSION:2.0
PRODID:-//Universidad Finis Terrae - ECPv6.15.17.1//NONSGML v1.0//EN
CALSCALE:GREGORIAN
METHOD:PUBLISH
X-WR-CALNAME:Universidad Finis Terrae
X-ORIGINAL-URL:https://finis.cl
X-WR-CALDESC:Eventos para Universidad Finis Terrae
REFRESH-INTERVAL;VALUE=DURATION:PT1H
X-Robots-Tag:noindex
X-PUBLISHED-TTL:PT1H
BEGIN:VTIMEZONE
TZID:America/Santiago
BEGIN:STANDARD
TZOFFSETFROM:-0300
TZOFFSETTO:-0400
TZNAME:-04
DTSTART:20220403T030000
END:STANDARD
BEGIN:DAYLIGHT
TZOFFSETFROM:-0400
TZOFFSETTO:-0300
TZNAME:-03
DTSTART:20220911T040000
END:DAYLIGHT
BEGIN:STANDARD
TZOFFSETFROM:-0300
TZOFFSETTO:-0400
TZNAME:-04
DTSTART:20230402T030000
END:STANDARD
BEGIN:DAYLIGHT
TZOFFSETFROM:-0400
TZOFFSETTO:-0300
TZNAME:-03
DTSTART:20230903T040000
END:DAYLIGHT
BEGIN:STANDARD
TZOFFSETFROM:-0300
TZOFFSETTO:-0400
TZNAME:-04
DTSTART:20240407T030000
END:STANDARD
BEGIN:DAYLIGHT
TZOFFSETFROM:-0400
TZOFFSETTO:-0300
TZNAME:-03
DTSTART:20240908T040000
END:DAYLIGHT
END:VTIMEZONE
BEGIN:VEVENT
DTSTART;TZID=America/Santiago:20231107T190000
DTEND;TZID=America/Santiago:20231107T235900
DTSTAMP:20260424T173402
CREATED:20250715T154849Z
LAST-MODIFIED:20250715T154849Z
UID:40079-1699383600-1699401540@finis.cl
SUMMARY:Conferencia: “Hitos y desafíos en los 30 años de la Unión Europea”
DESCRIPTION:La firma del tratado de Maastricht entregó a la Unión Europea una sólida identidad política\, económica y de cooperación entre sus miembros. Pero también la ha hecho enfrentar importantes desafíos en la geopolítica actual. \nEn esta conferencia\, que dictará el profesor Luis Lira C.\, docente de la cátedra “Europa en el siglo XXI” y de cursos de Historia y Actualidad en la carrera de Periodismo\, se revisarán los principales hitos de estas tres décadas y también los escenarios que enfrenta ante la Guerra en Ucrania y el conflicto entre Israel y Hamas. \nInscripciones: extensioncultural@uft.cl
URL:https://finis.cl/agenda/conferencia-hitos-y-desafios-en-los-30-anos-de-la-union-europea/
LOCATION:Providencia
CATEGORIES:Extensión,Extensión Cultural
END:VEVENT
END:VCALENDAR