BEGIN:VCALENDAR
VERSION:2.0
PRODID:-//Universidad Finis Terrae - ECPv6.15.17.1//NONSGML v1.0//EN
CALSCALE:GREGORIAN
METHOD:PUBLISH
X-ORIGINAL-URL:https://finis.cl
X-WR-CALDESC:Eventos para Universidad Finis Terrae
REFRESH-INTERVAL;VALUE=DURATION:PT1H
X-Robots-Tag:noindex
X-PUBLISHED-TTL:PT1H
BEGIN:VTIMEZONE
TZID:America/Santiago
BEGIN:STANDARD
TZOFFSETFROM:-0300
TZOFFSETTO:-0400
TZNAME:-04
DTSTART:20220403T030000
END:STANDARD
BEGIN:DAYLIGHT
TZOFFSETFROM:-0400
TZOFFSETTO:-0300
TZNAME:-03
DTSTART:20220911T040000
END:DAYLIGHT
BEGIN:STANDARD
TZOFFSETFROM:-0300
TZOFFSETTO:-0400
TZNAME:-04
DTSTART:20230402T030000
END:STANDARD
BEGIN:DAYLIGHT
TZOFFSETFROM:-0400
TZOFFSETTO:-0300
TZNAME:-03
DTSTART:20230903T040000
END:DAYLIGHT
BEGIN:STANDARD
TZOFFSETFROM:-0300
TZOFFSETTO:-0400
TZNAME:-04
DTSTART:20240407T030000
END:STANDARD
BEGIN:DAYLIGHT
TZOFFSETFROM:-0400
TZOFFSETTO:-0300
TZNAME:-03
DTSTART:20240908T040000
END:DAYLIGHT
END:VTIMEZONE
BEGIN:VEVENT
DTSTART;TZID=America/Santiago:20231106T190000
DTEND;TZID=America/Santiago:20231106T235900
DTSTAMP:20260424T173534
CREATED:20250715T154900Z
LAST-MODIFIED:20250715T154900Z
UID:40098-1699297200-1699315140@finis.cl
SUMMARY:Curso “Milán\, equilibrio entre tradición y modernidad”
DESCRIPTION:Italia tiene su lugar ganado en el mundo. La bota es siempre la más linda de la fiesta\, la reina indiscutida\, esa que todos quieren ver de cerca al menos una vez en la vida. Dentro de los variados destinos italianos\, Milán siempre brilla con luz propia. La capital de Lombardía es símbolo de diseño\, moda y elegancia. Pero es mucho más que eso. También es un recipiente vivo de la historia de Italia\, arquitectura majestuosa\, paisajes y manifestaciones culturales. \nFECHAS: Lunes 6\, 13\, 20 y 27 de noviembre de 2023\nHORARIO DE CLASES: De 19:00 a 20:15 horas\nFORMATO: Curso online a través de la plataforma Zoom \nINFORMACIONES: www.iicsantiago.esteri.it ; www.vai.cl ; www.uft.cl/extensión-cultural \nINSCRIPCIONES: Camila Mejías / extensioncultural@uft.cl \nEl curso tiene un valor de $20.000 que lo cobra y gestiona en su totalidad la Universidad Finis Terrae para solventar los costos del mismo.\nSe entregará certificado de participación digital a quienes cumplan con el 75% de asistencia. \nPROGRAMA \nCLASE I: LUNES 6 DE NOVIEMBRE\nMilán\, la reina de Lombardía\nProfesora Paula Frederick. \nCLASE II: LUNES 13 DE NOVIEMBRE\nMuseos y galerías de arte\nProfesor Jorge Salomó. \nCLASE III: LUNES 20 DE NOVIEMBRE\nArquitectura y diseño\nProfesor Ismael Amarouch. \nCLASE IV: LUNES 27 DE NOVIEMBRE\nTeatro de La Scala\nProfesor Eduardo Browne. \nPROFESORES \nPaula Frederick: Periodista cultural y conductora radial. Máster en Crítica y Periodismo Cinematográfico en Roma\, Italia (2017-2019). Corresponsal en festivales de cine europeos como Venecia\, Berlín\, Roma y Turín. Gestora y docente talleres de apreciación cinematográfica en Centro Cultural Las Condes y Cine CCC. Conductora “Café Duna”\, junto a Polo Ramírez y panelista de cine y serie en “Aire Fresco”\, Radio Duna. Columnista de cine en “Culturizarte”. \nJorge Salomó: Gerente de la Corporación Cultural de Viña del Mar (desde 1995). Máster en Historia de la Pontificia Universidad Católica de Valparaíso\, conferencista especializado en historia del arte y gestión cultural. \nIsmael Amarouch: Arquitecto español. Máster en Proyectos Arquitectónicos Avanzados (2016) y doctor en Proyectos Arquitectónicos Avanzados (2023)\, con mención internacional y calificación sobresaliente cumlaude\, por la Escuela Técnica Superior de Arquitectura\, Universidad Politécnica de Madrid (ETSAM- UPM). En la actualidad\, es profesor del Laboratorio de Investigación Avanzada de la Facultad de Arquitectura\, Diseño y Estudios Creativos de la Universidad Finis Terrae\, \nEduardo Browne: Director de orquesta. Magíster de Johns Hopkins University y The Juilliard School. Como director invitado ha dirigido conciertos y óperas en Estados Unidos\, Chile\, Venezuela\, Perú\, Argentina\, Filipinas y Malasia. \nINSCRIPCIONES\nPara inscribirse en el curso:\n1.- Enviar un correo electrónico a extensioncultural@uft.cl\, solicitando ficha de inscripción.\n2.- Una vez que ha completado la ficha de inscripción recibirá un correo electrónico con los datos\npara realizar la transferencia bancaria por el valor total del curso ($20.000 las 4 sesiones).
URL:https://finis.cl/agenda/curso-milan-equilibrio-entre-tradicion-y-modernidad/
LOCATION:Providencia
CATEGORIES:Extensión Cultural
END:VEVENT
END:VCALENDAR