BEGIN:VCALENDAR
VERSION:2.0
PRODID:-//Universidad Finis Terrae - ECPv6.15.17.1//NONSGML v1.0//EN
CALSCALE:GREGORIAN
METHOD:PUBLISH
X-ORIGINAL-URL:https://finis.cl
X-WR-CALDESC:Eventos para Universidad Finis Terrae
REFRESH-INTERVAL;VALUE=DURATION:PT1H
X-Robots-Tag:noindex
X-PUBLISHED-TTL:PT1H
BEGIN:VTIMEZONE
TZID:America/Santiago
BEGIN:STANDARD
TZOFFSETFROM:-0300
TZOFFSETTO:-0400
TZNAME:-04
DTSTART:20220403T030000
END:STANDARD
BEGIN:DAYLIGHT
TZOFFSETFROM:-0400
TZOFFSETTO:-0300
TZNAME:-03
DTSTART:20220911T040000
END:DAYLIGHT
BEGIN:STANDARD
TZOFFSETFROM:-0300
TZOFFSETTO:-0400
TZNAME:-04
DTSTART:20230402T030000
END:STANDARD
BEGIN:DAYLIGHT
TZOFFSETFROM:-0400
TZOFFSETTO:-0300
TZNAME:-03
DTSTART:20230903T040000
END:DAYLIGHT
BEGIN:STANDARD
TZOFFSETFROM:-0300
TZOFFSETTO:-0400
TZNAME:-04
DTSTART:20240407T030000
END:STANDARD
BEGIN:DAYLIGHT
TZOFFSETFROM:-0400
TZOFFSETTO:-0300
TZNAME:-03
DTSTART:20240908T040000
END:DAYLIGHT
END:VTIMEZONE
BEGIN:VEVENT
DTSTART;TZID=America/Santiago:20230728T110000
DTEND;TZID=America/Santiago:20230728T235900
DTSTAMP:20260424T234833
CREATED:20250715T155156Z
LAST-MODIFIED:20250715T155156Z
UID:40243-1690542000-1690588740@finis.cl
SUMMARY:Conversatorio: “Más vivas que nunca”
DESCRIPTION:Organizado por Museo Ralli Santiago\, la Facultad de Artes y Extensión Cultural de la Universidad Finis Terrae\, este conversatorio tiene como objetivo visibilizar el trabajo de la mujer creadora y evidenciar la presencia de las mujeres-artistas / artistas-mujeres en la Colección Ralli.\nEXPONEN:\n\nAndrea Carreño González\n\nPintora y Licenciada en Artes con mención Pintura de la Pontificia Universidad Católica de Chile. \nPatricia Valle (Artista chilena) \nLicenciada en Artes en la Universidad de Chile con mención en pintura (1986). Se estableció en París donde realizó estudios de Artes en la Universidad París VIII y de serigrafía artística en el Chateau de Montvillargene\, en Chantilly. Ha participado en numerosas exposiciones colectivas a nivel nacional como internacional. Actualmente\, es docente universitaria y realiza producciones de espectáculos\, teatro y televisión. \n\n\nInscripciones: extensioncultural@uft.cl
URL:https://finis.cl/agenda/conversatorio-mas-vivas-que-nunca/
LOCATION:Providencia
CATEGORIES:Extensión Cultural,Seminarios y Charlas
END:VEVENT
END:VCALENDAR