BEGIN:VCALENDAR
VERSION:2.0
PRODID:-//Universidad Finis Terrae - ECPv6.15.17.1//NONSGML v1.0//EN
CALSCALE:GREGORIAN
METHOD:PUBLISH
X-ORIGINAL-URL:https://finis.cl
X-WR-CALDESC:Eventos para Universidad Finis Terrae
REFRESH-INTERVAL;VALUE=DURATION:PT1H
X-Robots-Tag:noindex
X-PUBLISHED-TTL:PT1H
BEGIN:VTIMEZONE
TZID:America/Santiago
BEGIN:STANDARD
TZOFFSETFROM:-0300
TZOFFSETTO:-0400
TZNAME:-04
DTSTART:20240407T030000
END:STANDARD
BEGIN:DAYLIGHT
TZOFFSETFROM:-0400
TZOFFSETTO:-0300
TZNAME:-03
DTSTART:20240908T040000
END:DAYLIGHT
BEGIN:STANDARD
TZOFFSETFROM:-0300
TZOFFSETTO:-0400
TZNAME:-04
DTSTART:20250406T030000
END:STANDARD
BEGIN:DAYLIGHT
TZOFFSETFROM:-0400
TZOFFSETTO:-0300
TZNAME:-03
DTSTART:20250907T040000
END:DAYLIGHT
BEGIN:STANDARD
TZOFFSETFROM:-0300
TZOFFSETTO:-0400
TZNAME:-04
DTSTART:20260405T030000
END:STANDARD
BEGIN:DAYLIGHT
TZOFFSETFROM:-0400
TZOFFSETTO:-0300
TZNAME:-03
DTSTART:20260906T040000
END:DAYLIGHT
END:VTIMEZONE
BEGIN:VEVENT
DTSTART;TZID=America/Santiago:20250513T190000
DTEND;TZID=America/Santiago:20250513T235900
DTSTAMP:20260423T141018
CREATED:20250715T153602Z
LAST-MODIFIED:20250715T153602Z
UID:39436-1747162800-1747180740@finis.cl
SUMMARY:Reestreno documental: “Rudi Heymann: Testigo y protagonista”
DESCRIPTION:Al conmemorarse 80 años del término de la Segunda Guerra Mundial\, este documental centrado en la persona de Rudi Heymann relata su travesía en este trágico contexto histórico. \nORGANIZAN: \nEscuela de Periodismo\, Observatorio de Asuntos Internacionales y Extensión Cultural de la Universidad Finis Terrae. \nINSCRIPCIONES: extensioncultural@uft.cl \nTeatro Universidad Finis Terrae (Av. Pedro de Valdivia 1509\, Providencia). Acceso a estacionamientos por calle Amberes.
URL:https://finis.cl/agenda/reestreno-documental-rudi-heymann-testigo-y-protagonista/
LOCATION:Providencia
CATEGORIES:Extensión,Extensión Cultural,Observatorio de Asuntos Internacionales,Periodismo
END:VEVENT
BEGIN:VEVENT
DTSTART;TZID=America/Santiago:20250514T093000
DTEND;TZID=America/Santiago:20250514T235900
DTSTAMP:20260423T141018
CREATED:20250715T153551Z
LAST-MODIFIED:20250715T153551Z
UID:39415-1747215000-1747267140@finis.cl
SUMMARY:Seminario: “Chile y su Liderazgo Marítimo”
DESCRIPTION:La Academia de Guerra Naval de la Armada de Chile junto al Observatorio de Asuntos Internacionales de la Escuela de Periodismo\, y Extensión Cultural invitan a este seminario que contará con la presencia de Juan Eduardo Vargas\, rector de nuestra Universidad\, y destacados expertos para hablar de Chile y su liderazgo marítimo.\n\nPROGRAMA:\nPALABRAS DE BIENVENIDA\n▪ Sr. Juan Eduardo Vargas\, rector de la Universidad Finis Terrae.\n▪ Capitán de Navío Rafael Letelier\, director de la Academia de Guerra Naval.\n\nMESA 1: GEOPOLÍTICA DE LOS MARES\nExpositores:\n▪ María José Piñeiro\, Profesor civil y Coordinadora del centro de estudios navales y marítimos de la Academia de Guerra Naval\, Candidata a doctor en seguridad y defensa ANEPE.\n▪ Alberto Rojas\, director del Observatorio de Asuntos Internacionales\, U. Finis Terrae. Magíster en Ciencia Política\, mención Relaciones Internacionales de la Pontificia Universidad Católica de Chile.\nModera:\n▪ Luis Lira\, investigador del Observatorio de Asuntos Internacionales\, U. Finis Terrae.\n\nMESA 2. INTERESES MARÍTIMOS\nExpositores:\n▪ Edmundo González Robles. Jefe de cátedra de Intereses Marítimos de la Academia de Guerra Naval. Presidente de la Liga marítima de Chile. Magister en Ciencias Navales y Marítimas mención geopolítica\, de la Academia de Guerra Naval\, y Master of Science de la Salve Regina University\, Newport\, R.I.\n▪ Boris Pastén\, académico e investigador de la Facultad de Economía y Negocios\, U. Finis Terrae.\nModera:\n▪ Natalia Alviña. Profesora y Coordinadora de Vinculación con el medio de la Academia de Guerra Naval.\n\nMESA 3. HISTORIA DEL PODER MARÍTIMO\nExpositores:\n▪ Dr. Cristián Garay Vera\, Director del Magister en Estudios Internacionales\, USACH. Doctor en Estudios Americanos\, Mención en Relaciones internacionales\, USACH. Doctor en geografía e historia (UNED-España) y Licenciado y magister en Historia U. Chile.\n▪ Dr. David Hardy\, jefe de cátedra Servicio de Estado Mayor Academia de Guerra Naval. Doctor en Historia\, PUCV. Magister en Ciencias navales y marítimas\, e Investigador Visitante Asociado del King ́s College de Londres.\nModera:\n▪ Vanessa Cárdenas\, investigadora del Observatorio de Asuntos Internacionales\, U. Finis Terrae.\n\nCIERRE DEL SEMINARIO\n▪ Sr. Ronald McIntyre\, director de la Academia Nacional de Estudios Políticos y Estratégicos. \n\nINSCRIPCIONES: extensióncultural@uft.cl
URL:https://finis.cl/agenda/seminario-chile-y-su-liderazgo-maritimo/
LOCATION:Providencia
CATEGORIES:Extensión Cultural,Observatorio de Asuntos Internacionales
END:VEVENT
BEGIN:VEVENT
DTSTART;TZID=America/Santiago:20250514T173000
DTEND;TZID=America/Santiago:20250514T235900
DTSTAMP:20260423T141018
CREATED:20250715T153550Z
LAST-MODIFIED:20250715T153550Z
UID:39414-1747243800-1747267140@finis.cl
SUMMARY:Charla Pelayo Castro Zuzuárregui\, Director del Servicio de Acción Exterior de la Unión Europea
DESCRIPTION:En un contexto geopolítico cada vez más incierto\, la Unión Europea y América Latina están reforzando su alianza estratégica para enfrentar conjuntamente retos globales y defender valores e intereses comunes. De cara a la próxima Cumbre UE-CELAC en Colombia\, la conferencia abordará las oportunidades y desafíos actuales para impulsar la cooperación política\, económica y social de la UE con Chile y la región. \nExpositor: Pelayo Castro\, Director para las Américas del Servicio Europeo de Acción Exterior (SEAE)
URL:https://finis.cl/agenda/charla-pelayo-castro-zuzuarregui-director-del-servicio-de-accion-exterior-de-la-union-europea/
LOCATION:Providencia
CATEGORIES:Extensión,Extensión Cultural,Observatorio de Asuntos Internacionales
END:VEVENT
BEGIN:VEVENT
DTSTART;TZID=America/Santiago:20250522T120000
DTEND;TZID=America/Santiago:20250522T235900
DTSTAMP:20260423T141018
CREATED:20250715T153557Z
LAST-MODIFIED:20250715T153557Z
UID:39427-1747915200-1747958340@finis.cl
SUMMARY:Inauguración exposición: “Colección de Arte Joven”
DESCRIPTION:La Facultad de Artes\, junto a la Dirección de Relaciones Institucionales y Extensión Cultural y la Dirección de Creación Artística\, tiene el agrado de invitarles a la inauguración de la Exposición Colección de Arte Joven. \n\n\nEsta muestra reúne una selección de obras de la Colección de Arte Joven de la Universidad Finis Terrae\, cuyo acervo comenzó a materializarse en 1998 a partir del interés en obras creadas por artistas formados en el entorno universitario y cuya trayectoria ha contribuido activamente al desarrollo del arte contemporáneo a nivel nacional e internacional. \n\n\nAl mismo tiempo\, esta exposición marca un momento significativo que es la reapertura de nuestra sala de exposiciones\, un espacio que se abre a la comunidad y a la comuna en que está inserta y que retomamos con entusiasmo para dar visibilidad al arte. \n\nLes esperamos para compartir este hito y celebrar juntos el valor patrimonial de esta colección\, que ha crecido por más de 25 años acompañando el devenir artístico de distintas generaciones.
URL:https://finis.cl/agenda/inauguracion-exposicion-color-arte-joven/
LOCATION:Providencia
CATEGORIES:Creación artística,Extensión,Extensión Cultural,Facultad de Artes,Vicerrectoría Investigación
END:VEVENT
BEGIN:VEVENT
DTSTART;TZID=America/Santiago:20250526T190000
DTEND;TZID=America/Santiago:20250526T235900
DTSTAMP:20260423T141018
CREATED:20250715T153753Z
LAST-MODIFIED:20250715T153753Z
UID:39460-1748286000-1748303940@finis.cl
SUMMARY:Curso online: “El nuevo orden mundial: El mundo antes y después de Donald Trump”
DESCRIPTION:Desde que el lunes 20 de enero pasado Donald Trump asumiera su segundo periodo en la Casa Blanca\, la comunidad internacional se ha visto sorprendida con un conjunto de anuncios y medidas que amenazan el orden mundial imperante desde el fin de la Guerra Fría. \nUn panorama que desafía a las fuerzas aliadas de Estados Unidos; a la incidencia de la Organización del Tratado del Atlántico Norte (OTAN) y otras entidades que promueven el multilateralismo\, y una guerra comercial cuyos alcances aún son difíciles de prever. \nPara analizar este mundo en transformación\, Extensión Cultural y el Observatorio de Asuntos Internacionales de la Universidad Finis Terrae han organizado este curso online de cuatro sesiones\, en que se revisarán los fundamentos de estos cambios y las perspectivas tras los anuncios del Presidente Donald Trump en los primeros cien días de su segundo Gobierno. \nPROFESORA \nVanessa Cárdenas: Doctora en Relaciones Internacionales con especialidad en Seguridad Nacional por la Universidad Nacional Autónoma de México (UNAM). Licenciada en Relaciones Internacionales y Master en Análisis Político y Medios de Información por el TEC de Monterrey. Investigadora del Observatorio de Asuntos Internacionales de la Universidad Finis Terrae. Cuenta con más de 15 años de experiencia académica en distintos países de Latinoamérica. \nFECHAS: Lunes 5\, 12\, 19 y 26 de mayo \nHORARIO DE CLASES: 19:00 horas \nLUGAR: Curso online a través de la plataforma Zoom \nINSCRIPCIONES: Camila Mejías / extensioncultural@uft.cl
URL:https://finis.cl/agenda/curso-online-el-nuevo-orden-mundial-el-mundo-antes-y-despues-de-donald-trump/
LOCATION:Providencia
CATEGORIES:Extensión,Extensión Cultural
END:VEVENT
BEGIN:VEVENT
DTSTART;TZID=America/Santiago:20250527T111000
DTEND;TZID=America/Santiago:20250527T235900
DTSTAMP:20260423T141018
CREATED:20250715T153503Z
LAST-MODIFIED:20250715T153503Z
UID:39400-1748344200-1748390340@finis.cl
SUMMARY:Conferencia: “Corea y Chile: Una relación que mira al futuro”
DESCRIPTION:Extensión Cultural junto al Observatorio de Asuntos Internacionales de la Facultad de Humanidades y Comunicaciones invitan a esta conferencia que contará con la presencia del embajador de la República de Corea en Chile. \nEXPONE: \nSr. Hakjae Kim: Excelentísimo embajador de la República de Corea en Chile. \nInscripciones: extensioncultural@uft.cl \n 
URL:https://finis.cl/agenda/conferencia-corea-y-chile-una-relacion-que-mira-al-futuro/
LOCATION:Providencia
CATEGORIES:Extensión,Extensión Cultural,Observatorio de Asuntos Internacionales,Seminarios y Charlas
END:VEVENT
END:VCALENDAR