BEGIN:VCALENDAR
VERSION:2.0
PRODID:-//Universidad Finis Terrae - ECPv6.15.17.1//NONSGML v1.0//EN
CALSCALE:GREGORIAN
METHOD:PUBLISH
X-ORIGINAL-URL:https://finis.cl
X-WR-CALDESC:Eventos para Universidad Finis Terrae
REFRESH-INTERVAL;VALUE=DURATION:PT1H
X-Robots-Tag:noindex
X-PUBLISHED-TTL:PT1H
BEGIN:VTIMEZONE
TZID:America/Santiago
BEGIN:STANDARD
TZOFFSETFROM:-0300
TZOFFSETTO:-0400
TZNAME:-04
DTSTART:20230402T030000
END:STANDARD
BEGIN:DAYLIGHT
TZOFFSETFROM:-0400
TZOFFSETTO:-0300
TZNAME:-03
DTSTART:20230903T040000
END:DAYLIGHT
BEGIN:STANDARD
TZOFFSETFROM:-0300
TZOFFSETTO:-0400
TZNAME:-04
DTSTART:20240407T030000
END:STANDARD
BEGIN:DAYLIGHT
TZOFFSETFROM:-0400
TZOFFSETTO:-0300
TZNAME:-03
DTSTART:20240908T040000
END:DAYLIGHT
BEGIN:STANDARD
TZOFFSETFROM:-0300
TZOFFSETTO:-0400
TZNAME:-04
DTSTART:20250406T030000
END:STANDARD
BEGIN:DAYLIGHT
TZOFFSETFROM:-0400
TZOFFSETTO:-0300
TZNAME:-03
DTSTART:20250907T040000
END:DAYLIGHT
END:VTIMEZONE
BEGIN:VEVENT
DTSTART;TZID=America/Santiago:20240604T110000
DTEND;TZID=America/Santiago:20240604T235900
DTSTAMP:20260424T060539
CREATED:20250715T154532Z
LAST-MODIFIED:20250715T154532Z
UID:39864-1717498800-1717545540@finis.cl
SUMMARY:Premios Excelencia Académica
DESCRIPTION:La tradicional ceremonia de nuestra Universidad se realizará el martes 04 de junio\, a las 11:00 horas\, en el Teatro Finis Terrae. En la oportunidad\, se distinguirá a los alumnos con los mejores promedios de notas de todas las carreras.
URL:https://finis.cl/agenda/premios-excelencia-academica/
LOCATION:Providencia
CATEGORIES:Ceremonias y Otras Actividades Institucionales,Extensión,Extensión Cultural
END:VEVENT
BEGIN:VEVENT
DTSTART;TZID=America/Santiago:20240605T180000
DTEND;TZID=America/Santiago:20240605T235900
DTSTAMP:20260424T060539
CREATED:20250715T154512Z
LAST-MODIFIED:20250715T154512Z
UID:39854-1717610400-1717631940@finis.cl
SUMMARY:Conferencia: “La fórmula de paz del Presidente Zelensky\, el camino a la paz sostenible y duradera en Ucrania”
DESCRIPTION:En este encuentro\, el embajador de Ucrania en Chile\, señor Yurii Diudin\, se referirá a la fórmula de paz que promueve el Presidente de Ucrania\, Volodímir Zelensky\, y que será presentada en Suiza ante líderes de la comunidad internacional los días 15 y 16 de junio. \nInscripciones: extensioncultural@uft.cl
URL:https://finis.cl/agenda/conferencia-la-formula-de-paz-del-presidente-zelensky-el-camino-a-la-paz-sostenible-y-duradera-en-ucrania/
LOCATION:Providencia
CATEGORIES:Extensión Cultural
END:VEVENT
BEGIN:VEVENT
DTSTART;TZID=America/Santiago:20240607T090000
DTEND;TZID=America/Santiago:20240607T235900
DTSTAMP:20260424T060539
CREATED:20250715T154511Z
LAST-MODIFIED:20250715T154511Z
UID:39853-1717750800-1717804740@finis.cl
SUMMARY:Ceremonia Becas Medicina 2024
DESCRIPTION:El viernes 7 de junio\, a las 9:30 horas\, en la Sala de Exposiciones\, se realizará esta ceremonia en que diecinueve estudiantes de primer y segundo año de la carrera de Medicina recibirán este beneficio. El fondo de becas para alumnos de Medicina es fruto del generoso aporte de donantes anónimos\, egresados\, Fundación Kete y Laboratorios Saval. \nOrganiza: Consejo de Desarrollo – Dirección de Relaciones Institucionales.
URL:https://finis.cl/agenda/ceremonia-becas-medicina-2024/
LOCATION:Providencia
CATEGORIES:Ceremonias y Otras Actividades Institucionales,Extensión,Extensión Cultural
END:VEVENT
BEGIN:VEVENT
DTSTART;TZID=America/Santiago:20240613T110000
DTEND;TZID=America/Santiago:20240613T235900
DTSTAMP:20260424T060539
CREATED:20250715T154503Z
LAST-MODIFIED:20250715T154503Z
UID:39837-1718276400-1718323140@finis.cl
SUMMARY:Extensión Cultural y Escuela de Periodismo presentan “FUTBOLISSIMO”
DESCRIPTION:A pocos días del comienzo de la Copa América\, el principal torneo internacional oficial de fútbol masculino en América del Sur\, Extensión Cultural y la Escuela de Periodismo lanzan “FUTBOLISSIMO”. Se trata de un podcast que se emitirá semanalmente durante el desarrollo de esta competencia\, con historias de este deporte y mucho humor. Conducido por Marco Antonio de la Parra\, director artístico del Teatro Finis Terrae\, con la participación especial de León y Gregory Cohen. \nInvitamos a la comunidad Finis Terrae a participar en la grabación del primer programa\, el día jueves 13 de junio\, a las 11:00 horas. Lugar: Estudios de Grabación Escuela de Periodismo.
URL:https://finis.cl/agenda/extension-cultural-y-escuela-de-periodismo-presentan-futbolissimo/
LOCATION:Providencia
CATEGORIES:Extensión,Extensión Cultural,Periodismo
END:VEVENT
BEGIN:VEVENT
DTSTART;TZID=America/Santiago:20240617T190000
DTEND;TZID=America/Santiago:20240617T235900
DTSTAMP:20260424T060539
CREATED:20250715T154503Z
LAST-MODIFIED:20250715T154503Z
UID:39838-1718650800-1718668740@finis.cl
SUMMARY:Conferencia: “Santo Tomás de Aquino y el arte en la Edad Media”
DESCRIPTION:Para conmemorar los 750 años de la muerte de Santo Tomás de Aquino\, uno de los teólogos y filósofos más importantes de todos los tiempos\, Extensión Cultural de la U. Finis Terrae y el Instituto Italiano de Cultura ofrecerán esta conferencia online. \nEXPONE: \nProfesor Jorge Salomó analizará la influencia de sus preceptos en el arte de la Edad Media hasta nuestros días. \nInscripciones: extensioncultural@uft.cl
URL:https://finis.cl/agenda/conferencia-santo-tomas-de-aquino-y-el-arte-en-la-edad-media/
LOCATION:Providencia
CATEGORIES:Extensión,Extensión Cultural
END:VEVENT
BEGIN:VEVENT
DTSTART;TZID=America/Santiago:20240619T183000
DTEND;TZID=America/Santiago:20240619T235900
DTSTAMP:20260424T060539
CREATED:20250715T154455Z
LAST-MODIFIED:20250715T154455Z
UID:39822-1718821800-1718841540@finis.cl
SUMMARY:Extensión Cultural y Escuela de Periodismo presentan “FUTBOLISSIMO”
DESCRIPTION:A pocos días del comienzo de la Copa América\, el principal torneo internacional oficial de fútbol masculino en América del Sur\, Extensión Cultural y la Escuela de Periodismo lanzan “FUTBOLISSIMO”. \nSe trata de un podcast que se emitirá semanalmente durante el desarrollo de esta competencia\, con historias de este deporte y mucho humor. Conducido por Marco Antonio de la Parra\, director artístico del Teatro Finis Terrae\, con la participación especial de León y Gregory Cohen. \nPRIMER CAPÍTULO: Miércoles 19 de junio / 18:30 horas \nCONÉCTATE A postdatauft.cl
URL:https://finis.cl/agenda/extension-cultural-y-escuela-de-periodismo-presentan-futbolissimo-2/
LOCATION:Providencia
CATEGORIES:Extensión,Extensión Cultural,Periodismo
END:VEVENT
BEGIN:VEVENT
DTSTART;TZID=America/Santiago:20240620T203000
DTEND;TZID=America/Santiago:20240630T235900
DTSTAMP:20260424T060539
CREATED:20250715T154512Z
LAST-MODIFIED:20250715T154512Z
UID:39855-1718915400-1719791940@finis.cl
SUMMARY:Teatro Finis Terrae | “La Metamorfosis”
DESCRIPTION:SOLO 8 FUNCIONES – En el marco del centenario de la muerte de uno de los escritores más influyentes de la literatura universal\, el reconocido actor de teatro físico Ricardo Gaete trae al Teatro Finis Terrae su aplaudida versión de La Metamorfosis tras más de 100 funciones por Chile\, Latinoamérica y Europa. Un imperdible para toda la familia\, adultos y jóvenes sobre una de las obras maestras del gran escritor checo\, Franz Kafka. \nUna mañana Gregorio Samsa despierta\, luego de una pesadilla\, sufriendo un cambio que le hace ver y comportar como el insecto que desde niño le ha hecho sentir su entorno familiar y social. En medio del automatismo de una rutina mental y física\, perdiendo y olvidando su naturaleza humana\, el personaje irá somatizando progresivamente una transformación y alienación irreversibles. La Metamorfosis es una de las obras cumbres de la literatura moderna escrita en 1915 y que sigue resonando inexorablemente hoy en día. \n“Es una metáfora de la condición humana. Las pensiones\, la corrupción política\, la información que deforma las diversas realidades\, etc. son hoy unos de los elementos más aborrecibles. Desde ahí\, si pensamos en la novela de Kafka\, nos damos cuenta como la familia Samsa convive con eso que no corresponde al humano… y nosotros ¿nos adaptamos o acostumbramos\, en el letargo frente al nuevo intento? subraya Ricardo Gaete. \nEsta versión teatral dialoga con lenguajes escénicos que tiene su raíz en el arte corporal\, creado por el actor y mimo francés Etienne Decroux (1898-1991)\, incorporando la caracterización física y vocal de Ricardo Gaete quien es autor\, director y protagonista de este unipersonal donde interpreta siete personajes\, incluyendo al espectro de Franz Kafka a 100 años de su muerte. La puesta en escena cuenta además con la asesoría escénica del Premio Nacional de Artes Ramón Núñez y la iluminación del destacado escenógrafo de trayectoria Willy Ganga. \nRicardo Gaete \n\nRicardo Gaete es uno de los más destacados actores de teatro físico en Chile y ha seguido la línea de los más importantes maestros del mimodrama y teatro físico como Marcel Marceau (1923-2027) y Ángel Elizondo (1932-2022)\, con estudios en la International School of Dramatic Corporeal Mime de Londres y Doctorando de la Universidad Complutense de Madrid. Es además fundador de EscenafísicA\, la primera Escuela Internacional de Mimodrama Contemporáneo & Teatro Corporal en Latinoamérica. Ha llevado a escena la trilogía Kafka con La Metamorfosis\, PRIMATE… Informe para una academia y K…El Proceso\, entre otros reconocidos montajes que ha girado por el mundo entero. \n\nTeatro Finis Terrae\, Pocuro 1935\, Providencia\, Stgo.\nMás información de valores de entradas y descuentos ACÁ
URL:https://finis.cl/agenda/teatro-finis-terrae-la-metamorfosis/
LOCATION:Providencia
CATEGORIES:Extensión Cultural,Teatro Finis Terrae
END:VEVENT
BEGIN:VEVENT
DTSTART;TZID=America/Santiago:20240624T180000
DTEND;TZID=America/Santiago:20240624T235900
DTSTAMP:20260424T060539
CREATED:20250715T154629Z
LAST-MODIFIED:20250715T154629Z
UID:39934-1719252000-1719273540@finis.cl
SUMMARY:Taller de Pablo Simonetti para futuros escritores: 14° versión
DESCRIPTION:14 a versión del taller que ha contribuido a consolidar una nueva generación de escritores. \nEntre sus anteriores participantes se cuentan:\n• 26 talleristas publicados por editoriales reconocidas.\n• 12 ganadores de la beca creativa del Fondo Nacional del Libro.\n• 5 talleristas aceptados en prestigiosos posgrados de creación literaria.\n• Premios Concurso Roberto Bolaño (2013\, 2020 y 2022).\n• 3 menciones honrosas Concurso Roberto Bolaño (2014\, 2015 y 2020).\n• Premio José Nuez Martín de la UC a la mejor novela publicada en 2014.\n• 1 ganador y 8 finalistas Concurso de Cuentos Paula.\n• 1 seleccionado en Bogotá 39 (2017).\n• 1 ganadora de la Muestra Nacional de Dramaturgia (2017).\n• Primer lugar del Premio Novela de la Revista de Libros de El Mercurio en 2018.\n• Premio del Ministerio de las Culturas 2018 a las mejores obras publicadas\, categoría\ncuento.\n• 4 ganadores del Premio Municipal Juegos Literarios Gabriela Mistral (2013\, 2015\, 2017 y\n2019).\n• 2 menciones honrosas Juegos Literarios Gabriela Mistral (2015 y 2019).\n• Primer y tercer lugar Concurso “Teresa Hamel 2021”\, de la Sociedad de Escritores de Chile.\n• 2 menciones honrosas Concurso “Teresa Hamel 2021”\, de la Sociedad de Escritores de\nChile. \nREQUISITOS:\n• Los postulantes deben enviar un texto narrativo de máximo 10 páginas a\ntallersimonetti@uft.cl con nombre\, correo electrónico y teléfono del autor.\n• Fecha final de postulación: martes 21 de mayo de 2024\nPROCESO DE SELECCIÓN:\n• Los seleccionados serán becados por la Universidad \nFECHA DE INICIO: LUNES 24 DE JUNIO\nDURACIÓN: 20 SESIONES / HORARIO: LUNES 18:00 HRS. / LAS SESIONES SE REALIZARÁN VÍA\nZOOM
URL:https://finis.cl/agenda/taller-de-pablo-simonetti-para-futuros-escritores-14-version/
LOCATION:Providencia
CATEGORIES:Extensión,Extensión Cultural,Taller Literario
END:VEVENT
BEGIN:VEVENT
DTSTART;TZID=America/Santiago:20240625T190000
DTEND;TZID=America/Santiago:20240625T235900
DTSTAMP:20260424T060539
CREATED:20250715T154450Z
LAST-MODIFIED:20260331T193654Z
UID:39814-1719342000-1719359940@finis.cl
SUMMARY:Cátedra Siglo XXI: “Kafka 100”
DESCRIPTION:En el marco de las conmemoraciones del centenario de la muerte de Franz Kafka (1883-1924)\, uno de los escritores más influyentes de la literatura universal\, la Cátedra Siglo XXI de la Universidad Finis Terrae\, ofrecerá un ciclo de conferencias destinado a analizar los grandes hitos de la vida y obra del autor checo\, bajo la mirada de los destacados expositores Diamela Eltit\, Gregory Cohen y León Cohen\, y del director de la Cátedra\, Marco Antonio de la Parra. \nFechas: 25 y 27 de junio; 2 y 4 de julio – 19:00 horas \nInscripciones: extensioncultural@uft.cl
URL:https://finis.cl/agenda/catedra-siglo-xxi-kafka-100/
LOCATION:Providencia
CATEGORIES:Cátedra Siglo XXI,Ciclos,Extensión,Extensión Cultural
END:VEVENT
BEGIN:VEVENT
DTSTART;TZID=America/Santiago:20240626T183000
DTEND;TZID=America/Santiago:20240626T235900
DTSTAMP:20260424T060539
CREATED:20250715T154449Z
LAST-MODIFIED:20250715T154449Z
UID:39813-1719426600-1719446340@finis.cl
SUMMARY:“FUTBOLISSIMO”\, segundo capítulo
DESCRIPTION:Extensión Cultural y PostData de la Escuela de Periodismo están emitiendo “FUTBOLISSIMO”. Se trata de un podcast semanal durante el desarrollo de la Copa América\, con historias de este deporte y mucho humor. Conducido por Marco Antonio de la Parra\, director artístico del Teatro Finis Terrae\, con la participación especial de León y Gregory Cohen. \nSEGUNDO CAPÍTULO: Miércoles 26 de junio / 18:30 horas \nCONÉCTATE A postdatauft.cl
URL:https://finis.cl/agenda/futbolissimo-segundo-capitulo/
LOCATION:Providencia
CATEGORIES:Extensión,Extensión Cultural,Periodismo
END:VEVENT
END:VCALENDAR