BEGIN:VCALENDAR
VERSION:2.0
PRODID:-//Universidad Finis Terrae - ECPv6.15.17.1//NONSGML v1.0//EN
CALSCALE:GREGORIAN
METHOD:PUBLISH
X-ORIGINAL-URL:https://finis.cl
X-WR-CALDESC:Eventos para Universidad Finis Terrae
REFRESH-INTERVAL;VALUE=DURATION:PT1H
X-Robots-Tag:noindex
X-PUBLISHED-TTL:PT1H
BEGIN:VTIMEZONE
TZID:America/Santiago
BEGIN:STANDARD
TZOFFSETFROM:-0300
TZOFFSETTO:-0400
TZNAME:-04
DTSTART:20220403T030000
END:STANDARD
BEGIN:DAYLIGHT
TZOFFSETFROM:-0400
TZOFFSETTO:-0300
TZNAME:-03
DTSTART:20220911T040000
END:DAYLIGHT
BEGIN:STANDARD
TZOFFSETFROM:-0300
TZOFFSETTO:-0400
TZNAME:-04
DTSTART:20230402T030000
END:STANDARD
BEGIN:DAYLIGHT
TZOFFSETFROM:-0400
TZOFFSETTO:-0300
TZNAME:-03
DTSTART:20230903T040000
END:DAYLIGHT
BEGIN:STANDARD
TZOFFSETFROM:-0300
TZOFFSETTO:-0400
TZNAME:-04
DTSTART:20240407T030000
END:STANDARD
BEGIN:DAYLIGHT
TZOFFSETFROM:-0400
TZOFFSETTO:-0300
TZNAME:-03
DTSTART:20240908T040000
END:DAYLIGHT
END:VTIMEZONE
BEGIN:VEVENT
DTSTART;TZID=America/Santiago:20230925T190000
DTEND;TZID=America/Santiago:20231030T235900
DTSTAMP:20260424T173354
CREATED:20250715T155035Z
LAST-MODIFIED:20250715T155035Z
UID:40166-1695668400-1698710340@finis.cl
SUMMARY:Curso: “El retrato\, dibujo básico de la cabeza”
DESCRIPTION:En este taller se aborda la construcción de la cabeza\, a partir de la geometría\, en donde la utilización de la línea\, la medida\, ejes y direcciones nos permitirán estructurar de manera correcta las diferentes vistas que tenemos del modelo. \nImpartido por la profesora Sandra Guzmán\, artista visual y académica; licenciada en Artes Visuales y Magister en Prácticas Artísticas Contemporáneas de la Universidad Finis Terrae. Docente de la Línea de Dibujo de la Facultad de Artes Visuales de esta casa de estudios. \nFechas: Lunes 25 de septiembre; 2\, 16\, 23 y 30 de octubre\nHora: 19:00 horas \nFormato: Clases online en vivo. \nValor: $25.000 (académicos y artistas; y egresados de U. Finis Terrae tienen el 20% de descuento). \nInscripciones e informaciones: extensioncultural@uft.cl \nPROGRAMA \nCLASE 1: LUNES 25 DE SEPTIEMBRE\nDibujo de una cabeza (vista perfil). Para ello se utilizarán elementos propios del dibujo (ejes\,\ndirecciones\, medidas). \nCLASE 2: LUNES 2 DE OCTUBRE\nDibujo de una cabeza (vista frontal). Se abordará el dibujo de manera esquemática\, estableciendo\nrelaciones y proporciones generales. \nCLASE 3: LUNES 16 DE OCTUBRE\nDibujo de una cabeza (vista tres cuartos desde arriba). Este dibujo introduce la perspectiva para\norganizar las diferentes partes del rostro y su correcto punto de vista. \nCLASE 4: LUNES 23 DE OCTUBRE\nDibujo de una cabeza (vista tres cuartos desde abajo). En esta sesión el alumno aprenderá a\nrastrear la geometría implícita de la cabeza y ubicarla correctamente en la hoja. \nCLASE 5: LUNES 30 DE OCTUBRE\nCómo rastrear ejes y direcciones desde una fotografía del rostro. A partir de una imagen\, los\nparticipantes trabajarán en la ubicación correcta de la cabeza en el espacio.
URL:https://finis.cl/agenda/curso-el-retrato-dibujo-basico-de-la-cabeza/
LOCATION:Providencia
CATEGORIES:Extensión Cultural
END:VEVENT
BEGIN:VEVENT
DTSTART;TZID=America/Santiago:20230926T190000
DTEND;TZID=America/Santiago:20231031T235900
DTSTAMP:20260424T173354
CREATED:20250715T155034Z
LAST-MODIFIED:20250715T155034Z
UID:40165-1695754800-1698796740@finis.cl
SUMMARY:Cátedra Siglo XXI: “La herencia de Ítalo Calvino”
DESCRIPTION:Para conmemorar el centenario del natalicio de Ítalo Calvino (1923-1985)\, considerado uno de los grandes autores italianos del siglo XX\, el Instituto Italiano de Cultura y la Universidad Finis Terrae ofrecerán seis sesiones de Cátedra Siglo XXI\, dirigida por el destacado dramaturgo y psiquiatra Marco Antonio de la Parra\, para analizar las obras más emblemáticas de este pensador y filósofo\, considerado uno de los mejores escritores de todos los tiempos. \nExponen junto a De la Parra: El escritor Pablo Simonetti; el periodista\, escritor y guionista Francisco Ortega; la escritora y doctora en Literatura y Estudios Culturas de la U. de Georgetown María José Navia; la ensayista y académica de número de la Academia Chile de la lengua Adriana Valdés y el escritor y académico Fernando Pérez Oyarzún. \nFechas: Martes 26 de septiembre; 3\, 10\, 17\, 24 y 31 de octubre \nHora: 19:00 horas \nCátedra gratuita abierta a toda la comunidad\, previa inscripción.\nFormato: Conferencias en vivo a través de la plataforma Zoom. \nInscripciones e informaciones: extensioncultural@uft.cl \nPROGRAMA \nCONFERENCIA I: MARTES 26 DE SEPTIEMBRE\nIntroducción: El escritor que quiso ser invisible\nProfesor Marco Antonio de la Parra\, dramaturgo y psiquiatra. Director Cátedra Siglo XXI y Teatro\nUniversidad Finis Terrae. \nCONFERENCIA II: MARTES 3 DE OCTUBRE\nAnálisis de “Seis Propuestas para el Próximo Milenio” (1988)\nExpone: Pablo Simonetti\, escritor y director del Taller Literario de la Universidad Finis Terrae. \nCONFERENCIA III: MARTES 10 DE OCTUBRE\n“Las Cosmicómicas” (1965)\, explosión de fantasías\nExpone: Profesor Francisco Ortega\, periodista\, escritor y guionista. \nCONFERENCIA IV: MARTES 17 DE OCTUBRE\nLa metaficción de “Si una noche de invierno un viajero” (1979)\nExpone: María José Navia\, escritora y profesora. Doctora en Literatura y Estudios Culturales por la\nU. de Georgetown. Profesora de Literatura en la Facultad de Letras de la PUC. \nCONFERENCIA V: MARTES 24 DE OCTUBRE\n“El Barón Rampante” (1957) otras precisiones\nExpone: Adriana Valdés\, ensayista. Miembro de número de la Academia Chilena de la Lengua. \nCONFERENCIA VI: MARTES 31 DE OCTUBRE\n“Las Ciudades Invisibles” (1972)\, interpretación y lectura\nExpone: Fernando Pérez O. Arquitecto\, académico e investigador. Premio Nacional de Arquitectura\n2022. \n 
URL:https://finis.cl/agenda/catedra-siglo-xxi-la-herencia-de-italo-calvino/
LOCATION:Providencia
CATEGORIES:Cátedra Siglo XXI,Extensión Cultural
END:VEVENT
BEGIN:VEVENT
DTSTART;TZID=America/Santiago:20230927T160000
DTEND;TZID=America/Santiago:20231025T235900
DTSTAMP:20260424T173354
CREATED:20250715T155034Z
LAST-MODIFIED:20250715T155034Z
UID:40164-1695830400-1698278340@finis.cl
SUMMARY:Taller de lectura: “Cuentos novedosos de todos los tiempos”
DESCRIPTION:En el marco de las actividades para la promoción de las humanidades\, Extensión Cultural de la Universidad Finis Terrae ha organizado este programa de 5 sesiones donde se analizarán cuentos y relatos cortos que se caracterizan por lo inesperado\, por las emociones que subyacen en los personajes y por mostrar el brillo y la decadencia de diversos momentos de la historia del siglo XX. \nDurante este taller se entregarán conceptos clave del contexto de los autores y herramientas para\nreflexionar en torno a las temáticas de cada texto. \nPROFESORA: \nMaría Trinidad Siles: Licenciada en Castellano de la Pontificia Universidad Católica de Chile (PUC); Diplomada en Didáctica de la Enseñanza de la Lengua y la Literatura de la U. Alberto Hurtado y en Geriatría Social en la PUC. Creadora del emprendimiento “Contra cuento y marea” donde desarrolla talleres de lectura y de memoria cultural en residencias y en las municipalidades de Las Condes y Providencia. \nPROGRAMA \nSesión I: El giro inesperado en los cuentos de Katherine Mansfield (1888-1923)\nCuentos seleccionados: “Una taza de té”\, “Millie” y “Fiesta en el jardín”.\nMiércoles 27 de septiembre \nSesión II: La literatura como redención en los cuentos de F. Scott Fitzgerald (1896 – 1940)\nCuentos seleccionados: “Regreso a Babilonia” y “Uno de mis más viejos amigos”.\nMiércoles 4 de octubre \nSesión III: Roald Dahl\, un escritor desconcertante (1916 – 1990)\nCuentos seleccionados: “Cordero asado”\, “La subida al cielo” y “El hombre del sur”.\nMiércoles 11 de octubre \nSesión IV: El peso del pasado en los relatos de Bernhard Schlink (1944)\nCuentos seleccionados: “Música fraternal”\, “El amuleto” y “Johan Sebastian en Rugen”\nMiércoles 18 de octubre \nSesión V: La tensión psicológica magistral de Stefan Zweig (1881-1942)\nRelato seleccionado: “¿Fue él?”\nMiércoles 25 de octubre \nVALOR: $30.000 (académicos y artistas; y egresados de U. Finis Terrae – 20% de descuento) \nINFORMACIONES E INSCRIPCIONES: extensioncultural@uft.cl\n*Taller online impartido a través de la plataforma ZOOM. \n* Incluye entrega de lecturas.
URL:https://finis.cl/agenda/taller-de-lectura-cuentos-novedosos-de-todos-los-tiempos/
LOCATION:Providencia
CATEGORIES:Extensión Cultural
END:VEVENT
BEGIN:VEVENT
DTSTART;TZID=America/Santiago:20231004T190000
DTEND;TZID=America/Santiago:20231004T235900
DTSTAMP:20260424T173354
CREATED:20250715T154959Z
LAST-MODIFIED:20250715T154959Z
UID:40132-1696446000-1696463940@finis.cl
SUMMARY:Conferencia “Somalia: A 30 años de la Batalla de Mogadiscio”
DESCRIPTION:Conocido por muchos a través de la película “Black Hawk Down” y el libro homónimo\, este episodio ocurrido en 1993 tuvo un profundo impacto en la presidencia de Bill Clinton y en este inestable país africano. \nEXPONE: \nAlberto Rojas\, director del Observatorio de Asuntos Internacionales\, de la Facultad de Humanidades y Comunicaciones de la U. Finis Terrae. \nINSCRIPCIONES: extensioncultural@uft.cl
URL:https://finis.cl/agenda/conferencia-somalia-a-30-anos-de-la-batalla-de-mogadiscio/
LOCATION:Providencia
CATEGORIES:Extensión Cultural
END:VEVENT
BEGIN:VEVENT
DTSTART;TZID=America/Santiago:20231007T100000
DTEND;TZID=America/Santiago:20231007T235900
DTSTAMP:20260424T173354
CREATED:20250715T155031Z
LAST-MODIFIED:20250715T155031Z
UID:40159-1696672800-1696723140@finis.cl
SUMMARY:V Taller internacional de dramaturgia: “Secretos para una dramaturgia del futuro”
DESCRIPTION:Este taller busca trabajar textos dramáticos a partir de una premisa: rearmar recuerdos\, imágenes y textos que parecen perderse u olvidarse. Reparar el texto como quien escudriña en los secretos que permiten mirar el futuro. Olvidos propios\, amnesias\, bloqueos\, lagunas\, textos borrados. Una suerte de taller patchwork para armar un nuevo todo a partir de fragmentos. Porque lo que hace un dramaturgo\, una dramaturga\, es hilvanar un puzzle dramático que frente a nuestros ojos y en la escena empieza a adquirir el sentido de un todo. Una obra que nace de otras obras. \nRelatores: \nMarco Antonio de la Parra:\nPsiquiatra\, escritor y dramaturgo. Director artístico del Teatro Finis Terrae\, director Cátedra Siglo XXI Universidad Finis Terrae; miembro honorario de la Sociedad Chilena de Psicoanálisis. Autor de más de 100 obras teatrales\, con 450 estrenos en Chile y en el mundo. En sus 40 años de trayectoria ha recibido múltiples distinciones por su contribución a las artes y la cultura. \nBenito Escobar Vila:\nLicenciado en Letras y Licenciado en Estética\, Pontificia Universidad Católica de Chile; Máster en Artes Escénicas\, Universidad Autónoma de Barcelona. Dramaturgo y guionista. Director de Ediciones Universidad Finis Terrae. Autor de premiadas obras\, entre ellas: Game over\, Pedazos rotos de algo y Ulises o no. \nFecha de inicio:\n7 de octubre\nSábados de 10:00 a 13:00 horas. \nEnvío de postulaciones:\nextensioncultural@uft.cl\nIndicar el nombre\, correo electrónico y teléfono del autor. \nModalidad:\nZoom \nRequisitos:\nLos postulantes deben enviar un breve CV (una página)\, más un fragmento de texto dramático en proceso (no más de 5 páginas) a extensioncultural@uft.cl hasta el viernes 29 de septiembre. \nCupo máximo:\n12 personas | 12 sesiones \nEl taller es gratuito.
URL:https://finis.cl/agenda/v-taller-internacional-de-dramaturgia-secretos-y-repuestos-para-una-dramaturgia-del-futuro/
LOCATION:Providencia
CATEGORIES:Extensión Cultural,Teatro Finis Terrae
END:VEVENT
BEGIN:VEVENT
DTSTART;TZID=America/Santiago:20231011T190000
DTEND;TZID=America/Santiago:20231011T235900
DTSTAMP:20260424T173354
CREATED:20250715T154952Z
LAST-MODIFIED:20260331T193651Z
UID:40120-1697050800-1697068740@finis.cl
SUMMARY:Conferencia: Los conflictos que dejó la desintegración de la Unión Soviética
DESCRIPTION:Continuando con el ciclo de actualidad internacional\, organizado por Extensión Cultural y el Observatorio de Asuntos Internacionales\, esta semana se desarrollará la conferencia online “Los conflictos que dejó la desintegración de la Unión Soviética”\, donde el profesor Alberto Rojas se referirá al impacto histórico y geopolítico de los casos de Abjasia\, Osetia del Sur y Trasnistria. \nInscripciones: extensioncultural@uft.cl
URL:https://finis.cl/agenda/conferencia-los-conflictos-que-dejo-la-desintegracion-de-la-union-sovietica/
LOCATION:Providencia
CATEGORIES:Ciclos,Extensión,Extensión Cultural
END:VEVENT
BEGIN:VEVENT
DTSTART;TZID=America/Santiago:20231017T190000
DTEND;TZID=America/Santiago:20231017T235900
DTSTAMP:20260424T173354
CREATED:20250715T154945Z
LAST-MODIFIED:20250715T154945Z
UID:40109-1697569200-1697587140@finis.cl
SUMMARY:Argentina: “Claves de las elecciones presidenciales”
DESCRIPTION:Este 22 de octubre\, los argentinos acudirán nuevamente a las urnas para elegir al sucesor de Alberto Fernández en la Casa Rosada. En esta conferencia que se realizará el martes 17 de octubre\, a las 19:00 horas\, se analizarán las propuestas de los candidatos\, que\, junto con el delicado momento económico\, jugarán un rol importante en la decisión final de los votantes. \nEXPONE: \nLuis Lira Camposano\, Magíster en Estudios Internacionales\, Universidad de Chile. Docente de la cátedra “Europa en el siglo XXI” y de cursos de Historia y Actualidad en la carrera de Periodismo en la Universidad Finis Terrae. \nInscripciones: extensioncultural@uft.cl
URL:https://finis.cl/agenda/argentina-claves-de-las-elecciones-presidenciales/
LOCATION:Providencia
CATEGORIES:Extensión Cultural
END:VEVENT
BEGIN:VEVENT
DTSTART;TZID=America/Santiago:20231023T150000
DTEND;TZID=America/Santiago:20231023T235900
DTSTAMP:20260424T173354
CREATED:20250715T154902Z
LAST-MODIFIED:20250715T154902Z
UID:40100-1698073200-1698105540@finis.cl
SUMMARY:Encuentros de arte y literatura en el Pabellón Cultural de los Juegos Panamericanos
DESCRIPTION:Esta semana comienza la programación de conversatorios que nuestra Universidad ofrecerá en el Pabellón Cultural\, emplazado en el Estadio Nacional\, en el marco de los Juegos Panamericanos Santiago 2023. \nEl lunes 23\, a las 15:00 horas\, se realizará el encuentro sobre “Cerámica\, prácticas tradicionales y contemporaneidad”\, con la participación de Elisa Silva\, Catalina Zarzar y Carolina Grof\, artistas y académicas de la Facultad de Artes U. Finis Terrae. \nEn tanto\, el miércoles 25 de octubre\, a las 16:00 horas\, el director del Taller Literario\, Pablo Simonetti expondré sobre el arte de la ficción y las principales tendencias de los escritores chilenos. \nA estas actividades pueden asistir presencialmente quienes tengan entradas para asistir a las competencias en los días respectivos. \nTambién serán transmitidas a través de la plataforma Zoom. En este caso\, para recibir el link de acceso hay que inscribirse en el correo extensioncultural@uft.cl
URL:https://finis.cl/agenda/encuentros-de-arte-y-literatura-en-el-pabellon-cultural-de-los-juegos-panamericanos/
LOCATION:Providencia
CATEGORIES:Extensión Cultural
END:VEVENT
BEGIN:VEVENT
DTSTART;TZID=America/Santiago:20231024T083000
DTEND;TZID=America/Santiago:20231024T235900
DTSTAMP:20260424T173354
CREATED:20250715T154951Z
LAST-MODIFIED:20250715T154951Z
UID:40119-1698136200-1698191940@finis.cl
SUMMARY:Cátedra Ampuero: “Del 50 aniversario al nuevo plebiscito: Chile entre el pasado y futuro”
DESCRIPTION:El martes 24 de octubre\, a las 8:30 horas\, en el Club 50 (Av. El Golf 50\, Las Condes)\, se realizará un nuevo desayuno de Cátedra Ampuero\, en que su director\, el escritor\, ex embajador y ex ministro Roberto Ampuero conversará con el analista político Sergio Muñoz Riveros sobre los distintos escenarios que se visualizan para el próximo Plebiscito Constitucional. \nInscripciones: egresados@uft.cl
URL:https://finis.cl/agenda/catedra-ampuero-con-sergio-munoz-riveros/
LOCATION:Providencia
CATEGORIES:Cátedra Ampuero,Extensión,Extensión Cultural
END:VEVENT
BEGIN:VEVENT
DTSTART;TZID=America/Santiago:20231024T190000
DTEND;TZID=America/Santiago:20231024T235900
DTSTAMP:20260424T173354
CREATED:20250715T154901Z
LAST-MODIFIED:20250715T154901Z
UID:40099-1698174000-1698191940@finis.cl
SUMMARY:Conferencia Rishi Sunak: los hitos de su primer año al mando de Reino Unido
DESCRIPTION:Tras superar la crisis política en el Parlamento británico\, la llegada de Sunak parecía traer un tiempo de calma al Partido Conservador. Pero dos guerras activas en el mundo y convencer al votante de cara a las próximas elecciones generales han demostrado lo contrario.  \nEXPONE: \n Luis Lira Camposano\, Magíster en Estudios Internacionales\, Universidad de Chile. Docente de la cátedra “Europa en el siglo XXI” y de cursos de Historia y Actualidad en la carrera de Periodismo en la Universidad Finis Terrae.
URL:https://finis.cl/agenda/conferencia-rishi-sunak-los-hitos-de-su-primer-ano-al-mando-de-reino-unido/
LOCATION:Providencia
CATEGORIES:Extensión Cultural
END:VEVENT
END:VCALENDAR