BEGIN:VCALENDAR
VERSION:2.0
PRODID:-//Universidad Finis Terrae - ECPv6.15.17.1//NONSGML v1.0//EN
CALSCALE:GREGORIAN
METHOD:PUBLISH
X-ORIGINAL-URL:https://finis.cl
X-WR-CALDESC:Eventos para Universidad Finis Terrae
REFRESH-INTERVAL;VALUE=DURATION:PT1H
X-Robots-Tag:noindex
X-PUBLISHED-TTL:PT1H
BEGIN:VTIMEZONE
TZID:America/Santiago
BEGIN:STANDARD
TZOFFSETFROM:-0300
TZOFFSETTO:-0400
TZNAME:-04
DTSTART:20250406T030000
END:STANDARD
BEGIN:DAYLIGHT
TZOFFSETFROM:-0400
TZOFFSETTO:-0300
TZNAME:-03
DTSTART:20250907T040000
END:DAYLIGHT
BEGIN:STANDARD
TZOFFSETFROM:-0300
TZOFFSETTO:-0400
TZNAME:-04
DTSTART:20260405T030000
END:STANDARD
BEGIN:DAYLIGHT
TZOFFSETFROM:-0400
TZOFFSETTO:-0300
TZNAME:-03
DTSTART:20260906T040000
END:DAYLIGHT
BEGIN:STANDARD
TZOFFSETFROM:-0300
TZOFFSETTO:-0400
TZNAME:-04
DTSTART:20270404T030000
END:STANDARD
BEGIN:DAYLIGHT
TZOFFSETFROM:-0400
TZOFFSETTO:-0300
TZNAME:-03
DTSTART:20270905T040000
END:DAYLIGHT
END:VTIMEZONE
BEGIN:VEVENT
DTSTART;TZID=America/Santiago:20260316T080000
DTEND;TZID=America/Santiago:20260626T170000
DTSTAMP:20260420T124246
CREATED:20260311T182211Z
LAST-MODIFIED:20260311T191711Z
UID:50266-1773648000-1782493200@finis.cl
SUMMARY:Talleres Psicoeducativos
DESCRIPTION:Te invitamos a participar en nuestros talleres diseñados para que puedas organizarte mejor y explorar nuevas técnicas de estudio. Además\, podrás conocer todos los apoyos académicos a los que puedes acceder durante tu etapa universitaria \nInscripción ACÁ \nFechas: \nInicio: lunes 16 de marzo – término: 26 de junio \nLugar: \nOficina Trayectoria Estudiantil\, edificio Amberes Sur\, piso -1\, al costado de la escalera
URL:https://finis.cl/agenda/talleres-psicoeducativos/
LOCATION:Universidad Finis Terrae
CATEGORIES:Asuntos Estudiantiles,Estudiantes,Trayectorias,Vida universitaria
ATTACH;FMTTYPE=image/webp:https://finis.cl/wp-content/uploads/2026/03/Agenda-web-_14_.webp
END:VEVENT
BEGIN:VEVENT
DTSTART;TZID=America/Santiago:20260323T080000
DTEND;TZID=America/Santiago:20260626T170000
DTSTAMP:20260420T124246
CREATED:20260318T200311Z
LAST-MODIFIED:20260318T200311Z
UID:50590-1774252800-1782493200@finis.cl
SUMMARY:Inicio de Tutorías Pares
DESCRIPTION:Mejora tus habilidades\, resuelve dudas y potencia tu rendimiento académico con apoyo entre pares\, en un espacio seguro\, cercano y colaborativo\, guiado por estudiantes de cursos superiores\, y enfocado en fortalecer tu aprendizaje en ramos críticos de las facultades de Ingeniería y Economía y Negocios. \nINSCRIPCIONES ACÁ 
URL:https://finis.cl/agenda/inicio-de-tutorias-pares/
LOCATION:Universidad Finis Terrae
CATEGORIES:Estudiantes,Trayectorias
ATTACH;FMTTYPE=image/webp:https://finis.cl/wp-content/uploads/2026/03/Tutorias-Pares.webp
END:VEVENT
BEGIN:VEVENT
DTSTART;TZID=America/Santiago:20260409T190000
DTEND;TZID=America/Santiago:20260425T200000
DTSTAMP:20260420T124246
CREATED:20260319T130634Z
LAST-MODIFIED:20260331T193612Z
UID:50617-1775761200-1777147200@finis.cl
SUMMARY:Ciclo escena emergente
DESCRIPTION:¡El futuro de la escena se toma el escenario durante abril! Sé parte del Ciclo Escena Emergente\, una vitrina dedicada a la exhibición de proyectos teatrales gestados íntegramente por estudiantes de nuestra Escuela de Teatro. \nEste ciclo surge como una plataforma de proyección artística y profesional\, en la cual la autoría e investigación escénica convergen para dar voz a quienes definirán el futuro de nuestras tablas. Acompáñenos a descubrir y fortalecer el potencial de estas nuevas generaciones. \n\nPROGRAMACIÓN CICLO ESCENA EMERGENTE\n\nOBRA: YO LA RECUERDO AHORA\nDías: jueves 9 y viernes 10 de abril\nHorario: 19:00 hrs\nLugar: Sala Jorge Díaz\nEscuela de Teatro\, piso -1\, Edificio Amberes Norte \nOBRA: LICEO DE NIÑAS\nDías: jueves 16\, viernes 17 y sábado 18 de abril\nHorario: 19:00 hrs\nLugar: Sala Jorge Díaz\nEscuela de Teatro\, piso -1\, Edificio Amberes Norte \nOBRA: DO6MA\nDías: jueves 23\, viernes 24 y sábado 25 de abril\nHorario: 19:00 hrs\nLugar: Sala Jorge Díaz\nEscuela de Teatro\, piso -1\, Edificio Amberes Norte
URL:https://finis.cl/agenda/ciclo-escena-emergente/
LOCATION:Sala Jorge Díaz
CATEGORIES:Actuación,Ciclos,Escuela de Teatro,Estudiantes,Facultad de Artes
ATTACH;FMTTYPE=image/webp:https://finis.cl/wp-content/uploads/2026/03/Agenda-web-_23_.webp
END:VEVENT
BEGIN:VEVENT
DTSTART;TZID=America/Santiago:20260410T160000
DTEND;TZID=America/Santiago:20260410T170000
DTSTAMP:20260420T124247
CREATED:20260323T181915Z
LAST-MODIFIED:20260323T181915Z
UID:50727-1775836800-1775840400@finis.cl
SUMMARY:Seminario NIDO. Nuevos Imaginarios de la Domesticidad. “El enemigo interno: Cripto-judaísmo\, Inquisición y denuncias al interior del espacio doméstico (siglos XVI- XVII)”
DESCRIPTION:Para las prácticas clandestinas del cripto-judaísmo\, el ámbito de la intimidad familiar representaba un espacio seguro en el cual desplegar una identidad que se encontraba amenazada de muerte por el Santo Oficio de la Inquisición. Mucho tiempo antes de que se iniciaran las campañas de supresión del judaísmo ibérico\, la intimidad doméstica resultaba un lugar privilegiado para el desarrollo de una religiosidad cotidiana de carácter privado y familiar\, que debía ir de la mano del ejercicio litúrgico comunal en la Sinagoga. Al convertirse las prácticas judaizantes en el foco de la persecución inquisitorial\, con el debut de la edad moderna\, los parientes\, allegados\, criados y esclavos que compartían una intimidad cotidiana devinieron todos en potenciales espías y denunciantes. \nEn este contexto nació el llamado malsín (traidor\, espía\, murmurador)\, un término derivado del hebreo\, que sirvió para designar a quienes quebrantaron el pacto de protección doméstica. En esta sesión se expondrán estudios de caso de denuncias en el seno de familias afincadas en el norte de Portugal y el reino de Galicia durante la primera mitad del siglo XVI e inicios del siglo XVII\, con miras a responder la pregunta: ¿Qué sucede cuando el “nido” doméstico se convierte en un espacio inseguro?. \nEXPONE: \nIgnacio Chuecas\, Doctor en Historia y Doctor en Exégesis Profesor titular Escuela de Historia U. Finis Terrae \nORGANIZAN: \n\nEscuela de Literatura U. Finis Terrae\nDoctorado Interdisciplinario en Humanidades\nFondecyt Regular N° N°1241063 “Imaginarios domésticos en la narrativa femenina contemporánea de herencia fantástica en Hispanoamérica”
URL:https://finis.cl/agenda/seminario-nido-nuevos-imaginarios-de-la-domesticidad-el-enemigo-interno-cripto-judaismo-inquisicion-y-denuncias-al-interior-del-espacio-domestico-siglos-xvi-xvii/
LOCATION:Sala Pablo Baraona
CATEGORIES:Comunidad Finis Terrae,Estudiantes,Facultad de Humanidades y Comunicaciones,Literatura
ATTACH;FMTTYPE=image/jpeg:https://finis.cl/wp-content/uploads/2026/03/Agenda-web-25.jpg
END:VEVENT
END:VCALENDAR