BEGIN:VCALENDAR
VERSION:2.0
PRODID:-//Universidad Finis Terrae - ECPv6.15.17.1//NONSGML v1.0//EN
CALSCALE:GREGORIAN
METHOD:PUBLISH
X-ORIGINAL-URL:https://finis.cl
X-WR-CALDESC:Eventos para Universidad Finis Terrae
REFRESH-INTERVAL;VALUE=DURATION:PT1H
X-Robots-Tag:noindex
X-PUBLISHED-TTL:PT1H
BEGIN:VTIMEZONE
TZID:America/Santiago
BEGIN:STANDARD
TZOFFSETFROM:-0300
TZOFFSETTO:-0400
TZNAME:-04
DTSTART:20250406T030000
END:STANDARD
BEGIN:DAYLIGHT
TZOFFSETFROM:-0400
TZOFFSETTO:-0300
TZNAME:-03
DTSTART:20250907T040000
END:DAYLIGHT
BEGIN:STANDARD
TZOFFSETFROM:-0300
TZOFFSETTO:-0400
TZNAME:-04
DTSTART:20260405T030000
END:STANDARD
BEGIN:DAYLIGHT
TZOFFSETFROM:-0400
TZOFFSETTO:-0300
TZNAME:-03
DTSTART:20260906T040000
END:DAYLIGHT
BEGIN:STANDARD
TZOFFSETFROM:-0300
TZOFFSETTO:-0400
TZNAME:-04
DTSTART:20270404T030000
END:STANDARD
BEGIN:DAYLIGHT
TZOFFSETFROM:-0400
TZOFFSETTO:-0300
TZNAME:-03
DTSTART:20270905T040000
END:DAYLIGHT
END:VTIMEZONE
BEGIN:VEVENT
DTSTART;TZID=America/Santiago:20260316T080000
DTEND;TZID=America/Santiago:20260626T170000
DTSTAMP:20260420T124145
CREATED:20260311T182211Z
LAST-MODIFIED:20260311T191711Z
UID:50266-1773648000-1782493200@finis.cl
SUMMARY:Talleres Psicoeducativos
DESCRIPTION:Te invitamos a participar en nuestros talleres diseñados para que puedas organizarte mejor y explorar nuevas técnicas de estudio. Además\, podrás conocer todos los apoyos académicos a los que puedes acceder durante tu etapa universitaria \nInscripción ACÁ \nFechas: \nInicio: lunes 16 de marzo – término: 26 de junio \nLugar: \nOficina Trayectoria Estudiantil\, edificio Amberes Sur\, piso -1\, al costado de la escalera
URL:https://finis.cl/agenda/talleres-psicoeducativos/
LOCATION:Universidad Finis Terrae
CATEGORIES:Asuntos Estudiantiles,Estudiantes,Trayectorias,Vida universitaria
ATTACH;FMTTYPE=image/webp:https://finis.cl/wp-content/uploads/2026/03/Agenda-web-_14_.webp
END:VEVENT
BEGIN:VEVENT
DTSTART;TZID=America/Santiago:20260323T080000
DTEND;TZID=America/Santiago:20260626T170000
DTSTAMP:20260420T124145
CREATED:20260318T200311Z
LAST-MODIFIED:20260318T200311Z
UID:50590-1774252800-1782493200@finis.cl
SUMMARY:Inicio de Tutorías Pares
DESCRIPTION:Mejora tus habilidades\, resuelve dudas y potencia tu rendimiento académico con apoyo entre pares\, en un espacio seguro\, cercano y colaborativo\, guiado por estudiantes de cursos superiores\, y enfocado en fortalecer tu aprendizaje en ramos críticos de las facultades de Ingeniería y Economía y Negocios. \nINSCRIPCIONES ACÁ 
URL:https://finis.cl/agenda/inicio-de-tutorias-pares/
LOCATION:Universidad Finis Terrae
CATEGORIES:Estudiantes,Trayectorias
ATTACH;FMTTYPE=image/webp:https://finis.cl/wp-content/uploads/2026/03/Tutorias-Pares.webp
END:VEVENT
BEGIN:VEVENT
DTSTART;TZID=America/Santiago:20260331T080000
DTEND;TZID=America/Santiago:20260331T170000
DTSTAMP:20260420T124145
CREATED:20260311T160458Z
LAST-MODIFIED:20260311T160458Z
UID:50254-1774944000-1774976400@finis.cl
SUMMARY:QUEST Estudiantes
DESCRIPTION:A veces vivimos corriendo\, pero hay preguntas que valen la pena detenerse a pensar. QUEST es un espacio para conversar sobre las grandes preguntas de la vida: sentido\, felicidad\, propósito\, decisiones\, fe\, futuro. Sin respuestas prefabricadas. Un espacio abierto para pensar\, escuchar y compartir. \n¿Te animas a venir? \nInscripciones ACÁ \nFecha: Inicios de abril\nPlazo: 31 de marzo
URL:https://finis.cl/agenda/quest-estudiantes/
LOCATION:Universidad Finis Terrae
CATEGORIES:Estudiantes,Pastoral,Vicerrectoría Formación Integral
ATTACH;FMTTYPE=image/webp:https://finis.cl/wp-content/uploads/2026/03/Agenda-Portadas-4.webp
END:VEVENT
BEGIN:VEVENT
DTSTART;TZID=America/Santiago:20260331T080000
DTEND;TZID=America/Santiago:20260331T170000
DTSTAMP:20260420T124145
CREATED:20260311T160956Z
LAST-MODIFIED:20260311T160956Z
UID:50257-1774944000-1774976400@finis.cl
SUMMARY:Coro Pastoral
DESCRIPTION:¿Te gusta cantar o tocar un instrumento?\nEstudiantes\, queremos invitarte a formar parte de algo muy especial: nuestro coro pastoral. \nLa música tiene un don único: tocar el corazón\, unirnos como comunidad y ayudarnos a encontrarnos con Dios. Por eso\, queremos formar un grupo de estudiantes y miembros de la comunidad que quieran poner sus talentos al servicio de otros a través de la música. \n\nEstamos buscando especialmente:\nVoces\nGuitarras\nCajón peruano\nOtros instrumentos\n\nSi sientes que la música también puede ser una forma de orar\, servir y construir comunidad\, te invitamos a sumarte. \nA veces una canción puede abrir el corazón de alguien más de lo que imaginamos. \nInscripciones ACÁ \nFecha: Inicios de abril\nPlazo: 31 de marzo
URL:https://finis.cl/agenda/coro-pastoral/
LOCATION:Universidad Finis Terrae
CATEGORIES:Estudiantes,Pastoral,Vicerrectoría Formación Integral,Vida universitaria
ATTACH;FMTTYPE=image/jpeg:https://finis.cl/wp-content/uploads/2026/03/Agenda-Portadas-5.jpg
END:VEVENT
BEGIN:VEVENT
DTSTART;TZID=America/Santiago:20260331T090000
DTEND;TZID=America/Santiago:20260331T130000
DTSTAMP:20260420T124145
CREATED:20260318T152918Z
LAST-MODIFIED:20260331T205620Z
UID:50524-1774947600-1774962000@finis.cl
SUMMARY:Seminario internacional "Un mundo en transición: Reconfiguraciones del orden mundial"
DESCRIPTION:Académicos griegos y chilenos se reunirán para analizar las transformaciones del poder global en un escenario internacional en constante cambio. El encuentro\, organizado por el Observatorio de Asuntos Internacionales de la Escuela de Periodismo y Comunicación junto a la Embajada de la República de Grecia en Chile\, dará inicio a su ciclo anual de actividades académicas e incluirá tres mesas de discusión centradas en los principales desafíos geopolíticos contemporáneos y las nuevas configuraciones del sistema internacional. \nPROGRAMA: \n09:00 – 09:15 hrs. | Bienvenida e inauguración\nPalabras de Juan Eduardo Vargas\, rector de la Universidad Finis Terrae.\nPalabras de Nikolaos Piperigos\, Embajador de la República de Grecia en Chile. \n09:15 – 10:20 hrs. | Mesa 1: “La reconfiguración del poder en el sistema internacional”. \nExpositores: \n\nDr. Athanassios G. Platias\, profesor de Estrategia y director de estudios de posgrado en el Departamento de Estudios Internacionales y Europeos de la Universidad del Pireo (online desde Grecia).\nDr. (C) Luis Lira\, académico e investigador de la Escuela de Periodismo y Comunicación.\n\nModeradora: \n\nDra. Vanessa Cárdenas\, académica e investigadora de la Escuela de Periodismo y Comunicación.\n\n10:20 a 10:40 hrs. Café. \n10:40 – 11:40 hrs. | Mesa 2: “La trampa de Tucídides: el choque entre China y Estados Unidos.” \nExpositores: \n\nDr. Athanassios G. Platias\, profesor de Estrategia y director de estudios de posgrado en el Departamento de Estudios Internacionales y Europeos de la Universidad del Pireo (online desde Grecia).\nTeniente Coronel Julio Figueroa Núñez\, Oficial de Estado Mayor y Secretario de Estudios en Escuela de Artillería del Ejército de Chile.\n\nModerador: \n\nDr. (C) Luis Lira\, académico e investigador del Observatorio de Asuntos Internacionales y de la Escuela de Periodismo y Comunicación\, Universidad Finis Terrae.\n\n11:40 – 12:40 hrs. | Mesa 3: “Poder naval y política exterior: la geopolítica de Grecia y Chile”. \nExpositores: \n\nDr. Ioannis E. Kotoulas\, profesor adjunto de Geopolítica en la Universidad de Atenas.\nCapitán de Fragata Francisco Macchiavelo\, Magíster en Ciencias Navales y Marítimas de la Academia de Guerra Naval de la Armada de Chile.\n\nModerador: \n\nProf. Alberto Rojas\, director del Observatorio de Asuntos Internacionales\, Universidad Finis Terrae.\n\n12:40 – 13:00 hrs. | Cierre
URL:https://finis.cl/agenda/seminario-internacional-un-mundo-transicion/
LOCATION:Auditorio Gonzalo Vial Correa C101
CATEGORIES:Ciclos,Comunidad Finis Terrae,Estudiantes,Facultad de Humanidades y Comunicaciones,Observatorio de Asuntos Internacionales,U. Finis Terrae,Universidad,Vicerrectoría de Vinculación,Vicerrectoría Vinculación con el Medio
ATTACH;FMTTYPE=image/webp:https://finis.cl/wp-content/uploads/2026/03/Agenda-web-_20_.webp
END:VEVENT
BEGIN:VEVENT
DTSTART;TZID=America/Santiago:20260331T100000
DTEND;TZID=America/Santiago:20260331T110000
DTSTAMP:20260420T124145
CREATED:20260311T193835Z
LAST-MODIFIED:20260311T193855Z
UID:50282-1774951200-1774954800@finis.cl
SUMMARY:Conversatorio “En clave femenina: creación\, investigación e innovación”
DESCRIPTION:En el marco de la conmemoración del Mes de la Mujer\, este conversatorio reunirá tres miradas provenientes de la creación artística\, la investigación histórica y la innovación para reflexionar sobre las distintas formas de comprender y producir saber en la sociedad contemporánea. \nA partir de las trayectorias de las invitadas\, la conversación abordará cómo la experiencia\, la práctica profesional y los contextos desde los que cada una trabaja influyen en la manera de interpretar la realidad y abrir nuevas perspectivas de reflexión. \n\nEXPONEN:\n\nDaniela Catrileo: Escritora y poeta mapuche. En 2019 y en 2024 recibió el Premio Municipal de Literatura de Santiago por su libro “Guerra florida” y la novela “Chilco”\, respectivamente. Es profesora de filosofía y en 2022 fue la primera mujer mapuche en integrar el Consejo Nacional de Televisión. ​ \nVerónica Undurraga: Historiadora y académica del Instituto de Historia de la Pontificia Universidad Católica de Chile\, especialista en historia cultural\, historia de las emociones e historia de género en el Chile colonial y republicano temprano. \nÁngela Arenas: Abogada\, doctora en Bioética y académica de la Universidad Finis Terrae. Dirige el Laboratorio de Investigación Avanzada en Ciencias de Datos en Derecho\, donde investiga la relación entre derecho\, tecnología e innovación.
URL:https://finis.cl/agenda/conversatorio-en-clave-femenina-creacion-investigacion-e-innovacion/
LOCATION:Sala Cowork
CATEGORIES:Creación artística,Estudiantes,U. Finis Terrae,Vicerrectoría Investigación
ATTACH;FMTTYPE=image/webp:https://finis.cl/wp-content/uploads/2026/03/Agenda-web-_16_.webp
END:VEVENT
BEGIN:VEVENT
DTSTART;TZID=America/Santiago:20260331T123000
DTEND;TZID=America/Santiago:20260331T133000
DTSTAMP:20260420T124145
CREATED:20260320T175852Z
LAST-MODIFIED:20260320T175852Z
UID:50695-1774960200-1774963800@finis.cl
SUMMARY:Martes Santo: Charla y reflexión\, vive el misterio que perdura
DESCRIPTION:Te invitamos a adentrarte en uno de los misterios más impactantes de la historia: ¿quién es el hombre de la Sábana Santa? Comenzaremos con una visita guiada\, donde podrás conocer y contemplar en profundidad esta imagen que ha conmovido a millones de personas a lo largo del tiempo. \nLuego\, tendremos un espacio de reflexión en torno a la Pasión de Cristo\, a partir de lo vivido durante la visita\, que nos ayudará a disponernos y prepararnos para lo que está por venir. \n 
URL:https://finis.cl/agenda/martes-santo-charla-y-reflexion-vive-el-misterio-que-perdura/
LOCATION:Universidad Finis Terrae
CATEGORIES:Comunidad Finis Terrae,Estudiantes,Pastoral,Vicerrectoría Formación Integral
ATTACH;FMTTYPE=image/webp:https://finis.cl/wp-content/uploads/2026/03/Agenda-Portadas-9_11zon.webp
END:VEVENT
END:VCALENDAR