BEGIN:VCALENDAR
VERSION:2.0
PRODID:-//Universidad Finis Terrae - ECPv6.15.17.1//NONSGML v1.0//EN
CALSCALE:GREGORIAN
METHOD:PUBLISH
X-WR-CALNAME:Universidad Finis Terrae
X-ORIGINAL-URL:https://finis.cl
X-WR-CALDESC:Eventos para Universidad Finis Terrae
REFRESH-INTERVAL;VALUE=DURATION:PT1H
X-Robots-Tag:noindex
X-PUBLISHED-TTL:PT1H
BEGIN:VTIMEZONE
TZID:America/Santiago
BEGIN:STANDARD
TZOFFSETFROM:-0300
TZOFFSETTO:-0400
TZNAME:-04
DTSTART:20240407T030000
END:STANDARD
BEGIN:DAYLIGHT
TZOFFSETFROM:-0400
TZOFFSETTO:-0300
TZNAME:-03
DTSTART:20240908T040000
END:DAYLIGHT
BEGIN:STANDARD
TZOFFSETFROM:-0300
TZOFFSETTO:-0400
TZNAME:-04
DTSTART:20250406T030000
END:STANDARD
BEGIN:DAYLIGHT
TZOFFSETFROM:-0400
TZOFFSETTO:-0300
TZNAME:-03
DTSTART:20250907T040000
END:DAYLIGHT
BEGIN:STANDARD
TZOFFSETFROM:-0300
TZOFFSETTO:-0400
TZNAME:-04
DTSTART:20260405T030000
END:STANDARD
BEGIN:DAYLIGHT
TZOFFSETFROM:-0400
TZOFFSETTO:-0300
TZNAME:-03
DTSTART:20260906T040000
END:DAYLIGHT
END:VTIMEZONE
BEGIN:VEVENT
DTSTART;TZID=America/Santiago:20251119T190000
DTEND;TZID=America/Santiago:20251210T201500
DTSTAMP:20260420T205247
CREATED:20251022T183302Z
LAST-MODIFIED:20251103T184708Z
UID:45119-1763578800-1765397700@finis.cl
SUMMARY:Curso: Ciudades que han hecho historia
DESCRIPTION:A lo largo de la historia\, las ciudades han sido un reflejo de su tiempo y de su propia identidad. Este curso de cuatro sesiones explora cuatro épocas históricas a través del estudio de ciudades emblemáticas\, revelando cómo estos lugares han sido protagonistas y testigos del ingenio\, de los conflictos y de las aspiraciones humanas en un viaje por el tiempo y por el mundo. \nA través de este enfoque\, los participantes descubrirán el contexto histórico que dio forma a Alejandría\, Granada\, Florencia y París y\, cómo a su vez\, estas metrópolis influyeron en el progreso de sus sociedades. \nIMPARTE \nMagdalena Dittborn Callejas\, Licenciada en Historia con mención en Gestión Cultural de la Universidad Finis Terrae. Diplomada en Historia\, Ideas y Sociedad por la Universidad de Desarrollo y Magíster en Artes Liberales de la Universidad Adolfo Ibáñez. Directora del Centro Internacional para la Conservación del Patrimonio (CICOP Chile). \n\nFECHAS: 19 y 26 de noviembre\, 03 y 10 de diciembre de 2025\nHORARIO DE CLASES: De 19:00 a 20:15 horas\nMÁS INFORMACIÓN ACÁ\nINSCRIPCIONES: extensioncultural@uft.cl\n\nEl curso tiene un valor de $35.000 que lo cobra y gestiona en su totalidad la Universidad Finis Terrae. Académicos y egresados de la U. Finis Terrae tienen el 20% de descuento.
URL:https://finis.cl/agenda/curso-ciudades-que-han-hecho-historia/
LOCATION:Online
CATEGORIES:Estudiantes,Extensión Cultural,Extensión y Comunicaciones,Universidad
ATTACH;FMTTYPE=image/jpeg:https://finis.cl/wp-content/uploads/2025/10/Agenda-web-2025-10-22T152050.917.jpg
END:VEVENT
BEGIN:VEVENT
DTSTART;TZID=America/Santiago:20251204T103000
DTEND;TZID=America/Santiago:20251204T113000
DTSTAMP:20260420T205247
CREATED:20251120T155114Z
LAST-MODIFIED:20251204T163035Z
UID:46589-1764844200-1764847800@finis.cl
SUMMARY:Seminario Interdisciplinario en Historia de la Religión
DESCRIPTION:El Seminario Interdisciplinario en Historia de la Religión de la Escuela de Historia de la Universidad Finis Terrae\, invita a su tercera sesión del año\, instancia de encuentro y reflexión académica dedicada al estudio de las múltiples dimensiones históricas\, sociales y culturales de la religión. \nEXPONEN:\n“Prácticas ceremoniales mapuche en contexto urbano. Modalidades de interacción y experiencia en acto”. Argelia Villegas: Doctora de la Université Clermont Auvergne. Investigadora posdoctoral del Centro de Estudios Interculturales e Indígenas CIIR-UC. \n“El arte de la memoria; mitos\, silencios y narraciones en los conflictos de fundación de una comunidad religiosa a mediados del siglo XX en Chile”. P. Enrique Grez\, teólogo y antropólogo\, Doctor en Ciencias Sociales por la Pontificia Universidad Gregoriana de Roma. Investigador Posdoctoral Fondecyt n° 3250152en la Universidad Finis Terrae. \nInformaciones de “limpieza de sangre” en los edictos para recibir órdenes sacras en las Iglesias de la América española (siglo XVII). Macarena Sánchez\, Doctora en Historia por la Universidad Católica de Chile y Magíster en Estudios Amerindios por la Universidad Complutense de Madrid. Co-investigadora proyecto Fodecyt Anid n° 1241967. \nLa divinidad femenina como condición del poder sagrado. Pedro Mege: Licenciado en Antropología Social y Doctor en Estudios Latinoamericanos\, Universidad de Chile\, director del Centro Interdisciplinario de Estudios Interculturales e Indígenas (CIIR). \nInscripciones: sihr@uft.cl
URL:https://finis.cl/agenda/seminario-interdisciplinario-en-historia-de-la-religion-2/
LOCATION:Sala Pablo Baraona
CATEGORIES:Estudiantes,Facultad de Humanidades y Comunicaciones,Historia
ATTACH;FMTTYPE=image/jpeg:https://finis.cl/wp-content/uploads/2025/11/Agenda-web-2025-11-11T160922.783.jpg
END:VEVENT
BEGIN:VEVENT
DTSTART;TZID=America/Santiago:20251204T110000
DTEND;TZID=America/Santiago:20251204T120000
DTSTAMP:20260420T205247
CREATED:20251121T193436Z
LAST-MODIFIED:20251201T125040Z
UID:47236-1764846000-1764849600@finis.cl
SUMMARY:Seminario Internacional “Impacto del crimen organizado y el narcotráfico en la frontera norte de Chile: estrategias para la protección de los derechos humanos y la cooperación internacional”
DESCRIPTION:Expositores:\n\nVanessa Cárdenas\, investigadora del Observatorio de Asuntos Internacionales\, Universidad Finis Terrae.\nLuis Lira\, investigador del Observatorio de Asuntos Internacionales\, Universidad Finis Terrae. \n\nComentan:\n\nChiara Bologna\, Instituto Interregional de las Naciones Unidas para Investigaciones sobre la Delincuencia y la Justicia (UNICRI).\nLoreto Correa\, investigadora del Centro de Investigaciones y Estudios Estratégicos\, Profesora Titular de la Academia Nacional de Estudios Políticos y Estratégicos (ANEPE).\nJorge Sanz\, académico e investigador de la Facultad de Gobierno\, Universidad del Desarrollo. \n\nModera:\n\nPaz Crisóstomo\, Doctora en Investigación en Medios de Comunicación\, Magister en Comunicación Política y Periodista; y Coordinadora de la línea de Análisis e Investigación de la Escuela de Periodismo. \nProyecto financiado por el Ministerio de Relaciones Exteriores\, en el marco del concurso para el desarrollo de estudios de Política Exterior 2025.
URL:https://finis.cl/agenda/seminario-internacional-impacto-del-crimen-organizado-y-el-narcotrafico-en-la-frontera-norte-de-chile-estrategias-para-la-proteccion-de-los-derechos-humanos-y-la-cooperacion-internacional/
LOCATION:Auditorio B202
CATEGORIES:Estudiantes,Observatorio de Asuntos Internacionales,Vicerrectoría Vinculación con el Medio
ATTACH;FMTTYPE=image/jpeg:https://finis.cl/wp-content/uploads/2025/11/Agenda-web-2025-11-21T163134.522-1.jpg
END:VEVENT
END:VCALENDAR