BEGIN:VCALENDAR
VERSION:2.0
PRODID:-//Universidad Finis Terrae - ECPv6.15.17.1//NONSGML v1.0//EN
CALSCALE:GREGORIAN
METHOD:PUBLISH
X-ORIGINAL-URL:https://finis.cl
X-WR-CALDESC:Eventos para Universidad Finis Terrae
REFRESH-INTERVAL;VALUE=DURATION:PT1H
X-Robots-Tag:noindex
X-PUBLISHED-TTL:PT1H
BEGIN:VTIMEZONE
TZID:America/Santiago
BEGIN:STANDARD
TZOFFSETFROM:-0300
TZOFFSETTO:-0400
TZNAME:-04
DTSTART:20240407T030000
END:STANDARD
BEGIN:DAYLIGHT
TZOFFSETFROM:-0400
TZOFFSETTO:-0300
TZNAME:-03
DTSTART:20240908T040000
END:DAYLIGHT
BEGIN:STANDARD
TZOFFSETFROM:-0300
TZOFFSETTO:-0400
TZNAME:-04
DTSTART:20250406T030000
END:STANDARD
BEGIN:DAYLIGHT
TZOFFSETFROM:-0400
TZOFFSETTO:-0300
TZNAME:-03
DTSTART:20250907T040000
END:DAYLIGHT
BEGIN:STANDARD
TZOFFSETFROM:-0300
TZOFFSETTO:-0400
TZNAME:-04
DTSTART:20260405T030000
END:STANDARD
BEGIN:DAYLIGHT
TZOFFSETFROM:-0400
TZOFFSETTO:-0300
TZNAME:-03
DTSTART:20260906T040000
END:DAYLIGHT
END:VTIMEZONE
BEGIN:VEVENT
DTSTART;TZID=America/Santiago:20251119T190000
DTEND;TZID=America/Santiago:20251210T201500
DTSTAMP:20260420T190730
CREATED:20251022T183302Z
LAST-MODIFIED:20251103T184708Z
UID:45119-1763578800-1765397700@finis.cl
SUMMARY:Curso: Ciudades que han hecho historia
DESCRIPTION:A lo largo de la historia\, las ciudades han sido un reflejo de su tiempo y de su propia identidad. Este curso de cuatro sesiones explora cuatro épocas históricas a través del estudio de ciudades emblemáticas\, revelando cómo estos lugares han sido protagonistas y testigos del ingenio\, de los conflictos y de las aspiraciones humanas en un viaje por el tiempo y por el mundo. \nA través de este enfoque\, los participantes descubrirán el contexto histórico que dio forma a Alejandría\, Granada\, Florencia y París y\, cómo a su vez\, estas metrópolis influyeron en el progreso de sus sociedades. \nIMPARTE \nMagdalena Dittborn Callejas\, Licenciada en Historia con mención en Gestión Cultural de la Universidad Finis Terrae. Diplomada en Historia\, Ideas y Sociedad por la Universidad de Desarrollo y Magíster en Artes Liberales de la Universidad Adolfo Ibáñez. Directora del Centro Internacional para la Conservación del Patrimonio (CICOP Chile). \n\nFECHAS: 19 y 26 de noviembre\, 03 y 10 de diciembre de 2025\nHORARIO DE CLASES: De 19:00 a 20:15 horas\nMÁS INFORMACIÓN ACÁ\nINSCRIPCIONES: extensioncultural@uft.cl\n\nEl curso tiene un valor de $35.000 que lo cobra y gestiona en su totalidad la Universidad Finis Terrae. Académicos y egresados de la U. Finis Terrae tienen el 20% de descuento.
URL:https://finis.cl/agenda/curso-ciudades-que-han-hecho-historia/
LOCATION:Online
CATEGORIES:Estudiantes,Extensión Cultural,Extensión y Comunicaciones,Universidad
ATTACH;FMTTYPE=image/jpeg:https://finis.cl/wp-content/uploads/2025/10/Agenda-web-2025-10-22T152050.917.jpg
END:VEVENT
BEGIN:VEVENT
DTSTART;TZID=America/Santiago:20251201T080000
DTEND;TZID=America/Santiago:20251203T170000
DTSTAMP:20260420T190730
CREATED:20251120T155749Z
LAST-MODIFIED:20251120T155749Z
UID:46592-1764576000-1764781200@finis.cl
SUMMARY:U. Finis Terrae es sede de la PAES: conoce las medidas de funcionamiento especial en Casa Central
DESCRIPTION: La Universidad\, a través de una solicitud del Departamento de Evaluación\, Medición y Registro Educacional (DEMRE) será sede para la aplicación de la Prueba de Acceso a la Educación Superior PAES\, que se realizará los días 1\, 2 y 3 de diciembre\, en horario extendido. \nEl espacio en el que se rendirá la PAES es el Edificio Amberes Sur (B)\, entre los pisos 1 y 7. No estará permitido el tránsito por estos pisos de ningún miembro de la comunidad\, excepto para el personal encargado de la aplicación de la prueba. Por este motivo\, durante estos días\, todas las actividades académicas y administrativas que se realizan en este edificio permanecerán suspendidas\, a excepción de la biblioteca\, la hemeroteca y el gimnasio\, a los cuales se podrá acceder mediante la conexión existente entre los Edificios A y B. \nAsimismo\, el tránsito entre la entrada principal de la Universidad y el acceso principal del Edificio B estará restringido\, lo que incluye la Casa Vial y los espacios comunes ubicados en ese tramo. Se tomarán todas las medidas necesarias para garantizar la separación adecuada de los espacios. \nEs de tal manera\, que se aplicarán las siguientes modificaciones: \n\nNo estará permitida la realización de cualquier evento en la Universidad que genere ruidos molestos durante la aplicación de la PAES. En consecuencia\, no podrá utilizarse el patio Amberes para actividades.\nEl ingreso a la Universidad se mantendrá en el acceso tradicional\, con torniquetes diferenciados para postulantes y para la comunidad universitaria.\nEl Gym Finis funcionará a partir de las 10:00 horas.\nEl Gimnasio de Kinesiología no funcionará.\nLa biblioteca funcionará con normalidad\, con acceso a través del piso -1.\nLa Santa Misa se celebrará de manera normal\, teniendo como único acceso a la capilla la entrada al costado de la pileta.\nEl confesionario no estará habilitado durante esos días.\nLas Unidades Centrales que tienen sus dependencias en el Edificio Amberes Sur ya han sido informadas de estas restricciones\, y determinarán su funcionamiento para esos días.\n\nEl resto de las actividades de nuestra Universidad\, incluyendo las académicas y de evaluación\, se realizarán de forma regular y según lo programado.
URL:https://finis.cl/agenda/u-finis-terrae-es-sede-de-la-paes-conoce-las-medidas-de-funcionamiento-especial-en-casa-central/
LOCATION:Edificio Amberes Sur
CATEGORIES:Admisión,Comunidad Finis Terrae,Estudiantes,Institucional,U. Finis Terrae,Universidad
ATTACH;FMTTYPE=image/jpeg:https://finis.cl/wp-content/uploads/2025/11/Agenda-web-2025-11-18T121640.391.jpg
END:VEVENT
BEGIN:VEVENT
DTSTART;TZID=America/Santiago:20251203T103000
DTEND;TZID=America/Santiago:20251203T133000
DTSTAMP:20260420T190730
CREATED:20251106T221222Z
LAST-MODIFIED:20251110T144132Z
UID:45751-1764757800-1764768600@finis.cl
SUMMARY:VIII Seminario de Archivos CIDOC “Preservación y resguardo de colecciones patrimoniales en archivos y bibliotecas”
DESCRIPTION:El Centro de Investigación y Documentación (CIDOC) de la Universidad Finis Terrae invita a la comunidad al VIII Seminario de Archivos: “Preservación y resguardo de colecciones patrimoniales en archivos y bibliotecas”. Este encuentro se consolida como una instancia disciplinaria para el análisis de estrategias de gestión\, conservación preventiva\, automatización y preservación documental. \nLas ponencias seleccionadas facilitarán una reflexión profunda sobre los desafíos contemporáneos del patrimonio y promoverán un diálogo constructivo para la formulación de prácticas sostenibles en archivos y bibliotecas. \nInscripciones: rvaldebenito@uft.cl \nPROGRAMA: \n10:30 – 10:40 h.: Palabras de bienvenida \n10:40 – 11:00 h.: “Propuesta metodológica para la gestión del archivo personal José Toribio Merino Castro”  \n\nExpone: Roxana Valdebenito Herrera (CIDOC-Universidad Finis Terrae- Santiago)\n\n11:00 – 11:20 h.: “Memoria local digital: el caso del archivo fotográfico y documental del Museo Histórico de Placilla y su puesta en valor a través de Omeka” \n\nExpone: Isabel Pérez (Museo Histórico de Placilla – Valparaíso)\n\n11:20 – 11:40 h.: “Rescate\, memoria y puesta en valor: prácticas y reflexiones de preservación del patrimonio documental eclesiástico en los casos del Cabildo de la Catedral de Santiago y la Parroquia de Sotaquí” \n\nExpone: Julián Castillo Valenzuela (Pontificia Universidad Católica de Chile – Santiago)\n\n11:40 – 12:00 h.: Espacio para preguntas \n12:00 – 12:10 h.: Pausa \n12.10 – 12:30 h.: “El Archivo Fotográfico del Instituto Salesiano de Valdivia: memoria visual y patrimonio educativo del sur de Chile” \n\nExpone: Fernando Rosa (Archivo Fotográfico\, Instituto Salesiano – Valdivia)\n\n12:30 – 12:50 h.: “Diálogos Australes: El Archivo de Historia Oral como Estrategia de Gestión\, Resguardo y Visibilización de Memorias Subalternas en la Patagonia Chilena.” \n\nExpone: Gastón Cárcamo Vargas (Diálogos Australes – Punta Arenas)\n\n12:50 – 13:10 h.: Revista Finis Terrae. \n\nExpone: Carolina Cerda (Biblioteca Universidad Finis Terrae -Santiago)\n\n13:10 – 13:30 h.: Espacio de preguntas \n13:30 h.: Cierre
URL:https://finis.cl/agenda/viii-seminario-de-archivos-cidoc-preservacion-y-resguardo-de-colecciones-patrimoniales-en-archivos-y-bibliotecas/
LOCATION:Online
CATEGORIES:Cidoc,Estudiantes,Facultad de Humanidades y Comunicaciones
ATTACH;FMTTYPE=image/jpeg:https://finis.cl/wp-content/uploads/2025/11/Agenda-web-2025-11-06T191132.241.jpg
END:VEVENT
END:VCALENDAR