BEGIN:VCALENDAR
VERSION:2.0
PRODID:-//Universidad Finis Terrae - ECPv6.15.17.1//NONSGML v1.0//EN
CALSCALE:GREGORIAN
METHOD:PUBLISH
X-WR-CALNAME:Universidad Finis Terrae
X-ORIGINAL-URL:https://finis.cl
X-WR-CALDESC:Eventos para Universidad Finis Terrae
REFRESH-INTERVAL;VALUE=DURATION:PT1H
X-Robots-Tag:noindex
X-PUBLISHED-TTL:PT1H
BEGIN:VTIMEZONE
TZID:America/Santiago
BEGIN:STANDARD
TZOFFSETFROM:-0300
TZOFFSETTO:-0400
TZNAME:-04
DTSTART:20240407T030000
END:STANDARD
BEGIN:DAYLIGHT
TZOFFSETFROM:-0400
TZOFFSETTO:-0300
TZNAME:-03
DTSTART:20240908T040000
END:DAYLIGHT
BEGIN:STANDARD
TZOFFSETFROM:-0300
TZOFFSETTO:-0400
TZNAME:-04
DTSTART:20250406T030000
END:STANDARD
BEGIN:DAYLIGHT
TZOFFSETFROM:-0400
TZOFFSETTO:-0300
TZNAME:-03
DTSTART:20250907T040000
END:DAYLIGHT
BEGIN:STANDARD
TZOFFSETFROM:-0300
TZOFFSETTO:-0400
TZNAME:-04
DTSTART:20260405T030000
END:STANDARD
BEGIN:DAYLIGHT
TZOFFSETFROM:-0400
TZOFFSETTO:-0300
TZNAME:-03
DTSTART:20260906T040000
END:DAYLIGHT
END:VTIMEZONE
BEGIN:VEVENT
DTSTART;TZID=America/Santiago:20251117T111000
DTEND;TZID=America/Santiago:20251117T123000
DTSTAMP:20260420T205247
CREATED:20251105T191316Z
LAST-MODIFIED:20251105T191316Z
UID:45696-1763377800-1763382600@finis.cl
SUMMARY:Lanzamiento del libro "Incendio Controlado Momentáneamente"\, de Marcelo Uribe
DESCRIPTION:Marcelo Uribe L´amour\, poeta\, diseñador y profesor\, magíster en prácticas artísticas contemporáneas y académico en la Escuela de Publicidad Finis Terrae publicará “Incendio controlado momentáneamente”\, poemario que recurre al lenguaje coloquial y al político\, reflexionando sobre el lenguaje y la comunicación humana en el contexto del estallido social chileno de 2019. \n\nEditorial: Editorial Cornerbook
URL:https://finis.cl/agenda/lanzamiento-del-libro-incendio-controlado-momentaneamente-de-marcelo-uribe/
LOCATION:Auditorio B202
CATEGORIES:Comunidad Finis Terrae,Estudiantes,Publicidad
ATTACH;FMTTYPE=image/png:https://finis.cl/wp-content/uploads/2025/11/AGENDA-7.png
END:VEVENT
END:VCALENDAR